Workbook

Sheet Výpočet max.výše podílu
A1: PROJEKT PODPORY INTENZIFIKACE TŘÍDĚNÉHO SBĚRU V ROCE 2027
A3: Kalkulačka pro výpočet maximální výše podílu na uznatelných nákladech | H3: Postup stanovení výše podílu na uznatelných nákladech dle článku E, PODMÍNKY VÝZVY K PODÁVÁNÍ NABÍDEK v roce 2027
A4: Vyplňujte pouze zelená pole. Ve žlutém poli se automaticky zobrazí výsledek. Celkový počet obyvatel se doplní po vyplnění tabulky „Seznam zapojených obcí“. | H4: "Maximální výše podílu vyhlašovatele se stanoví jako součet fixní částky 50 000 Kč a částky ve výši 2 Kč za každého obyvatele obce nebo obcí, jichž se Optimalizační studie týká, maximálně však 50 % celkové výše uznatelných nákladů na realizaci Optimalizační studie. Pokud je navrhovatel plátcem daně z přidané hodnoty (DPH), uhradí vyhlašovatel navrhovateli spolu s takto vypočtenou částkou i DPH v zákonné výši. Počet obyvatel obce se pro účely výpočtu maximální výše podílu na uznatelných nákladech určí podle Českým statistickým úřadem zveřejněného údaje o počtu obyvatel v obcích v České republice k 1. lednu kalendářního roku, který předchází kalendářnímu roku, v němž je podána nabídka. V případě Optimalizační studie týkající se více obcí se počet obyvatel určí jako součet počtu obyvatel jednotlivých obcí podle předchozí věty." Výše podílu vyhlašovatele se stanoví jako nižší z těchto částek: a) součet fixní částky 50 000 Kč a částky 2 Kč za každého obyvatele obce nebo obcí, kterých se studie týká, nebo b) 50 % celkových uznatelných nákladů na realizaci studie. DPH vztahující se k uznatelným nákladům studie je uznatelným nákladem, pokud navrhovatel není plátcem této daně. Navrhovatel = obec, obec zastupující skupinu obcí, svazek obcí, mikroregion, MAS Vyhlašovatel = EKO-KOM a.s.
A5: Celkový počet obyvatel | B5: Je navrhovatel plátcem DPH? | C5: Celkové náklady na realizaci Optimalizační studie bez DPH (Kč)** | E5: Sazba DPH účtovaná zpracovatelem studie (Není-li zpracovatel studie plátcem DPH, zadejte sazbu DPH 0 %.)
A7: =SUM(F20:F67) -> 0 | E7: 0.21
A8: Celkové uznatelné náklady na realizaci studie podle podmínek výzvy (Kč) | C8: =IF(OR(B7="",C7=""),"",IF(B7="ANO",C7,C7*(1+E7)))
A9: Součet fixní částky 50 000 Kč a částky 2 Kč za každého obyvatele obce nebo obcí (Kč) | C9: =IF(A7=0,"",50000+2*A7)
A10: 50 % celkových uznatelných nákladů (Kč) | C10: =IF(C8="","",0.5*C8)
A11: Maximální výše podílu vyhlašovatele* (Kč) | C11: =IF(OR(C9="",C10=""),"",MIN(C9,C10)) | H11: Poznámka: Plátce DPH fakturuje podíl s DPH a odpočet DPH ze souvisejících nákladů uplatní v rozsahu odpovídajícím využití studie pro ekonomickou činnost (nejedná se o dotaci). Společnost EKO-KOM neposkytuje daňové poradenství; za správné uplatnění DPH a nároku na odpočet odpovídá navrhovatel.
A12: * Částka, která se uvede v Nabídce na spolupráci při zajištění zpracování Optimalizační studie. Je-li navrhovatel plátcem DPH, je maximální výše podílu vyhlašovatele vypočtena bez DPH a při fakturaci se k ní připočte DPH v zákonné výši. Není-li navrhovatel plátcem DPH, je vypočtená částka konečnou částkou k fakturaci. ** Celkové náklady na realizaci Optimalizační studie se vždy zadávají bez DPH. Kalkulačka podle zvoleného statusu navrhovatele automaticky stanoví celkové uznatelné náklady. DPH je součástí uznatelných nákladů pouze v případě, že navrhovatel není plátcem DPH.
A17: Seznam zapojených obcí
A18: Do zeleného pole zadejte IČO obce včetně počátečních nul. Údaje o obci a počet obyvatel se doplní automaticky. Týká-li se studie více obcí, zadejte IČO další obce na nový řádek. U svazku obcí, mikroregionu nebo MAS zadejte jednotlivě všechny obce zahrnuté do studie. Každou obec zadejte pouze jednou. Duplicitně uvedené obce by byly do celkového počtu obyvatel započteny opakovaně. Počet obyvatel je převzat z Českého statistického úřadu a odpovídá stavu k 1. 1. 2026.
A19: Zadejte IČO obce | B19: Obec | E19: Evidenční číslo v systému EKO-KOM | F19: Počet obyvatel obce
B20: =IF('Výpočet max.výše podílu'!$A20="","",IFERROR(VLOOKUP($A20,seznam_obci!$A$6:$D$7000,2,FALSE),"neplatné IČO")) | E20: =IF('Výpočet max.výše podílu'!$A20="","",IFERROR(VLOOKUP($A20,seznam_obci!$A$6:$D$7000,3,FALSE),"neplatné IČO")) | F20: =IF('Výpočet max.výše podílu'!$A20="","",IFERROR(VLOOKUP($A20,seznam_obci!$A$6:$D$7000,4,FALSE),"neplatné IČO"))
B21: =IF('Výpočet max.výše podílu'!$A21="","",IFERROR(VLOOKUP($A21,seznam_obci!$A$6:$D$7000,2,FALSE),"neplatné IČO")) | E21: =IF('Výpočet max.výše podílu'!$A21="","",IFERROR(VLOOKUP($A21,seznam_obci!$A$6:$D$7000,3,FALSE),"neplatné IČO")) | F21: =IF('Výpočet max.výše podílu'!$A21="","",IFERROR(VLOOKUP($A21,seznam_obci!$A$6:$D$7000,4,FALSE),"neplatné IČO"))
B22: =IF('Výpočet max.výše podílu'!$A22="","",IFERROR(VLOOKUP($A22,seznam_obci!$A$6:$D$7000,2,FALSE),"neplatné IČO")) | E22: =IF('Výpočet max.výše podílu'!$A22="","",IFERROR(VLOOKUP($A22,seznam_obci!$A$6:$D$7000,3,FALSE),"neplatné IČO")) | F22: =IF('Výpočet max.výše podílu'!$A22="","",IFERROR(VLOOKUP($A22,seznam_obci!$A$6:$D$7000,4,FALSE),"neplatné IČO"))
B23: =IF('Výpočet max.výše podílu'!$A23="","",IFERROR(VLOOKUP($A23,seznam_obci!$A$6:$D$7000,2,FALSE),"neplatné IČO")) | E23: =IF('Výpočet max.výše podílu'!$A23="","",IFERROR(VLOOKUP($A23,seznam_obci!$A$6:$D$7000,3,FALSE),"neplatné IČO")) | F23: =IF('Výpočet max.výše podílu'!$A23="","",IFERROR(VLOOKUP($A23,seznam_obci!$A$6:$D$7000,4,FALSE),"neplatné IČO"))
B24: =IF('Výpočet max.výše podílu'!$A24="","",IFERROR(VLOOKUP($A24,seznam_obci!$A$6:$D$7000,2,FALSE),"neplatné IČO")) | E24: =IF('Výpočet max.výše podílu'!$A24="","",IFERROR(VLOOKUP($A24,seznam_obci!$A$6:$D$7000,3,FALSE),"neplatné IČO")) | F24: =IF('Výpočet max.výše podílu'!$A24="","",IFERROR(VLOOKUP($A24,seznam_obci!$A$6:$D$7000,4,FALSE),"neplatné IČO"))
B25: =IF('Výpočet max.výše podílu'!$A25="","",IFERROR(VLOOKUP($A25,seznam_obci!$A$6:$D$7000,2,FALSE),"neplatné IČO")) | E25: =IF('Výpočet max.výše podílu'!$A25="","",IFERROR(VLOOKUP($A25,seznam_obci!$A$6:$D$7000,3,FALSE),"neplatné IČO")) | F25: =IF('Výpočet max.výše podílu'!$A25="","",IFERROR(VLOOKUP($A25,seznam_obci!$A$6:$D$7000,4,FALSE),"neplatné IČO"))
B26: =IF('Výpočet max.výše podílu'!$A26="","",IFERROR(VLOOKUP($A26,seznam_obci!$A$6:$D$7000,2,FALSE),"neplatné IČO")) | E26: =IF('Výpočet max.výše podílu'!$A26="","",IFERROR(VLOOKUP($A26,seznam_obci!$A$6:$D$7000,3,FALSE),"neplatné IČO")) | F26: =IF('Výpočet max.výše podílu'!$A26="","",IFERROR(VLOOKUP($A26,seznam_obci!$A$6:$D$7000,4,FALSE),"neplatné IČO"))
B27: =IF('Výpočet max.výše podílu'!$A27="","",IFERROR(VLOOKUP($A27,seznam_obci!$A$6:$D$7000,2,FALSE),"neplatné IČO")) | E27: =IF('Výpočet max.výše podílu'!$A27="","",IFERROR(VLOOKUP($A27,seznam_obci!$A$6:$D$7000,3,FALSE),"neplatné IČO")) | F27: =IF('Výpočet max.výše podílu'!$A27="","",IFERROR(VLOOKUP($A27,seznam_obci!$A$6:$D$7000,4,FALSE),"neplatné IČO"))
B28: =IF('Výpočet max.výše podílu'!$A28="","",IFERROR(VLOOKUP($A28,seznam_obci!$A$6:$D$7000,2,FALSE),"neplatné IČO")) | E28: =IF('Výpočet max.výše podílu'!$A28="","",IFERROR(VLOOKUP($A28,seznam_obci!$A$6:$D$7000,3,FALSE),"neplatné IČO")) | F28: =IF('Výpočet max.výše podílu'!$A28="","",IFERROR(VLOOKUP($A28,seznam_obci!$A$6:$D$7000,4,FALSE),"neplatné IČO"))
B29: =IF('Výpočet max.výše podílu'!$A29="","",IFERROR(VLOOKUP($A29,seznam_obci!$A$6:$D$7000,2,FALSE),"neplatné IČO")) | E29: =IF('Výpočet max.výše podílu'!$A29="","",IFERROR(VLOOKUP($A29,seznam_obci!$A$6:$D$7000,3,FALSE),"neplatné IČO")) | F29: =IF('Výpočet max.výše podílu'!$A29="","",IFERROR(VLOOKUP($A29,seznam_obci!$A$6:$D$7000,4,FALSE),"neplatné IČO"))
B30: =IF('Výpočet max.výše podílu'!$A30="","",IFERROR(VLOOKUP($A30,seznam_obci!$A$6:$D$7000,2,FALSE),"neplatné IČO")) | E30: =IF('Výpočet max.výše podílu'!$A30="","",IFERROR(VLOOKUP($A30,seznam_obci!$A$6:$D$7000,3,FALSE),"neplatné IČO")) | F30: =IF('Výpočet max.výše podílu'!$A30="","",IFERROR(VLOOKUP($A30,seznam_obci!$A$6:$D$7000,4,FALSE),"neplatné IČO"))
B31: =IF('Výpočet max.výše podílu'!$A31="","",IFERROR(VLOOKUP($A31,seznam_obci!$A$6:$D$7000,2,FALSE),"neplatné IČO")) | E31: =IF('Výpočet max.výše podílu'!$A31="","",IFERROR(VLOOKUP($A31,seznam_obci!$A$6:$D$7000,3,FALSE),"neplatné IČO")) | F31: =IF('Výpočet max.výše podílu'!$A31="","",IFERROR(VLOOKUP($A31,seznam_obci!$A$6:$D$7000,4,FALSE),"neplatné IČO"))
... B67: =IF('Výpočet max.výše podílu'!$A67="","",IFERROR(VLOOKUP($A67,seznam_obci!$A$6:$D$7000,2,FALSE),"neplatné IČO")) | E67: =IF('Výpočet max.výše podílu'!$A67="","",IFERROR(VLOOKUP($A67,seznam_obci!$A$6:$D$7000,3,FALSE),"neplatné IČO")) | F67: =IF('Výpočet max.výše podílu'!$A67="","",IFERROR(VLOOKUP($A67,seznam_obci!$A$6:$D$7000,4,FALSE),"neplatné IČO"))

Sheet List1
A2: Výše příspěvku se stanoví jako nižší z těchto částek:
A4: a) součet fixní částky 50 000 Kč a částky 2 Kč za každého obyvatele obce nebo obcí, kterých se studie týká, nebo
A6: b) 50 % celkových uznatelných nákladů na realizaci studie.
A8: Maximální výši příspěvku lze vyjádřit vzorcem:
A10: P = min (50 000 + 2 × O; 0,5 × U),
A12: kde:
A14: P je maximální výše příspěvku (Kč),
A15: O je počet obyvatel obce nebo součet obyvatel obcí, kterých se studie týká,
A16: U jsou celkové uznatelné náklady na realizaci studie (Kč).

Sheet seznam_obci
B3: Rok - Čtvrtletí | C3: 2027
A5: IČO | B5: Obec | C5: Ev. číslo | D5: Počet obyvatel - registrovaný
A6: 60162694 | B6: Česká republika-vojeská správa vojenský újezd Libavá | C6: 30/0800 | D6: 0
A7: 00064581 | B7: Hlavní město Praha | C7: 60/0510 | D7: 1407084
A8: 00254398 | B8: Město Abertamy | C8: 10/0341 | D8: 817
A9: 00279889 | B9: Město Adamov | C9: 20/0878 | D9: 4564
A10: 00575976 | B10: Město Andělská Hora | C10: 30/0879 | D10: 355
A11: 00253901 | B11: Město Aš | C11: 10/0258 | D11: 12683
A12: 00237418 | B12: Město Bakov nad Jizerou | C12: 60/0549 | D12: 5355
A13: 00250945 | B13: Město Bavorov | C13: 40/0076 | D13: 1672
A14: 00254410 | B14: Město Bečov nad Teplou | C14: 10/0535 | D14: 911
A15: 00252069 | B15: Město Bechyně | C15: 40/0003 | D15: 4757
A16: 00253235 | B16: Město Bělá nad Radbuzou | C16: 10/0032 | D16: 1733
A17: 00237434 | B17: Město Bělá pod Bezdězem | C17: 60/0207 | D17: 4815
... A6263: 60162694 | B6263: Vojenský újezd Březina | C6263: 20/1258 | D6263: 0
B6264: Celkový součet | D6264: 10915839
