Workbook
Name J11B_HODNOTY: 'J1-1B'!$E$11:$T$35,'J1-1B'!$E$42:$T$50
Name J11B_HODNOTY: '[1]J1-1B'!$E$11:$T$35,'[1]J1-1B'!$E$42:$T$50
Name J11B_HODNOTY: 'J1-1B'!$E$11:$T$35,'J1-1B'!$E$42:$T$50
Name J11K_HODNOTY: 'J1-1K'!$E$10:$J$21
Name J11K_HODNOTY: '[1]J1-1K'!$E$10:$J$21
Name J11K_HODNOTY: 'J1-1K'!$E$10:$J$21
Name J11K_KOMPOZITY_CERVENE: 'J1-1K'!$E$10:$E$21
Name J11K_KOMPOZITY_CERVENE: '[1]J1-1K'!$E$10:$E$21
Name J11K_KOMPOZITY_CERVENE: 'J1-1K'!$E$10:$E$21
Name J11K_KOMPOZITY_MODRE: 'J1-1K'!$G$10:$G$21
Name J11K_KOMPOZITY_MODRE: '[1]J1-1K'!$G$10:$G$21
Name J11K_KOMPOZITY_MODRE: 'J1-1K'!$G$10:$G$21
Name J11K_KOMPOZITY_ORANZOVE: 'J1-1K'!$F$10:$F$21
Name J11K_KOMPOZITY_ORANZOVE: '[1]J1-1K'!$F$10:$F$21
Name J11K_KOMPOZITY_ORANZOVE: 'J1-1K'!$F$10:$F$21
Name J11K_KOMPOZITY_SEDE: 'J1-1K'!$J$10:$J$21
Name J11K_KOMPOZITY_SEDE: '[1]J1-1K'!$J$10:$J$21
Name J11K_KOMPOZITY_SEDE: 'J1-1K'!$J$10:$J$21
Name J11K_KOMPOZITY_ZELENE: 'J1-1K'!$I$10:$I$21
Name J11K_KOMPOZITY_ZELENE: '[1]J1-1K'!$I$10:$I$21
Name J11K_KOMPOZITY_ZELENE: 'J1-1K'!$I$10:$I$21
Name J11K_KOMPOZITY_ZLUTE: 'J1-1K'!$H$10:$H$21
Name J11K_KOMPOZITY_ZLUTE: '[1]J1-1K'!$H$10:$H$21
Name J11K_KOMPOZITY_ZLUTE: 'J1-1K'!$H$10:$H$21
Name J12A_HODNOTY: 'J1-2A'!$E$10:$P$34,'J1-2A'!$I$35:$P$36,'J1-2A'!$E$36,'J1-2A'!$F$36,'J1-2A'!$G$36,'J1-2A'!$H$36,'J1-2A'!$E$41:$L$52
Name J12A_HODNOTY: '[1]J1-2A'!$E$10:$P$34,'[1]J1-2A'!$I$35:$P$36,'[1]J1-2A'!$E$36,'[1]J1-2A'!$F$36,'[1]J1-2A'!$G$36,'[1]J1-2A'!$H$36,'[1]J1-2A'!$E$41:$L$52
Name J12A_HODNOTY: 'J1-2A'!$E$10:$P$34,'J1-2A'!$I$35:$P$36,'J1-2A'!$E$36,'J1-2A'!$F$36,'J1-2A'!$G$36,'J1-2A'!$H$36,'J1-2A'!$E$41:$L$52
Name J12B_HODNOTY: 'J1-2B'!$E$11:$T$35,'J1-2B'!$E$42:$T$50
Name J12B_HODNOTY: '[1]J1-2B'!$E$11:$T$35,'[1]J1-2B'!$E$42:$T$50
Name J12B_HODNOTY: 'J1-2B'!$E$11:$T$35,'J1-2B'!$E$42:$T$50
Name J12K_HODNOTY: 'J1-2K'!$E$10:$J$21
Name J12K_HODNOTY: '[1]J1-2K'!$E$10:$J$21
Name J12K_HODNOTY: 'J1-2K'!$E$10:$J$21
Name J12K_KOMPOZITY_CERVENE: 'J1-2K'!$E$10:$E$21
Name J12K_KOMPOZITY_CERVENE: '[1]J1-2K'!$E$10:$E$21
Name J12K_KOMPOZITY_CERVENE: 'J1-2K'!$E$10:$E$21
Name J12K_KOMPOZITY_MODRE: 'J1-2K'!$G$10:$G$21
Name J12K_KOMPOZITY_MODRE: '[1]J1-2K'!$G$10:$G$21
Name J12K_KOMPOZITY_MODRE: 'J1-2K'!$G$10:$G$21
Name J12K_KOMPOZITY_ORANZOVE: 'J1-2K'!$F$10:$F$21
Name J12K_KOMPOZITY_ORANZOVE: '[1]J1-2K'!$F$10:$F$21
Name J12K_KOMPOZITY_ORANZOVE: 'J1-2K'!$F$10:$F$21
Name J12K_KOMPOZITY_SEDE: 'J1-2K'!$J$10:$J$21
Name J12K_KOMPOZITY_SEDE: '[1]J1-2K'!$J$10:$J$21
Name J12K_KOMPOZITY_SEDE: 'J1-2K'!$J$10:$J$21
Name J12K_KOMPOZITY_ZELENE: 'J1-2K'!$I$10:$I$21
Name J12K_KOMPOZITY_ZELENE: '[1]J1-2K'!$I$10:$I$21
Name J12K_KOMPOZITY_ZELENE: 'J1-2K'!$I$10:$I$21
Name J12K_KOMPOZITY_ZLUTE: 'J1-2K'!$H$10:$H$21
Name J12K_KOMPOZITY_ZLUTE: '[1]J1-2K'!$H$10:$H$21
Name J12K_KOMPOZITY_ZLUTE: 'J1-2K'!$H$10:$H$21
Name J13_HODNOTY: 'J1-3'!$E$11:$T$35,'J1-3'!$E$42:$T$53
Name J13_HODNOTY: '[1]J1-3'!$E$11:$T$35,'[1]J1-3'!$E$42:$T$53
Name J13_HODNOTY: 'J1-3'!$E$11:$T$35,'J1-3'!$E$42:$T$53
Name J13K_HODNOTY: 'J1-3K'!$E$11:$H$22
Name J13K_HODNOTY: '[1]J1-3K'!$E$11:$H$22
Name J13K_HODNOTY: 'J1-3K'!$E$11:$H$22
Name J13K_KOMPOZITY_CERVENE: 'J1-3K'!$E$11:$E$22
Name J13K_KOMPOZITY_CERVENE: '[1]J1-3K'!$E$11:$E$22
Name J13K_KOMPOZITY_CERVENE: 'J1-3K'!$E$11:$E$22

Sheet SUM
A1: =SUM(A3:A5508) -> 0 | B1: =SUM(B3:B5508) -> 11476870 | C1: =SUM(C3:C5508)+KONTROLY!C121 -> 0
A2: Hodnota buňky | B2: CENÍK | C2: Odměna
A3: ='J1-1A'!E10 -> 0 | B3: 15546 | C3: =A3*B3 -> 0
A4: ='J1-1A'!E11 -> 0 | B4: 15546 | C4: =A4*B4 -> 0
A5: ='J1-1A'!E12 -> 0 | B5: 15546 | C5: =A5*B5 -> 0
A6: ='J1-1A'!E13 -> 0 | B6: 15546 | C6: =A6*B6 -> 0
A7: ='J1-1A'!E14 -> 0 | B7: 15546 | C7: =A7*B7 -> 0
A8: ='J1-1A'!E15 -> 0 | B8: 15546 | C8: =A8*B8 -> 0
A9: ='J1-1A'!E16 -> 0 | B9: 15546 | C9: =A9*B9 -> 0
A10: ='J1-1A'!E17 -> 0 | B10: 15546 | C10: =A10*B10 -> 0
A11: ='J1-1A'!E18 -> 0 | B11: 15546 | C11: =A11*B11 -> 0
A12: ='J1-1A'!E19 -> 0 | B12: 17142 | C12: =A12*B12 -> 0
A13: ='J1-1A'!E20 -> 0 | B13: 17142 | C13: =A13*B13 -> 0
A14: ='J1-1A'!E21 -> 0 | B14: 17142 | C14: =A14*B14 -> 0
... A27: ='J1-1A'!E34 -> 0 | B27: 2611 | C27: =A27*B27 -> 0
A28: ='J1-1A'!E36 -> 0 | B28: 24066 | C28: =A28*B28 -> 0
A29: ='J1-1A'!E41 -> 0 | B29: 1852 | C29: =A29*B29 -> 0
A30: ='J1-1A'!E42 -> 0 | B30: 1852 | C30: =A30*B30 -> 0
A31: ='J1-1A'!E43 -> 0 | B31: 1852 | C31: =A31*B31 -> 0
A32: ='J1-1A'!E44 -> 0 | B32: 7152 | C32: =A32*B32 -> 0
A33: ='J1-1A'!E45 -> 0 | B33: 7152 | C33: =A33*B33 -> 0
A34: ='J1-1A'!E46 -> 0 | B34: 7152 | C34: =A34*B34 -> 0
A35: ='J1-1A'!E47 -> 0 | B35: 7152 | C35: =A35*B35 -> 0
A36: ='J1-1A'!E48 -> 0 | B36: 7152 | C36: =A36*B36 -> 0
A37: ='J1-1A'!E49 -> 0 | B37: 3754 | C37: =A37*B37 -> 0
A38: ='J1-1A'!E50 -> 0 | B38: 3754 | C38: =A38*B38 -> 0
A39: ='J1-1A'!E51 -> 0 | B39: 2052 | C39: =A39*B39 -> 0
A40: ='J1-1A'!E52 -> 0 | B40: 24066 | C40: =A40*B40 -> 0
A41: ='J1-1A'!F10 -> 0 | B41: 15546 | C41: =A41*B41 -> 0
A42: ='J1-1A'!F11 -> 0 | B42: 15546 | C42: =A42*B42 -> 0
A43: ='J1-1A'!F12 -> 0 | B43: 15546 | C43: =A43*B43 -> 0
A44: ='J1-1A'!F13 -> 0 | B44: 15546 | C44: =A44*B44 -> 0
A45: ='J1-1A'!F14 -> 0 | B45: 15546 | C45: =A45*B45 -> 0
A46: ='J1-1A'!F15 -> 0 | B46: 15546 | C46: =A46*B46 -> 0
A47: ='J1-1A'!F16 -> 0 | B47: 15546 | C47: =A47*B47 -> 0
A48: ='J1-1A'!F17 -> 0 | B48: 15546 | C48: =A48*B48 -> 0
A49: ='J1-1A'!F18 -> 0 | B49: 15546 | C49: =A49*B49 -> 0
A50: ='J1-1A'!F19 -> 0 | B50: 17142 | C50: =A50*B50 -> 0
A51: ='J1-1A'!F20 -> 0 | B51: 17142 | C51: =A51*B51 -> 0
A52: ='J1-1A'!F21 -> 0 | B52: 17142 | C52: =A52*B52 -> 0
... A65: ='J1-1A'!F34 -> 0 | B65: 2611 | C65: =A65*B65 -> 0
A66: ='J1-1A'!F36 -> 0 | B66: 24066 | C66: =A66*B66 -> 0
A67: ='J1-1A'!G10 -> 0 | B67: 15546 | C67: =A67*B67 -> 0
A68: ='J1-1A'!G11 -> 0 | B68: 15546 | C68: =A68*B68 -> 0
A69: ='J1-1A'!G12 -> 0 | B69: 15546 | C69: =A69*B69 -> 0
A70: ='J1-1A'!G13 -> 0 | B70: 15546 | C70: =A70*B70 -> 0
A71: ='J1-1A'!G14 -> 0 | B71: 15546 | C71: =A71*B71 -> 0
A72: ='J1-1A'!G15 -> 0 | B72: 15546 | C72: =A72*B72 -> 0
A73: ='J1-1A'!G16 -> 0 | B73: 15546 | C73: =A73*B73 -> 0
A74: ='J1-1A'!G17 -> 0 | B74: 15546 | C74: =A74*B74 -> 0
A75: ='J1-1A'!G18 -> 0 | B75: 15546 | C75: =A75*B75 -> 0
A76: ='J1-1A'!G19 -> 0 | B76: 17142 | C76: =A76*B76 -> 0
A77: ='J1-1A'!G20 -> 0 | B77: 17142 | C77: =A77*B77 -> 0
A78: ='J1-1A'!G21 -> 0 | B78: 17142 | C78: =A78*B78 -> 0
... A91: ='J1-1A'!G34 -> 0 | B91: 2611 | C91: =A91*B91 -> 0
A92: ='J1-1A'!G36 -> 0 | B92: 24066 | C92: =A92*B92 -> 0
A93: ='J1-1A'!G41 -> 0 | B93: 1852 | C93: =A93*B93 -> 0
A94: ='J1-1A'!G42 -> 0 | B94: 1852 | C94: =A94*B94 -> 0
A95: ='J1-1A'!G43 -> 0 | B95: 1852 | C95: =A95*B95 -> 0
A96: ='J1-1A'!G44 -> 0 | B96: 7152 | C96: =A96*B96 -> 0
A97: ='J1-1A'!G45 -> 0 | B97: 7152 | C97: =A97*B97 -> 0
A98: ='J1-1A'!G46 -> 0 | B98: 7152 | C98: =A98*B98 -> 0
A99: ='J1-1A'!G47 -> 0 | B99: 7152 | C99: =A99*B99 -> 0
A100: ='J1-1A'!G48 -> 0 | B100: 7152 | C100: =A100*B100 -> 0
A101: ='J1-1A'!G49 -> 0 | B101: 3754 | C101: =A101*B101 -> 0
A102: ='J1-1A'!G50 -> 0 | B102: 3754 | C102: =A102*B102 -> 0
A103: ='J1-1A'!G51 -> 0 | B103: 2052 | C103: =A103*B103 -> 0
A104: ='J1-1A'!G52 -> 0 | B104: 24066 | C104: =A104*B104 -> 0
A105: ='J1-1A'!H10 -> 0 | B105: 15546 | C105: =A105*B105 -> 0
A106: ='J1-1A'!H11 -> 0 | B106: 15546 | C106: =A106*B106 -> 0
A107: ='J1-1A'!H12 -> 0 | B107: 15546 | C107: =A107*B107 -> 0
A108: ='J1-1A'!H13 -> 0 | B108: 15546 | C108: =A108*B108 -> 0
A109: ='J1-1A'!H14 -> 0 | B109: 15546 | C109: =A109*B109 -> 0
A110: ='J1-1A'!H15 -> 0 | B110: 15546 | C110: =A110*B110 -> 0
A111: ='J1-1A'!H16 -> 0 | B111: 15546 | C111: =A111*B111 -> 0
A112: ='J1-1A'!H17 -> 0 | B112: 15546 | C112: =A112*B112 -> 0
A113: ='J1-1A'!H18 -> 0 | B113: 15546 | C113: =A113*B113 -> 0
A114: ='J1-1A'!H19 -> 0 | B114: 17142 | C114: =A114*B114 -> 0
A115: ='J1-1A'!H20 -> 0 | B115: 17142 | C115: =A115*B115 -> 0
A116: ='J1-1A'!H21 -> 0 | B116: 17142 | C116: =A116*B116 -> 0
... A129: ='J1-1A'!H34 -> 0 | B129: 2611 | C129: =A129*B129 -> 0
A130: ='J1-1A'!H36 -> 0 | B130: 24066 | C130: =A130*B130 -> 0
A131: ='J1-1A'!I10 -> 0 | B131: 15839 | C131: =A131*B131 -> 0
A132: ='J1-1A'!I11 -> 0 | B132: 15839 | C132: =A132*B132 -> 0
A133: ='J1-1A'!I12 -> 0 | B133: 15839 | C133: =A133*B133 -> 0
A134: ='J1-1A'!I13 -> 0 | B134: 15839 | C134: =A134*B134 -> 0
A135: ='J1-1A'!I14 -> 0 | B135: 15839 | C135: =A135*B135 -> 0
A136: ='J1-1A'!I15 -> 0 | B136: 15839 | C136: =A136*B136 -> 0
A137: ='J1-1A'!I16 -> 0 | B137: 15839 | C137: =A137*B137 -> 0
A138: ='J1-1A'!I17 -> 0 | B138: 15839 | C138: =A138*B138 -> 0
A139: ='J1-1A'!I18 -> 0 | B139: 15839 | C139: =A139*B139 -> 0
A140: ='J1-1A'!I19 -> 0 | B140: 17142 | C140: =A140*B140 -> 0
A141: ='J1-1A'!I20 -> 0 | B141: 17142 | C141: =A141*B141 -> 0
A142: ='J1-1A'!I21 -> 0 | B142: 17142 | C142: =A142*B142 -> 0
... A157: ='J1-1A'!I36 -> 0 | B157: 24066 | C157: =A157*B157 -> 0
A158: ='J1-1A'!I41 -> 0 | B158: 1852 | C158: =A158*B158 -> 0
A159: ='J1-1A'!I42 -> 0 | B159: 1852 | C159: =A159*B159 -> 0
A160: ='J1-1A'!I43 -> 0 | B160: 1852 | C160: =A160*B160 -> 0
A161: ='J1-1A'!I44 -> 0 | B161: 7152 | C161: =A161*B161 -> 0
A162: ='J1-1A'!I45 -> 0 | B162: 7152 | C162: =A162*B162 -> 0
...

Sheet KONTROLY
A1: Jazyk výkazu | B1: E | C1: Verze výkazu | D1: 2.77 | E1: RETAIL (pokud je to retailový výkaz napiš do F1 písmeno R) pole je ovládáno skriptem | G1: Verze výkazu výstup | H1: =IF($B$1="E",D1&F1&B1,D1&F1) -> 2.77E | J1: Jazyky (combo) | K1: CZ | L1: E
A3: Kontroly Introduction | B3: Podmínka | C3: Výstupní hláška | D3: Výstup podmínka | E3: Hláška CZ | F3: Hláška EN | G3: Číslo chyby | H3: popis chyby
A4: Kontrola kvartálu | B4: =ISNUMBER(Introduction!D4) -> TRUE | C4: =IF(B4=TRUE,"",IF($B$1="CZ",E4,F4)) | D4: =IF(C4="",0,1) -> 0 | E4: Čtvrtletí (musí být číslo 1, 2, 3 nebo 4) | F4: Quarter (please fill in 1,2,3, or 4) | G4: 1 | H4: ="Error #"&G4&": Sheet Introduction - " -> Error #1: Sheet Introduction -
A5: Kontrola IČO | B5: =LEN(Introduction!C12) -> 0 | D5: =IF(C5="",0,1) -> 0 | E5: IČO (musí mít osm číslic) | F5: IČO (the number must have 8 figures) | G5: 2 | H5: ="Error #"&G5&": Sheet Introduction - " -> Error #2: Sheet Introduction -
A6: EKOKOM-ID | B6: =LEN(Introduction!F14) -> 0 | C6: =IF(B6=9,"",IF($B$1="CZ",E6,F6)) -> EKOKOM ID (ID must start with one letter and it must have 9 characters) | D6: =IF(B6=9,0,1) -> 1 | E6: EKOKOM ID (musí začínat jedním písmenem a jeho délka musí být 9 znaků) | F6: EKOKOM ID (ID must start with one letter and it must have 9 characters) | G6: 3 | H6: ="Error #"&G6&": Sheet Introduction - " -> Error #3: Sheet Introduction -
A7: Kontrola úvod - chybová hláška 1 | C7: =IF(D7=0,"",IF($B$1="CZ",E7,F7)) -> ATTENTION!! Please check the following fields on this page: | D7: =SUM(D4:D6) -> 1 | E7: POZOR!! Zkontrolujte prosím následující pole na této stránce: | F7: ATTENTION!! Please check the following fields on this page:
A8: Kontrola úvod - chybová hláška 2 | C8: =C4&C5&C6 -> EKOKOM ID (ID must start with one letter and it must have 9 characters)
A9: Kontrola úvod - chybová hláška složená 1,2 | C9: =C7&C8 -> ATTENTION!! Please check the following fields on this page: EKOKOM ID (ID must start with one letter and it must have 9 characters)
A11: Kontola Čísel na listech | B11: hodnota | C11: Výstupní hláška (chyba na listu) | D11: číslo chyby | E11: popis chyby | F11: Vyplněné listy
A12: J1-1A | B12: ='J1-1A'!R1 -> 0 | C12: =IF(ISERR(B12),IF($B$1="CZ",E12&$E$39&A12,E12&$F$39&A12),"") | D12: 10 | E12: ="Error #"&D12&": " -> Error #10: | F12: =SUM(J11A_HODNOTY) -> 0 | G12: =IF(F12>0,A12,"")
A13: J1-1B | B13: ='J1-1B'!V1 -> 0 | C13: =IF(ISERR(B13),IF($B$1="CZ",E13&$E$39&A13,E13&$F$39&A13),"") | D13: 11 | E13: ="Error #"&D13&": " -> Error #11: | F13: =SUM(J11B_HODNOTY) -> 0 | G13: =IF(F13>0," | "&A13,"")
A14: J1-1K | B14: ='J1-1K'!P1 -> 0 | C14: =IF(ISERR(B14),IF($B$1="CZ",E14&$E$39&A14,E14&$F$39&A14),"") | D14: 12 | E14: ="Error #"&D14&": " -> Error #12: | F14: =SUM(J11K_HODNOTY) -> 0 | G14: =IF(F14>0," | "&A14,"")
A15: J1-2A | B15: ='J1-2A'!R1 -> 0 | C15: =IF(ISERR(B15),IF($B$1="CZ",E15&$E$39&A15,E15&$F$39&A15),"") | D15: 13 | E15: ="Error #"&D15&": " -> Error #13: | F15: =SUM(J12A_HODNOTY) -> 0 | G15: =IF(F15>0," | "&A15,"")
A16: J1-2B | B16: ='J1-2B'!V1 -> 0 | C16: =IF(ISERR(B16),IF($B$1="CZ",E16&$E$39&A16,E16&$F$39&A16),"") | D16: 14 | E16: ="Error #"&D16&": " -> Error #14: | F16: =SUM(J12B_HODNOTY) -> 0 | G16: =IF(F16>0," | "&A16,"")
A17: J1-2K | B17: ='J1-2K'!P1 -> 0 | C17: =IF(ISERR(B17),IF($B$1="CZ",E17&$E$39&A17,E17&$F$39&A17),"") | D17: 15 | E17: ="Error #"&D17&": " -> Error #15: | F17: =SUM(J12K_HODNOTY) -> 0 | G17: =IF(F17>0," | "&A17,"")
A18: J1-3 | B18: ='J1-3'!V1 -> 0 | C18: =IF(ISERR(B18),IF($B$1="CZ",E18&$E$39&A18,E18&$F$39&A18),"") | D18: 16 | E18: ="Error #"&D18&": " -> Error #16: | F18: =SUM(J13_HODNOTY) -> 0 | G18: =IF(F18>0," | "&A18,"")
A19: J1-3K | B19: ='J1-3K'!R1 -> 0 | C19: =IF(ISERR(B19),IF($B$1="CZ",E19&$E$39&A19,E19&$F$39&A19),"") | D19: 17 | E19: ="Error #"&D19&": " -> Error #17: | F19: =SUM(J13K_HODNOTY) -> 0 | G19: =IF(F19>0," | "&A19,"")
A20: J2 | B20: ='J2'!N1 -> 0 | C20: =IF(ISERR(B20),IF($B$1="CZ",E20&$E$39&A20,E20&$F$39&A20),"") | D20: 18 | E20: ="Error #"&D20&": " -> Error #18: | F20: =SUM(J2_HODNOTY) -> 0 | G20: =IF(F20>0," | "&A20,"")
A21: J3 | B21: ='J3'!N1 -> 0 | C21: =IF(ISERR(B21),IF($B$1="CZ",E21&$E$39&A21,E21&$F$39&A21),"") | D21: 19 | E21: ="Error #"&D21&": " -> Error #19: | F21: =SUM(J3_HODNOTY) -> 0 | G21: =IF(F21>0," | "&A21,"")
A22: J4 | B22: ='J4'!N1 -> 0 | C22: =IF(ISERR(B22),IF($B$1="CZ",E22&$E$39&A22,E22&$F$39&A22),"") | D22: 20 | E22: ="Error #"&D22&": " -> Error #20: | F22: =SUM(J4_HODNOTY) -> 0 | G22: =IF(F22>0," | "&A22,"")
A23: L | B23: =L!L1 -> 0 | C23: =IF(ISERR(B23),IF($B$1="CZ",E23&$E$39&A23,E23&$F$39&A23),"") | D23: 21 | E23: ="Error #"&D23&": " -> Error #21: | F23: =SUM(L_HODNOTY) -> 0 | G23: =IF(F23>0," | "&A23,"")
A24: O1-1A | B24: ='O1-1A'!R1 -> 0 | C24: =IF(ISERR(B24),IF($B$1="CZ",E24&$E$39&A24,E24&$F$39&A24),"") | D24: 22 | E24: ="Error #"&D24&": " -> Error #22: | F24: =SUM(O11A_HODNOTY) -> 0 | G24: =IF(F24>0," | "&A24,"")
A25: O1-1B | B25: ='O1-1B'!V1 -> 0 | C25: =IF(ISERR(B25),IF($B$1="CZ",E25&$E$39&A25,E25&$F$39&A25),"") | D25: 23 | E25: ="Error #"&D25&": " -> Error #23: | F25: =SUM(O11B_HODNOTY) -> 0 | G25: =IF(F25>0," | "&A25,"")
A26: O1-1K | B26: ='O1-1K'!P1 -> 0 | C26: =IF(ISERR(B26),IF($B$1="CZ",E26&$E$39&A26,E26&$F$39&A26),"") | D26: 24 | E26: ="Error #"&D26&": " -> Error #24: | F26: =SUM(O11K_HODNOTY) -> 0 | G26: =IF(F26>0," | "&A26,"")
A27: O1-2A | B27: ='O1-2A'!R1 -> 0 | C27: =IF(ISERR(B27),IF($B$1="CZ",E27&$E$39&A27,E27&$F$39&A27),"") | D27: 25 | E27: ="Error #"&D27&": " -> Error #25: | F27: =SUM(O12A_HODNOTY) -> 0 | G27: =IF(F27>0," | "&A27,"")
A28: O1-2B | B28: ='O1-2B'!V1 -> 0 | C28: =IF(ISERR(B28),IF($B$1="CZ",E28&$E$39&A28,E28&$F$39&A28),"") | D28: 26 | E28: ="Error #"&D28&": " -> Error #26: | F28: =SUM(O12B_HODNOTY) -> 0 | G28: =IF(F28>0," | "&A28,"")
A29: O1-2K | B29: ='O1-2K'!P1 -> 0 | C29: =IF(ISERR(B29),IF($B$1="CZ",E29&$E$39&A29,E29&$F$39&A29),"") | D29: 27 | E29: ="Error #"&D29&": " -> Error #27: | F29: =SUM(O12K_HODNOTY) -> 0 | G29: =IF(F29>0," | "&A29,"")
A30: O1-3 | B30: ='O1-3'!V1 -> 0 | C30: =IF(ISERR(B30),IF($B$1="CZ",E30&$E$39&A30,E30&$F$39&A30),"") | D30: 28 | E30: ="Error #"&D30&": " -> Error #28: | F30: =SUM(O13_HODNOTY) -> 0 | G30: =IF(F30>0," | "&A30,"")
A31: O1-3K | B31: ='O1-3K'!R1 -> 0 | C31: =IF(ISERR(B31),IF($B$1="CZ",E31&$E$39&A31,E31&$F$39&A31),"") | D31: 29 | E31: ="Error #"&D31&": " -> Error #29: | F31: =SUM(O13K_HODNOTY) -> 0 | G31: =IF(F31>0," | "&A31,"")
A32: O2 | B32: ='O2'!N1 -> 0 | C32: =IF(ISERR(B32),IF($B$1="CZ",E32&$E$39&A32,E32&$F$39&A32),"") | D32: 30 | E32: ="Error #"&D32&": " -> Error #30: | F32: =SUM(O2_HODNOTY) -> 0 | G32: =IF(F32>0," | "&A32,"")
A33: O3 | B33: ='O3'!N1 -> 0 | C33: =IF(ISERR(B33),IF($B$1="CZ",E33&$E$39&A33,E33&$F$39&A33),"") | D33: 31 | E33: ="Error #"&D33&": " -> Error #31: | F33: =SUM(O3_HODNOTY) -> 0 | G33: =IF(F33>0," | "&A33,"")
A34: O4 | B34: ='O4'!N1 -> 0 | C34: =IF(ISERR(B34),IF($B$1="CZ",E34&$E$39&A34,E34&$F$39&A34),"") | D34: 32 | E34: ="Error #"&D34&": " -> Error #32: | F34: =SUM(O4_HODNOTY) -> 0 | G34: =IF(F34>0," | "&A34,"")
A35: S1 | B35: ='S1'!T1 -> 0 | C35: =IF(ISERR(B35),IF($B$1="CZ",E35&$E$39&A35,E35&$F$39&A35),"") | D35: 33 | E35: ="Error #"&D35&": " -> Error #33: | F35: =SUM(S1_HODNOTY) -> 0 | G35: =IF(F35>0," | "&A35,"")
A36: S2 | B36: ='S2'!Q1 -> 0 | C36: =IF(ISERR(B36),IF($B$1="CZ",E36&$E$39&A36,E36&$F$39&A36),"") | D36: 34 | E36: ="Error #"&D36&": " -> Error #34: | F36: =SUM(S2_HODNOTY) -> 0 | G36: =IF(F36>0," | "&A36,"")
A38: Hlášky kontrol na listech - souhrn | B38: hodnota | C38: Výstupní hláška - souhrn | E38: Hláška CZ (šablona) | F38: Hláška EN (šablona)
B39: =B12*B13*B14*B15*B16*B17*B18*B19*B20*B21*B22*B23*B24*B25*B26*B27*B28*B29*B30*B31*B32*B33*B34*B35*B36 -> 0 | C39: =C12&C13&C14&C15&C16&C17&C18&C19&C20&C21&C22&C23&C24&C25&C26&C27&C28&C29&C30&C31&C32&C33&C34&C35&C36 | E39: ="Chybná hodnota na záložce: " -> Chybná hodnota na záložce: | F39: Error value in sheet:
C40: =IF($B$1="CZ",E40&G12&G13&G14&G15&G16&G17&G18&G19&G20&G21&G22&G23&G24&G25&G26&G27&G28&G29&G30&G31&G32&G33&G34&G35&G36,F40&G12&G13&G14&G15&G16&G17&G18&G19&G20&G21&G22&G23&G24&G25&G26&G27&G28&G29&G30&G31&G32&G33&G34&G35&G36) -> YOU COMPLETED THESE SHEETS: | E40: VYPLNILI JSTE TYTO LISTY: | F40: YOU COMPLETED THESE SHEETS:
A42: Kontola KOMPOZITY SOUČET 1 | B42: hodnota | C42: Kontrola KOMPOZITY SOUČET 2 | D42: hodnota | E42: Výstupní hláška | F42: Rozdíl | G42: Hláška CZ | H42: Hláška EN | I42: číslo chyby | J42: popis chyby
A43: Suma hodnot v červených polích na listu J1-1A | B43: =SUM(J11A_KOMPOZITY_CERVENE) -> 0 | C43: Suma hodnot v červených polích na listu J1-1K | D43: =SUM(J11K_KOMPOZITY_CERVENE) -> 0 | E43: =IF(F43<>0,IF($B$1="CZ",J43&G43&" ",J43&H43&" "),"") | F43: =B43-D43 -> 0 | G43: Chyba vyplnění na listech J1-1A a J1-1K: Součet hmotnosti kompozitních obalů na listu J1-1A ve sloupci vyrobené, nakoupené v ČR a jejich hmotnostního rozpadu na listu J1-1K ve sloupci prodejní vyrobené, nakoupené v ČR, musí být roven | H43: Fill error on sheets J1-1A and J1-1K: The sum of the weights of composite packaging on sheet J1-1A in the column produced, bought in Czechia and their mass decay on sheet J1-1K in the column sales, produced, bought in Czechia, must be equal Czechia, must be equal | I43: 100 | J43: ="Error #"&I43&": " -> Error #100:
A44: Suma hodnot v oranžových polích na listu J1-1A | B44: =SUM(J11A_KOMPOZITY_ORANZOVE) -> 0 | C44: Suma hodnot v oranžových polích na listu J1-1K | D44: =SUM(J11K_KOMPOZITY_ORANZOVE) -> 0 | E44: =IF(F44<>0,IF($B$1="CZ",J44&G44&" ",J44&H44&" "),"") | F44: =B44-D44 -> 0 | G44: Chyba vyplnění na listech J1-1A a J1-1K: Součet hmotnosti kompozitních obalů na listu J1-1A ve sloupci importované do ČR a jejich hmotnostního rozpadu na listu J1-1K ve sloupci prodejní importované do ČR, musí být roven | H44: Fill error on sheets J1-1A and J1-1K: The sum of the weights of composite packaging on sheet J1-1A in the column imported to Czechia and their mass decay on sheet J1-1K in the column sales, imported to Czechia, must be equal | I44: 101 | J44: ="Error #"&I44&": " -> Error #101:
A45: Suma hodnot v modrých polích na listu J1-1B | B45: =SUM(J11B_KOMPOZITY_MODRE) -> 0 | C45: Suma hodnot v modrých polích na listu J1-1K | D45: =SUM(J11K_KOMPOZITY_MODRE) -> 0 | E45: =IF(F45<>0,IF($B$1="CZ",J45&G45&" ",J45&H45&" "),"") | F45: =B45-D45 -> 0 | G45: Chyba vyplnění na listech J1-1B a J1-1K: Součet hmotnosti kompozitních obalů na listu J1-1B ve sloupci vyrobené, nakoupené v ČR a jejich hmotnostního rozpadu na listu J1-1K ve sloupci skupinové vyrobené, nakoupené v ČR, musí být roven | H45: Fill error on sheets J1-1B and J1-1K: The sum of the weights of composite packaging on sheet J1-1B in the column produced, bought in Czechia and their mass decay on sheet J1-1K in the column group, produced, bought in Czechia, must be equal | I45: 102 | J45: ="Error #"&I45&": " -> Error #102:
A46: Suma hodnot ve žlutých polích na listu J1-1B | B46: =SUM(J11B_KOMPOZITY_ZLUTE) -> 0 | C46: Suma hodnot ve žlutých polích na listu J1-1K | D46: =SUM(J11K_KOMPOZITY_ZLUTE) -> 0 | E46: =IF(F46<>0,IF($B$1="CZ",J46&G46&" ",J46&H46&" "),"") | F46: =B46-D46 -> 0 | G46: Chyba vyplnění na listech J1-1B a J1-1K: Součet hmotnosti kompozitních obalů na listu J1-1B ve sloupci importované do ČR a jejich hmotnostního rozpadu na listu J1-1K ve sloupci skupinové importované do ČR, musí být roven | H46: Fill error on sheets J1-1B and J1-1K: The sum of the weights of composite packaging on sheet J1-1B in the column imported to Czechia and their mass decay on sheet J1-1K in the column group, imported to Czechia, must be equal | I46: 103 | J46: ="Error #"&I46&": " -> Error #103:
A47: Suma hodnot v zelených polích na listu J1-1B | B47: =SUM(J11B_KOMPOZITY_ZELENE) -> 0 | C47: Suma hodnot v zelených polích na listu J1-1K | D47: =SUM(J11K_KOMPOZITY_ZELENE) -> 0 | E47: =IF(F47<>0,IF($B$1="CZ",J47&G47&" ",J47&H47&" "),"") | F47: =B47-D47 -> 0 | G47: Chyba vyplnění na listech J1-1B a J1-1K: Součet hmotnosti kompozitních obalů na listu J1-1B ve sloupci vyrobené, nakoupené v ČR a jejich hmotnostního rozpadu na listu J1-1K ve sloupci přepravní vyrobené, nakoupené v ČR, musí být roven | H47: Fill error on sheets J1-1B and J1-1K: The sum of the weights of composite packaging on sheet J1-1B in the column produced, bought in Czechia and their mass decay on sheet J1-1K in the column transport, produced, bought in Czechia, must be equal | I47: 104 | J47: ="Error #"&I47&": " -> Error #104:
A48: Suma hodnot v šedých polích na listu J1-1B | B48: =SUM(J11B_KOMPOZITY_SEDE) -> 0 | C48: Suma hodnot v šedých polích na listu J1-1K | D48: =SUM(J11K_KOMPOZITY_SEDE) -> 0 | E48: =IF(F48<>0,IF($B$1="CZ",J48&G48&" ",J48&H48&" "),"") | F48: =B48-D48 -> 0 | G48: Chyba vyplnění na listech J1-1B a J1-1K: Součet hmotnosti kompozitních obalů na listu J1-1B ve sloupci importované do ČR a jejich hmotnostního rozpadu na listu J1-1K ve sloupci přepravní importované do ČR, musí být roven | H48: Fill error on sheets J1-1B and J1-1K: The sum of the weights of composite packaging on sheet J1-1B in the column imported to Czechia and their mass decay on sheet J1-1K in the column transport, imported to Czechia, must be equal | I48: 105 | J48: ="Error #"&I48&": " -> Error #105:
A49: Suma hodnot v červených polích na listu J1-2A | B49: =SUM(J12A_KOMPOZITY_CERVENE) -> 0 | C49: Suma hodnot v červených polích na listu J1-2K | D49: =SUM(J12K_KOMPOZITY_CERVENE) -> 0 | E49: =IF(F49<>0,IF($B$1="CZ",J49&G49&" ",J49&H49&" "),"") | F49: =B49-D49 -> 0 | G49: Chyba vyplnění na listech J1-2A a J1-2K: Součet hmotnosti kompozitních obalů na listu J1-2A ve sloupci vyrobené, nakoupené v ČR a jejich hmotnostního rozpadu na listu J1-2K ve sloupci prodejní vyrobené, nakoupené v ČR, musí být roven | H49: Fill error on sheets J1-2A and J1-2K: The sum of the weights of composite packaging on sheet J1-2A in the column produced, bought in Czechia and their mass decay on sheet J1-2K in the column sales, produced,bought in Czechia, must be equal | I49: 106 | J49: ="Error #"&I49&": " -> Error #106:
A50: Suma hodnot v oranžových polích na listu J1-2A | B50: =SUM(J12A_KOMPOZITY_ORANZOVE) -> 0 | C50: Suma hodnot v oranžových polích na listu J1-2K | D50: =SUM(J12K_KOMPOZITY_ORANZOVE) -> 0 | E50: =IF(F50<>0,IF($B$1="CZ",J50&G50&" ",J50&H50&" "),"") | F50: =B50-D50 -> 0 | G50: Chyba vyplnění na listech J1-2A a J1-2K: Součet hmotnosti kompozitních obalů na listu J1-2A ve sloupci importované do ČR a jejich hmotnostního rozpadu na listu J1-2K ve sloupci prodejní importované do ČR, musí být roven | H50: Fill error on sheets J1-2A and J1-2K: The sum of the weights of composite packaging on sheet J1-2A in the column imported to Czechia and their mass decay on sheet J1-2K in the column sales, imported to Czechia, must be equal | I50: 107 | J50: ="Error #"&I50&": " -> Error #107:
A51: Suma hodnot v modrých polích na listu J1-2B | B51: =SUM(J12B_KOMPOZITY_MODRE) -> 0 | C51: Suma hodnot v modrých polích na listu J1-2K | D51: =SUM(J12K_KOMPOZITY_MODRE) -> 0 | E51: =IF(F51<>0,IF($B$1="CZ",J51&G51&" ",J51&H51&" "),"") | F51: =B51-D51 -> 0 | G51: Chyba vyplnění na listech J1-2B a J1-2K: Součet hmotnosti kompozitních obalů na listu J1-2B ve sloupci vyrobené, nakoupené v ČR a jejich hmotnostního rozpadu na listu J1-2K ve sloupci skupinové vyrobené, nakoupené v ČR, musí být roven | H51: Fill error on sheets J1-2B and J1-2K: The sum of the weights of composite packaging on sheet J1-2B in the column produced, bought in Czechia and their mass decay on sheet J1-2K in the column group, produced, bought in Czechia, must be equal | I51: 108 | J51: ="Error #"&I51&": " -> Error #108:
A52: Suma hodnot ve žlutých polích na listu J1-2B | B52: =SUM(J12B_KOMPOZITY_ZLUTE) -> 0 | C52: Suma hodnot ve žlutých polích na listu J1-2K | D52: =SUM(J12K_KOMPOZITY_ZLUTE) -> 0 | E52: =IF(F52<>0,IF($B$1="CZ",J52&G52&" ",J52&H52&" "),"") | F52: =B52-D52 -> 0 | G52: Chyba vyplnění na listech J1-2B a J1-2K: Součet hmotnosti kompozitních obalů na listu J1-2B ve sloupci importované do ČR a jejich hmotnostního rozpadu na listu J1-2Kve sloupci skupinové importované do ČR, musí být roven | H52: Fill error on sheets J1-2B and J1-2K: The sum of the weights of composite packaging on sheet J1-2B in the column imported to Czechia and their mass decay on sheet J1-2K in the column group, imported to Czechia, must be equal | I52: 109 | J52: ="Error #"&I52&": " -> Error #109:
A53: Suma hodnot v zelených polích na listu J1-2B | B53: =SUM(J12B_KOMPOZITY_ZELENE) -> 0 | C53: Suma hodnot v zelených polích na listu J1-2K | D53: =SUM(J12K_KOMPOZITY_ZELENE) -> 0 | E53: =IF(F53<>0,IF($B$1="CZ",J53&G53&" ",J53&H53&" "),"") | F53: =B53-D53 -> 0 | G53: Chyba vyplnění na listech J1-2B a J1-2K: Součet hmotnosti kompozitních obalů na listu J1-2B ve sloupci vyrobené, nakoupené v ČR a jejich hmotnostního rozpadu na listu J1-2K ve sloupci přepravní vyrobené, nakoupené v ČR, musí být roven | H53: Fill error on sheets J1-2B and J1-2K: The sum of the weights of composite packaging on sheet J1-2B in the column produced, bought in Czechia and their mass decay on sheet J1-2K in the column transport, produced, bought in Czechia, must be equal | I53: 110 | J53: ="Error #"&I53&": " -> Error #110:
A54: Suma hodnot v šedých polích na listu J1-2B | B54: =SUM(J12B_KOMPOZITY_SEDE) -> 0 | C54: Suma hodnot v šedých polích na listu J1-2K | D54: =SUM(J12K_KOMPOZITY_SEDE) -> 0 | E54: =IF(F54<>0,IF($B$1="CZ",J54&G54&" ",J54&H54&" "),"") | F54: =B54-D54 -> 0 | G54: Chyba vyplnění na listech J1-2B a J1-2K: Součet hmotnosti kompozitních obalů na listu J1-2B ve sloupci importované do ČR a jejich hmotnostního rozpadu na listu J1-2K ve sloupci přepravní importované do ČR, musí být roven | H54: Fill error on sheets J1-2B and J1-2K: The sum of the weights of composite packaging on sheet J1-2B in the column imported to Czechia and their mass decay on sheet J1-2K in the column transport, imported to Czechia, must be equal | I54: 111 | J54: ="Error #"&I54&": " -> Error #111:
A55: Suma hodnot v červených polích na listu J1-3 | B55: =SUM(J13_KOMPOZITY_CERVENE) -> 0 | C55: Suma hodnot v červených polích na listu J1-3K | D55: =SUM(J13K_KOMPOZITY_CERVENE) -> 0 | E55: =IF(F55<>0,IF($B$1="CZ",J55&G55&" ",J55&H55&" "),"") | F55: =B55-D55 -> 0 | G55: Chyba vyplnění na listech J1-3 a J1-3K: Součet hmotnosti kompozitních obalů na listu J1-3 ve sloupci neobsahují nápoje vyrobené, nakoupené v ČR a jejich hmotnostního rozpadu na listu J1-3K ve sloupci neobsahují nápoje vyrobené, nakoupené v ČR, musí být roven | H55: Fill error on sheets J1-3 and J1-3K: The sum of the weights of composite packaging on sheet J1-3 in the column non beverage, produced, bought in Czechia and their mass decay on sheet J1-3K in the column non beverage, produced, bought in Czechia, must be equal | I55: 112 | J55: ="Error #"&I55&": " -> Error #112:
A56: Suma hodnot v oranžových polích na listu J1-3 | B56: =SUM(J13_KOMPOZITY_ORANZOVE) -> 0 | C56: Suma hodnot v oranžových polích na listu J1-3K | D56: =SUM(J13K_KOMPOZITY_ORANZOVE) -> 0 | E56: =IF(F56<>0,IF($B$1="CZ",J56&G56&" ",J56&H56&" "),"") | F56: =B56-D56 -> 0 | G56: Chyba vyplnění na listech J1-3 a J1-3K: Součet hmotnosti kompozitních obalů na listu J1-3 ve sloupci neobsahují nápoje importované do ČR a jejich hmotnostního rozpadu na listu J1-3K ve sloupci neobsahují nápoje importované do ČR, musí být roven | H56: Fill error on sheets J1-3 and J1-3K: The sum of the weights of composite packaging on sheet J1-3 in the column non beverage, imported to Czechia and their mass decay on sheet J1-3K in the column non beverage, imported to Czechia, must be equal | I56: 113 | J56: ="Error #"&I56&": " -> Error #113:
A57: Suma hodnot v zelených polích na listu J1-3 | B57: =SUM(J13_KOMPOZITY_ZELENE) -> 0 | C57: Suma hodnot v zelených polích na listu J1-3K | D57: =SUM(J13K_KOMPOZITY_ZELENE) -> 0 | E57: =IF(F57<>0,IF($B$1="CZ",J57&G57&" ",J57&H57&" "),"") | F57: =B57-D57 -> 0 | G57: Chyba vyplnění na listech J1-3 a J1-3K: Součet hmotnosti kompozitních obalů na listu J1-3 ve sloupci obsahují nápoje vyrobené, nakoupené v ČR a jejich hmotnostního rozpadu na listu J1-3K ve sloupci obsahují nápoje vyrobené, nakoupené v ČR, musí být roven | H57: Fill error on sheets J1-3 and J1-3K: The sum of the weights of composite packaging on sheet J1-3 in the column beverage, produced, bought in Czechia and their mass decay on sheet J1-3K in the column beverage, produced, bought in Czechia, must be equal | I57: 114 | J57: ="Error #"&I57&": " -> Error #114:
A58: Suma hodnot v šedých polích na listu J1-3 | B58: =SUM(J13_KOMPOZITY_SEDE) -> 0 | C58: Suma hodnot v šedých polích na listu J1-3K | D58: =SUM(J13K_KOMPOZITY_SEDE) -> 0 | E58: =IF(F58<>0,IF($B$1="CZ",J58&G58&" ",J58&H58&" "),"") | F58: =B58-D58 -> 0 | G58: Chyba vyplnění na listech J1-3 a J1-3K: Součet hmotnosti kompozitních obalů na listu J1-3 ve sloupci obsahují nápoje importované do ČR a jejich hmotnostního rozpadu na listu J1-3K ve sloupci obsahují nápoje importované do ČR, musí být roven | H58: Fill error on sheets J1-3 and J1-3K: The sum of the weights of composite packaging on sheet J1-3 in the column beverage, imported to Czechia and their mass decay on sheet J1-3K in the column beverage, imported to Czechia, must be equal | I58: 115 | J58: ="Error #"&I58&": " -> Error #115:
A59: Suma hodnot v červených polích na listu O1-1A | B59: =SUM(O11A_KOMPOZITY_CERVENE) -> 0 | C59: Suma hodnot v červených polích na listu O1-1K | D59: =SUM(O11K_KOMPOZITY_CERVENE) -> 0 | E59: =IF(F59<>0,IF($B$1="CZ",J59&G59&" ",J59&H59&" "),"") | F59: =B59-D59 -> 0 | G59: Chyba vyplnění na listech O1-1A a O1-1K: Součet hmotnosti kompozitních obalů na listu O1-1A ve sloupci vyrobené, nakoupené v ČR a jejich hmotnostního rozpadu na listu O1-1K ve sloupci prodejní vyrobené, nakoupené v ČR, musí být roven | H59: Fill error on sheets O1-1A and O1-1K: The sum of the weights of composite packaging on sheet O1-1A in the column produced, bought in Czechia and their mass decay on sheet O1-1K in the column sales, produced, bought in Czechia, must be equal | I59: 116 | J59: ="Error #"&I59&": " -> Error #116:
A60: Suma hodnot v oranžových polích na listu O1-1A | B60: =SUM(O11A_KOMPOZITY_ORANZOVE) -> 0 | C60: Suma hodnot v oranžových polích na listu O1-1K | D60: =SUM(O11K_KOMPOZITY_ORANZOVE) -> 0 | E60: =IF(F60<>0,IF($B$1="CZ",J60&G60&" ",J60&H60&" "),"") | F60: =B60-D60 -> 0 | G60: Chyba vyplnění na listech O1-1A a O1-1K: Součet hmotnosti kompozitních obalů na listu O1-1A ve sloupci importované do ČR a jejich hmotnostního rozpadu na listu O1-1K ve sloupci prodejní importované do ČR, musí být roven | H60: Fill error on sheets O1-1A and O1-1K: The sum of the weights of composite packaging on sheet O1-1A in the column imported to Czechia and their mass decay on sheet O1-1K in the column sales, imported to Czechia, must be equal | I60: 117 | J60: ="Error #"&I60&": " -> Error #117:
A61: Suma hodnot v modrých polích na listu O1-1B | B61: =SUM(O11B_KOMPOZITY_MODRE) -> 0 | C61: Suma hodnot v modrých polích na listu O1-1K | D61: =SUM(O11K_KOMPOZITY_MODRE) -> 0 | E61: =IF(F61<>0,IF($B$1="CZ",J61&G61&" ",J61&H61&" "),"") | F61: =B61-D61 -> 0 | G61: Chyba vyplnění na listech O1-1B a O1-1K: Součet hmotnosti kompozitních obalů na listu O1-1B ve sloupci vyrobené, nakoupené v ČR a jejich hmotnostního rozpadu na listu O1-1K ve sloupci skupinové vyrobené, nakoupené v ČR, musí být roven | H61: Fill error on sheets O1-1B and O1-1K: The sum of the weights of composite packaging on sheet O1-1B in the column produced, bought in Czechia and their mass decay on sheet O1-1K in the column group, produced, bought in Czechia, must be equal | I61: 118 | J61: ="Error #"&I61&": " -> Error #118:
A62: Suma hodnot ve žlutých polích na listu O1-1B | B62: =SUM(O11B_KOMPOZITY_ZLUTE) -> 0 | C62: Suma hodnot ve žlutých polích na listu O1-1K | D62: =SUM(O11K_KOMPOZITY_ZLUTE) -> 0 | E62: =IF(F62<>0,IF($B$1="CZ",J62&G62&" ",J62&H62&" "),"") | F62: =B62-D62 -> 0 | G62: Chyba vyplnění na listech O1-1B a O1-1K: Součet hmotnosti kompozitních obalů na listu O1-1B ve sloupci importované do ČR a jejich hmotnostního rozpadu na listu O1-1K ve sloupci skupinové importované do ČR, musí být roven | H62: Fill error on sheets O1-1B and O1-1K: The sum of the weights of composite packaging on sheet O1-1B in the column imported to Czechia and their mass decay on sheet O1-1K in the column group, imported to Czechia, must be equal | I62: 119 | J62: ="Error #"&I62&": " -> Error #119:
A63: Suma hodnot v zelených polích na listu O1-1B | B63: =SUM(O11B_KOMPOZITY_ZELENE) -> 0 | C63: Suma hodnot v zelených polích na listu O1-1K | D63: =SUM(O11K_KOMPOZITY_ZELENE) -> 0 | E63: =IF(F63<>0,IF($B$1="CZ",J63&G63&" ",J63&H63&" "),"") | F63: =B63-D63 -> 0 | G63: Chyba vyplnění na listech O1-1B a O1-1K: Součet hmotnosti kompozitních obalů na listu O1-1B ve sloupci vyrobené, nakoupené v ČR a jejich hmotnostního rozpadu na listu O1-1K ve sloupci přepravní vyrobené, nakoupené v ČR, musí být roven | H63: Fill error on sheets O1-1B and O1-1K: The sum of the weights of composite packaging on sheet O1-1B in the column produced, bought in Czechia and their mass decay on sheet O1-1K in the column transport, produced, bought in Czechia, must be equal | I63: 120 | J63: ="Error #"&I63&": " -> Error #120:
A64: Suma hodnot v šedých polích na listu O1-1B | B64: =SUM(O11B_KOMPOZITY_SEDE) -> 0 | C64: Suma hodnot v šedých polích na listu O1-1K | D64: =SUM(O11K_KOMPOZITY_SEDE) -> 0 | E64: =IF(F64<>0,IF($B$1="CZ",J64&G64&" ",J64&H64&" "),"") | F64: =B64-D64 -> 0 | G64: Chyba vyplnění na listech O1-1B a O1-1K: Součet hmotnosti kompozitních obalů na listu O1-1B ve sloupci importované do ČR a jejich hmotnostního rozpadu na listu O1-1K ve sloupci přepravní importované do ČR, musí být roven | H64: Fill error on sheets O1-1B and O1-1K: The sum of the weights of composite packaging on sheet O1-B in the column imported to Czechia and their mass decay on sheet O1-1K in the column transport, imported to Czechia, must be equal | I64: 121 | J64: ="Error #"&I64&": " -> Error #121:
A65: Suma hodnot v červených polích na listu O1-2A | B65: =SUM(O12A_KOMPOZITY_CERVENE) -> 0 | C65: Suma hodnot v červených polích na listu O1-2K | D65: =SUM(O12K_KOMPOZITY_CERVENE) -> 0 | E65: =IF(F65<>0,IF($B$1="CZ",J65&G65&" ",J65&H65&" "),"") | F65: =B65-D65 -> 0 | G65: Chyba vyplnění na listech O1-2A a O1-2K: Součet hmotnosti kompozitních obalů na listu O1-2A ve sloupci vyrobené, nakoupené v ČR a jejich hmotnostního rozpadu na listu O1-2K ve sloupci prodejní vyrobené, nakoupené v ČR, musí být roven | H65: Fill error on sheets O1-2A and O1-2K: The sum of the weights of composite packaging on sheet O1-2A in the column produced, bought in Czechia and their mass decay on sheet O1-2K in the column sales, produced, bought in Czechia, must be equal | I65: 122 | J65: ="Error #"&I65&": " -> Error #122:
A66: Suma hodnot v oranžových polích na listu O1-2A | B66: =SUM(O12A_KOMPOZITY_ORANZOVE) -> 0 | C66: Suma hodnot v oranžových polích na listu O1-2K | D66: =SUM(O12K_KOMPOZITY_ORANZOVE) -> 0 | E66: =IF(F66<>0,IF($B$1="CZ",J66&G66&" ",J66&H66&" "),"") | F66: =B66-D66 -> 0 | G66: Chyba vyplnění na listech O1-2A a O1-2K: Součet hmotnosti kompozitních obalů na listu O1-2A ve sloupci importované do ČR a jejich hmotnostního rozpadu na listu O1-2K ve sloupci prodejní importované do ČR, musí být roven | H66: Fill error on sheets O1-2A and O1-2K: The sum of the weights of composite packaging on sheet O1-2A in the column imported to Czechia and their mass decay on sheet O1-2K in the column sales, imported to Czechia, must be equal | I66: 123 | J66: ="Error #"&I66&": " -> Error #123:
A67: Suma hodnot v modrých polích na listu O1-2B | B67: =SUM(O12B_KOMPOZITY_MODRE) -> 0 | C67: Suma hodnot v modrých polích na listu O1-2K | D67: =SUM(O12K_KOMPOZITY_MODRE) -> 0 | E67: =IF(F67<>0,IF($B$1="CZ",J67&G67&" ",J67&H67&" "),"") | F67: =B67-D67 -> 0 | G67: Chyba vyplnění na listech O1-2B a O1-2K: Součet hmotnosti kompozitních obalů na listu O1-2B ve sloupci vyrobené, nakoupené v ČR a jejich hmotnostního rozpadu na listu O1-2K ve sloupci skupinové vyrobené, nakoupené v ČR, musí být roven | H67: Fill error on sheets O1-2B and O1-2K: The sum of the weights of composite packaging on sheet O1-2B in the column produced, bought in Czechia and their mass decay on sheet O1-2K in the column group, produced, bought in Czechia, must be equal | I67: 124 | J67: ="Error #"&I67&": " -> Error #124:
A68: Suma hodnot ve žlutých polích na listu O1-2B | B68: =SUM(O12B_KOMPOZITY_ZLUTE) -> 0 | C68: Suma hodnot ve žlutých polích na listu O1-2K | D68: =SUM(O12K_KOMPOZITY_ZLUTE) -> 0 | E68: =IF(F68<>0,IF($B$1="CZ",J68&G68&" ",J68&H68&" "),"") | F68: =B68-D68 -> 0 | G68: Chyba vyplnění na listech O1-2B a O1-2K: Součet hmotnosti kompozitních obalů na listu O1-2B ve sloupci importované do ČR a jejich hmotnostního rozpadu na listu O1-2K ve sloupci skupinové importované do ČR, musí být roven | H68: Fill error on sheets O1-2B and O1-2K: The sum of the weights of composite packaging on sheet O1-2B in the column imported to Czechia and their mass decay on sheet O1-2K in the column group, imported to Czechia, must be equal | I68: 125 | J68: ="Error #"&I68&": " -> Error #125:
A69: Suma hodnot v zelených polích na listu O1-2B | B69: =SUM(O12B_KOMPOZITY_ZELENE) -> 0 | C69: Suma hodnot v zelených polích na listu O1-2K | D69: =SUM(O12K_KOMPOZITY_ZELENE) -> 0 | E69: =IF(F69<>0,IF($B$1="CZ",J69&G69&" ",J69&H69&" "),"") | F69: =B69-D69 -> 0 | G69: Chyba vyplnění na listech O1-2B a O1-2K: Součet hmotnosti kompozitních obalů na listu O1-2B ve sloupci vyrobené, nakoupené v ČR a jejich hmotnostního rozpadu na listu O1-2K ve sloupci přepravní vyrobené, nakoupené v ČR, musí být roven | H69: Fill error on sheets O1-2B and O1-2K: The sum of the weights of composite packaging on sheet O1-2B in the column produced, bought in Czechia and their mass decay on sheet O1-2K in the column transport, produced, bought in Czechia, must be equal | I69: 126 | J69: ="Error #"&I69&": " -> Error #126:
A70: Suma hodnot v šedých polích na listu O1-2B | B70: =SUM(O12B_KOMPOZITY_SEDE) -> 0 | C70: Suma hodnot v šedých polích na listu O1-2K | D70: =SUM(O12K_KOMPOZITY_SEDE) -> 0 | E70: =IF(F70<>0,IF($B$1="CZ",J70&G70&" ",J70&H70&" "),"") | F70: =B70-D70 -> 0 | G70: Chyba vyplnění na listech O1-2B a O1-2K: Součet hmotnosti kompozitních obalů na listu O1-2B ve sloupci importované do ČR a jejich hmotnostního rozpadu na listu O1-2K ve sloupci přepravní importované do ČR, musí být roven | H70: Fill error on sheets O1-2B and O1-2K: The sum of the weights of composite packaging on sheet O1-2B in the column imported to Czechia and their mass decay on sheet O1-2K in the column transport, imported to Czechia, must be equal | I70: 127 | J70: ="Error #"&I70&": " -> Error #127:
A71: Suma hodnot v červených polích na listu O1-3 | B71: =SUM(O13_KOMPOZITY_CERVENE) -> 0 | C71: Suma hodnot v červených polích na listu O1-3K | D71: =SUM(O13K_KOMPOZITY_CERVENE) -> 0 | E71: =IF(F71<>0,IF($B$1="CZ",J71&G71&" ",J71&H71&" "),"") | F71: =B71-D71 -> 0 | G71: Chyba vyplnění na listech O1-3 a O1-3K: Součet hmotnosti kompozitních obalů na listu O1-3 ve sloupci neobsahují nápoje vyrobené, nakoupené v ČR a jejich hmotnostního rozpadu na listu O1-3K ve sloupci neobsahují nápoje vyrobené, nakoupené v ČR, musí být roven | H71: Fill error on sheets O1-3 and O1-3K: The sum of the weights of composite packaging on sheet O1-3 in the column non beverage, produced, bought in Czechia and their mass decay on sheet O1-3K in the column non beverage, produced, bought in Czechia, must be equal | I71: 128 | J71: ="Error #"&I71&": " -> Error #128:
A72: Suma hodnot v oranžových polích na listu O1-3 | B72: =SUM(O13_KOMPOZITY_ORANZOVE) -> 0 | C72: Suma hodnot v oranžových polích na listu O1-3K | D72: =SUM(O13K_KOMPOZITY_ORANZOVE) -> 0 | E72: =IF(F72<>0,IF($B$1="CZ",J72&G72&" ",J72&H72&" "),"") | F72: =B72-D72 -> 0 | G72: Chyba vyplnění na listech O1-3 a O1-3K: Součet hmotnosti kompozitních obalů na listu O1-3 ve sloupci neobsahují nápoje importované do ČR a jejich hmotnostního rozpadu na listu O1-3K ve sloupci neobsahují nápoje importované do ČR, musí být roven | H72: Fill error on sheets O1-3 and O1-3K: The sum of the weights of composite packaging on sheet O1-3 in the column non beverage, imported to Czechia and their mass decay on sheet O1-3K in the column non beverage, imported to Czechia, must be equal | I72: 129 | J72: ="Error #"&I72&": " -> Error #129:
A73: Suma hodnot v zelených polích na listu O1-3 | B73: =SUM(O13_KOMPOZITY_ZELENE) -> 0 | C73: Suma hodnot v zelených polích na listu O1-3K | D73: =SUM(O13K_KOMPOZITY_ZELENE) -> 0 | E73: =IF(F73<>0,IF($B$1="CZ",J73&G73&" ",J73&H73&" "),"") | F73: =B73-D73 -> 0 | G73: Chyba vyplnění na listech O1-3 a O1-3K: Součet hmotnosti kompozitních obalů na listu O1-3 ve sloupci obsahují nápoje vyrobené, nakoupené v ČR a jejich hmotnostního rozpadu na listu O1-3K ve sloupci obsahují nápoje vyrobené, nakoupené v ČR, musí být roven | H73: Fill error on sheets O1-3 and O1-3K: The sum of the weights of composite packaging on sheet O1-3 in the column beverage, produced, bought in Czechia and their mass decay on sheet O1-3K in the column beverage, produced, bought in Czechia, must be equal | I73: 130 | J73: ="Error #"&I73&": " -> Error #130:
A74: Suma hodnot v šedých polích na listu O1-3 | B74: =SUM(O13_KOMPOZITY_SEDE) -> 0 | C74: Suma hodnot v šedých polích na listu O1-3K | D74: =SUM(O13K_KOMPOZITY_SEDE) -> 0 | E74: =IF(F74<>0,IF($B$1="CZ",J74&G74&" ",J74&H74&" "),"") | F74: =B74-D74 -> 0 | G74: Chyba vyplnění na listech O1-3 a O1-3K: Součet hmotnosti kompozitních obalů na listu O1-3 ve sloupci obsahují nápoje importované do ČR a jejich hmotnostního rozpadu na listu O1-3K ve sloupci obsahují nápoje importované do ČR, musí být roven | H74: Fill error on sheets O1-3 and O1-3K: The sum of the weights of composite packaging on sheet O1-3 in the column beverage, imported to Czechia and their mass decay on sheet O1-3K in the column beverage, imported to Czechia, must be equal | I74: 131 | J74: ="Error #"&I74&": " -> Error #131:
A76: Texty | B76: Částka - Výstupní hláška | C76: Titulek listu TEST - Výstupní hláška | D76: Částka - Hláška CZ | E76: Titulek listu TEST - Hláška CZ | F76: Částka - Hláška EN | G76: Titulek listu TEST - Hláška EN
A77: když obsahuje chyby | B77: =IF($B$1="CZ",D77,F77) -> ATTENTION, ERROR, PLEASE CORRECT! see the TEST sheet for errors specification | C77: =IF($B$1="CZ",E77,G77) -> THESE ERRORS ARE IN THE STATEMENT: | D77: POZOR, CHYBA VYPLNĚNÍ, PROSÍM OPRAVTE! popis chyb naleznete na listu TEST | E77: VÝKAZ OBSAHUJE NÁSLEDUJÍCÍ CHYBY: | F77: ATTENTION, ERROR, PLEASE CORRECT! see the TEST sheet for errors specification | G77: THESE ERRORS ARE IN THE STATEMENT:
A78: když neobsahuje chyby | C78: =IF($B$1="CZ",E78,G78) -> THE STATEMENT IS ERROR-FREE | E78: VÝKAZ JE BEZ CHYB | G78: THE STATEMENT IS ERROR-FREE
A80: List L TAŠKY - tuny | B80: List L TAŠKY - kusy | C80: Podmínka závěr kontroly | D80: Ćíslo chyby | E80: Popis chyby | F80: Výstupní hláška | G80: Hláška CZ | H80: Hláška EN
A81: =L!F12 -> 0 | B81: =L!G12 -> 0 | C81: =IF(A81=0,IF(B81=0,0,1),IF(B81=0,2,IF(A81/B81*1000000<1,3,IF(A81/B81*1000000>60,4,0)))) -> 0 | D81: 200 | E81: ="Error #"&D81&": " -> Error #200: | F81: =IF(C81>2,IF($B$1="CZ",E81&G81&" ",E81&H81&" "),IF(C81=0,"",IF($B$1="CZ",E82&G82&" ",E82&H82&" "))) | G81: Chyba vyplnění na listu L - hmotnost jednoho kusu lehké plastové tašky 15 < 50 mikronů se průměrně pohybuje od 1 do 60 gramů. | H81: Fill error on sheet L - The average weight of one piece of Lightweight plastic bag 15 < 50 microns ranges from 1 to 60 grams.
D82: 201 | E82: ="Error #"&D82&": " -> Error #201: | G82: Chyba vyplnění na listu L - lehké plastové tašky 15 < 50 mikronů - musí být vyplněny tuny i kusy. | H82: Fill error on sheets L - tons and pieces must be filled.
A83: =L!F13 -> 0 | B83: =L!G13 -> 0 | C83: =IF(A83=0,IF(B83=0,0,1),IF(B83=0,2,IF(A83/B83*1000000<0.5,3,IF(A83/B83*1000000>10,4,0)))) -> 0 | D83: 202 | E83: ="Error #"&D83&": " -> Error #202: | F83: =IF(C83>2,IF($B$1="CZ",E83&G83&" ",E83&H83&" "),IF(C83=0,"",IF($B$1="CZ",E84&G84&" ",E84&H84&" "))) | G83: Chyba vyplnění na listu L - hmotnost jednoho kusu lehké plastové tašky < 15 mikronů se průměrně pohybuje od 0,5 do 10 gramů. | H83: Fill error on sheet L - The average weight of one piece of Lightweight plastic bag < 15 microns ranges from 0,5 to 10 grams.
D84: 203 | E84: ="Error #"&D84&": " -> Error #203: | G84: Chyba vyplnění na listu L - lehké plastové tašky - musí být vyplněny tuny i kusy. | H84: Fill error on sheets L - tons and pieces must be filled.
A86: List L KELÍMKY - hmotnost plastu | B86: List L KELÍMKY - celková hmotnost | C86: Podmínka závěr kontroly | D86: Ćíslo chyby | E86: Popis chyby | F86: Výstupní hláška | G86: Hláška CZ | H86: Hláška EN
A87: =L!E9 -> 0 | B87: =L!F9 -> 0 | C87: =IF(A87=0,IF(B87=0,0,2),IF(B87=0,1,IF(A87>=B87,3,0))) -> 0 | D87: 300 | E87: ="Error #"&D87&": " -> Error #300: | F87: =IF(C87=1,IF($B$1="CZ",E87&G87&" ",E87&H87&" "),IF(C87=2,IF($B$1="CZ",E88&G88&" ",E88&H88&" "),IF(C87=3,IF($B$1="CZ",E89&G89&" ",E89&H89&" "),""))) | G87: Chyba vyplnění na listu L - je nutné vyplnit i sloupec „celková hmotnost v tunách“ u nápojového kelímku vyrobeného částečně z plastu. | H87: Error on sheet L, it is also necessary to fill in the "total weight in tonnes" column for Cups for beverages made partly from plastic.
D88: 301 | E88: ="Error #"&D88&": " -> Error #301: | G88: Chyba vyplnění na listu L - je nutné vyplnit i sloupec „hmotnost plastu v tunách“ u nápojového kelímku vyrobeného částečně z plastu. | H88: Error on sheet L, it is also necessary to fill in the "weight of plastic in tonnes" column for Cups for beverages made partly from plastic.
D89: 302 | E89: ="Error #"&D89&": " -> Error #302: | G89: Chyba na listě L, „celková hmotnost v tunách“ musí být vyšší než „hmotnost plastu v tunách“ u nápojového kelímku vyrobeného částečně z plastu. | H89: Error on sheet L, the "total weight tonnes" must be higher than the "weight of plastic in tonnes" for Cups for beverages made partly from plastic.
A91: List L NÁDOBY - hmotnost plastu | B91: List L NÁDOBY - celková hmotnost | C91: Podmínka závěr kontroly | D91: Ćíslo chyby | E91: Popis chyby | F91: Výstupní hláška | G91: Hláška CZ | H91: Hláška EN
A92: =L!E11 -> 0 | B92: =L!F11 -> 0 | C92: =IF(A92=0,IF(B92=0,0,2),IF(B92=0,1,IF(A92>=B92,3,0))) -> 0 | D92: 400 | E92: ="Error #"&D92&": " -> Error #400: | F92: =IF(C92=1,IF($B$1="CZ",E92&G92&" ",E87&H87&" "),IF(C92=2,IF($B$1="CZ",E93&G93&" ",E93&H93&" "),IF(C92=3,IF($B$1="CZ",E94&G94&" ",E94&H94&" "),""))) | G92: Chyba vyplnění na listu L - je nutné vyplnit i sloupec „celková hmotnost v tunách“ u nádoby na potraviny vyrobené částečně z plastu. | H92: Error on sheet L, it is also necessary to fill in the "total weight in tonnes" column for Food containers made partly from plastic.
D93: 401 | E93: ="Error #"&D93&": " -> Error #401: | G93: Chyba vyplnění na listu L - je nutné vyplnit i sloupec „hmotnost plastu v tunách“ u nádoby na potraviny vyrobené částečně z plastu. | H93: Error on sheet L, it is also necessary to fill in the "weight of plastic in tonnes" column for Food containers made partly from plastic.
D94: 402 | E94: ="Error #"&D94&": " -> Error #402: | G94: Chyba vyplnění na listu L, „celková hmotnost v tunách“ musí být vyšší než „hmotnost plastu v tunách“ u nádoby na potraviny vyrobené částečně z plastu. | H94: Error on sheet L, the "total weight tonnes" must be higher than the "weight of plastic in tonnes" for Food containers made partly from plastic.
A96: Sleva rPET - list J1-2A | E96: podíl recyklátu
A97: PET | B97: transparentní | C97: ='J1-2A'!I10+'J1-2A'!J10 -> 0 | D97: ='J1-2A'!K10+'J1-2A'!L10 -> 0 | E97: =IFERROR(D97/(D97+C97),0) -> 0
B98: barevný | C98: ='J1-2A'!I11+'J1-2A'!J11 -> 0 | D98: ='J1-2A'!K11+'J1-2A'!L11 -> 0 | E98: =IFERROR(D98/(D98+C98),0) -> 0
B99: neprůhledný | C99: ='J1-2A'!I12+'J1-2A'!J12 -> 0 | D99: ='J1-2A'!K12+'J1-2A'!L12 -> 0 | E99: =IFERROR(D99/(D99+C99),0) -> 0
A101: sazba bez slevy | C101: cena virgin | D101: cena recyklát
A102: PET | B102: transparentní | C102: ='J1-2A'!I10*SUM!B1043+'J1-2A'!J10*SUM!B1082 -> 0 | D102: ='J1-2A'!K10*SUM!B1109+'J1-2A'!L10*SUM!B1148 -> 0
B103: barevný | C103: ='J1-2A'!I11*SUM!B1044+'J1-2A'!J11*SUM!B1083 -> 0 | D103: ='J1-2A'!K11*SUM!B1110+'J1-2A'!L11*SUM!B1149 -> 0
B104: neprůhledný | C104: ='J1-2A'!I12*SUM!B1045+'J1-2A'!J12*SUM!B1084 -> 0 | D104: ='J1-2A'!K12*SUM!B1111+'J1-2A'!L12*SUM!B1150 -> 0
A106: sleva | C106: 6525 | D106: limit slevy
A107: PET | B107: transparentní | C107: =IF(E97<D107,((C97+D97)*E97*$C$106),((C97+D97)*D107*$C$106)) -> 0 | D107: 0.35
B108: barevný | C108: =IF(E98<D108,((C98+D98)*E98*$C$106),((C98+D98)*D108*$C$106)) -> 0 | D108: 0.35
B109: neprůhledný | C109: =IF(E99<D109,((C99+D99)*E99*$C$106),((C99+D99)*D109*$C$106)) -> 0 | D109: 0.35
C110: =SUM(C107:C109) -> 0
A111: celková cena
...

Sheet TEST
A1: =KONTROLY!C40 -> YOU COMPLETED THESE SHEETS:
A2: =IF(A4&A5&A6&A7&A8&A9&A10&A11&A12&A13&A14&A15&A16&A17&A18&A19&A20&A21&A22&A23&A24&A25&A26&A27&A28&A29&A30&A31&A32&A33&A34&A35&B4&B5&B6&B7&B8&B9&B10&B11&B12&B13&B14&B15&B16&B17&B18&B19&B20&B21&B22&B23&B24&B25&B26&B27&B28&B29&B30&B31&B32&B33&B34&B35<>"",KONTROLY!C77,KONTROLY!C78) -> THESE ERRORS ARE IN THE STATEMENT:
A4: =IF(KONTROLY!C4<>"",CONCATENATE(KONTROLY!H4,KONTROLY!C4),"") | B4: =KONTROLY!E43
A5: =IF(KONTROLY!C5<>"",CONCATENATE(KONTROLY!H5,KONTROLY!C5),"") | B5: =KONTROLY!E44
A6: =IF(KONTROLY!C6<>"",CONCATENATE(KONTROLY!H6,KONTROLY!C6),"") -> Error #3: Sheet Introduction - EKOKOM ID (ID must start with one letter and it must have 9 characters) | B6: =KONTROLY!E45
A7: =KONTROLY!C12 | B7: =KONTROLY!E46
A8: =KONTROLY!C13 | B8: =KONTROLY!E47
A9: =KONTROLY!C14 | B9: =KONTROLY!E48
A10: =KONTROLY!C15 | B10: =KONTROLY!E49
A11: =KONTROLY!C16 | B11: =KONTROLY!E50
A12: =KONTROLY!C17 | B12: =KONTROLY!E51
A13: =KONTROLY!C18 | B13: =KONTROLY!E52
A14: =KONTROLY!C19 | B14: =KONTROLY!E53
A15: =KONTROLY!C20 | B15: =KONTROLY!E54
A16: =KONTROLY!C21 | B16: =KONTROLY!E55
A17: =KONTROLY!C22 | B17: =KONTROLY!E56
A18: =KONTROLY!C23 | B18: =KONTROLY!E57
... A31: =KONTROLY!C36 | B31: =KONTROLY!E70
A32: =KONTROLY!F81 | B32: =KONTROLY!E71
A33: =KONTROLY!F83 | B33: =KONTROLY!E72
A34: =KONTROLY!F87 | B34: =KONTROLY!E73
A35: =KONTROLY!F92 | B35: =KONTROLY!E74

Sheet Introduction
A1: =KONTROLY!H1 -> 2.77E
B2: Statement about packaging production
D4: 3 | E4: . quarter 2026
B6: Company:
B8: Address:
B10: E-mail for receiving invoices:
B11: Business identification number | E11: V.A.T. identification number
B12: IČO: | E12: DIČ:
B13: Order number | E13: EKOKOM-ID:
E14: EK-
B15: Methodology for this statement you can find on www.ekokom.cz
B16: =KONTROLY!C9 -> ATTENTION!! Please check the following fields on this page: EKOKOM ID (ID must start with one letter and it must have 9 characters)
B17: Filled out statement send to: | E17: vykazy@ekokom.cz
B18: Contact person:
B19: Phone:
B20: Fax:
B21: E-mail:
B23: INVOICING ESTIMATE: | D23: =IF(TEST!A2=KONTROLY!C77,KONTROLY!B77,SUM!C1) -> ATTENTION, ERROR, PLEASE CORRECT! see the TEST sheet for errors specification

Sheet J1-1A
A1: one-way | E1: paid | I1: non-beverage | M1: sales | R1: =R10*R11*R12*R13*R14*R15*R16*R17*R18*R19*R20*R21*R22*R23*R24*R25*R26*R27*R28*R29*R30*R31*R32*R33*R34*R35*R36*R41*R42*R43*R44*R45*R46*R47*R48*R49*R50*R51*R52 -> 0
A2: J1-1A One-way packaging and packaging means (1) - paid | N2: ="IČO: "&Introduction!C12 -> IČO: | R2: 0
A3: Statement about non-beverage (2) packaging - sales packaging and packaging means placed on the market or into circulation | N3: =Introduction!D4&Introduction!E4 -> 3. quarter 2026
A4: Fill in the weight in tonnes | E4: TRADE PACKAGING (3) - Sales
E5: Soft, flexible | I5: Rigid, hollow rigid up to 3 L | M5: Hollow rigid above 3 L
E6: virgin (4) | G6: recycled (5) | I6: virgin (4) | K6: recycled (5) | M6: virgin (4) | O6: recycled (5)
E7: produced, bought in Czechia | F7: imported to Czechia | G7: produced, bought in Czechia | H7: imported to Czechia | I7: produced, bought in Czechia | J7: imported to Czechia | K7: produced, bought in Czechia | L7: imported to Czechia | M7: produced, bought in Czechia | N7: imported to Czechia | O7: produced, bought in Czechia | P7: imported to Czechia
A10: Plastics | B10: PET | C10: clear transparent (6) | R10: =E10*F10*G10*H10*I10*J10*K10*L10*M10*N10*O10*P10*$R$2 -> 0
C11: coloured transparent (8) | R11: =E11*F11*G11*H11*I11*J11*K11*L11*M11*N11*O11*P11*$R$2 -> 0
C12: coloured opaque(9) | R12: =E12*F12*G12*H12*I12*J12*K12*L12*M12*N12*O12*P12*$R$2 -> 0
B13: PE | C13: clear transparent (6) | R13: =E13*F13*G13*H13*I13*J13*K13*L13*M13*N13*O13*P13*$R$2 -> 0
C14: colour (7) | R14: =E14*F14*G14*H14*I14*J14*K14*L14*M14*N14*O14*P14*$R$2 -> 0
B15: PP | C15: clear transparent (6) | R15: =E15*F15*G15*H15*I15*J15*K15*L15*M15*N15*O15*P15*$R$2 -> 0
C16: colour (7) | R16: =E16*F16*G16*H16*I16*J16*K16*L16*M16*N16*O16*P16*$R$2 -> 0
B17: PS | C17: clear transparent (6) | R17: =E17*F17*G17*H17*I17*J17*K17*L17*M17*N17*O17*P17*$R$2 -> 0
C18: colour (7) | R18: =E18*F18*G18*H18*I18*J18*K18*L18*M18*N18*O18*P18*$R$2 -> 0
B19: XPS | C19: clear transparent (6) | R19: =E19*F19*G19*H19*I19*J19*K19*L19*M19*N19*O19*P19*$R$2 -> 0
C20: colour (7) | R20: =E20*F20*G20*H20*I20*J20*K20*L20*M20*N20*O20*P20*$R$2 -> 0
B21: EPS | C21: clear transparent (6) | R21: =E21*F21*G21*H21*I21*J21*K21*L21*M21*N21*O21*P21*$R$2 -> 0
C22: colour (7) | R22: =E22*F22*G22*H22*I22*J22*K22*L22*M22*N22*O22*P22*$R$2 -> 0
B23: PVC | C23: clear transparent (6) | R23: =E23*F23*G23*H23*I23*J23*K23*L23*M23*N23*O23*P23*$R$2 -> 0
C24: colour (7) | R24: =E24*F24*G24*H24*I24*J24*K24*L24*M24*N24*O24*P24*$R$2 -> 0
B25: Others | C25: clear transparent (6) | R25: =E25*F25*G25*H25*I25*J25*K25*L25*M25*N25*O25*P25*$R$2 -> 0
C26: colour (7) | R26: =E26*F26*G26*H26*I26*J26*K26*L26*M26*N26*O26*P26*$R$2 -> 0
B27: Bio- degradable (11) | C27: clear transparent (6) | R27: =E27*F27*G27*H27*I27*J27*K27*L27*M27*N27*O27*P27*$R$2 -> 0
C28: colour (7) | R28: =E28*F28*G28*H28*I28*J28*K28*L28*M28*N28*O28*P28*$R$2 -> 0
B29: Composite (10) | C29: clear transparent (6) | R29: =E29*F29*G29*H29*I29*J29*K29*L29*M29*N29*O29*P29*$R$2 -> 0
C30: colour (7) | R30: =E30*F30*G30*H30*I30*J30*K30*L30*M30*N30*O30*P30*$R$2 -> 0
A31: Metals | B31: Al | R31: =E31*F31*G31*H31*I31*J31*K31*L31*M31*N31*O31*P31*$R$2 -> 0
B32: Fe | C32: FE | R32: =E32*F32*G32*H32*I32*J32*K32*L32*M32*N32*O32*P32*$R$2 -> 0
B33: Composite Al (10) | R33: =E33*F33*G33*H33*I33*J33*K33*L33*M33*N33*O33*P33*$R$2 -> 0
B34: Composite Fe (10) | R34: =E34*F34*G34*H34*I34*J34*K34*L34*M34*N34*O34*P34*$R$2 -> 0
A35: Beverage carton (2,10) | R35: =I35*J35*K35*L35*M35*N35*O35*P35*$R$2 -> 0
A36: Composite material (10) | R36: =E36*F36*G36*H36*I36*J36*K36*L36*M36*N36*O36*P36*$R$2 -> 0
A38: Fill in the weight in tonnes | E38: virgin (4) | I38: recycled (5)
E39: produced, bought in Czechia | G39: imported to Czechia | I39: produced, bought in Czechia | K39: imported to Czechia
A41: Glass | B41: Clear transparent (6) | R41: =E41*G41*I41*K41*$R$2 -> 0
B42: Colour (7) | R42: =E42*G42*I42*K42*$R$2 -> 0
B43: Composite (10) | R43: =E43*G43*I43*K43*$R$2 -> 0
A44: Paper | B44: Paper | R44: =E44*G44*I44*K44*$R$2 -> 0
B45: Paperboard | R45: =E45*G45*I45*K45*$R$2 -> 0
B46: Corrugated board | R46: =E46*G46*I46*K46*$R$2 -> 0
B47: Moulded fibre | R47: =E47*G47*I47*K47*$R$2 -> 0
B48: Composite (10) | R48: =E48*G48*I48*K48*$R$2 -> 0
A49: Wood | B49: Wood and chipboard | R49: =E49*G49*I49*K49*$R$2 -> 0
B50: Composite with non-wood parts (10) | R50: =E50*G50*I50*K50*$R$2 -> 0
A51: Textile | R51: =E51*G51*I51*K51*$R$2 -> 0
A52: Others | R52: =E52*G52*I52*K52*$R$2 -> 0
A54: 1) Packaging that does not meet the criteria of Section 13 Par. 3 of the Packaging Act No. 477/2001 Coll., and packaging and packaging means listed
A55: in Part D of Annex No. 4 to the Packaging Act No. 477/2001 Coll.
A56: 2) Packaging that does not meet the criteria of Section 2 Letter v) and w) of the Packaging Act No. 477/2001 Coll.
A57: 3) Packaging that does not meet the criteria of Section 2 Letter q) of the Packaging Act No. 477/2001 Coll.
A58: 4) Amount of virgin (raw) material in the packaging.
A59: 5) Verifiable amount of recycled material in the packaging.
A60: 6) Packaging, clear without visible colour.
A61: 7) Packaging, transparent with colour or completely coloured.
A62: 8) PET packaging, transparent with colour.
A63: 9) PET packaging, fully coloured.
A64: 10) Continue filling in the sheet J1-1K.
A65: 11) Biodegradation is the aerobic or anaerobic decomposition / degradation of packaging waste; oxo-degradable plastic packaging is not considered to
A66: be biodegradable packaging.

Sheet J1-1B
A1: one-way | F1: paid | K1: non-beverage | P1: group and transport | V1: =V11*V12*V13*V14*V15*V16*V17*V18*V19*V20*V21*V22*V23*V24*V25*V26*V27*V28*V29*V30*V31*V32*V33*V34*V35*V42*V43*V44*V45*V46*V47*V48*V49*V50 -> 0
A2: J1-1B One-way packaging (1) - paid | Q2: ="IČO: "&Introduction!C12 -> IČO: | V2: 0
A3: Statement about non-beverage (2) packaging - group and transport packaging placed on the market or into circulation | Q3: =Introduction!D4&Introduction!E4 -> 3. quarter 2026
A4: Fill in the weight in tonnes | E4: TRADE PACKAGING (3)
E5: Group | M5: Transport
E6: Soft, flexible | I6: Rigid, hollow rigid | M6: Soft, flexible | Q6: Rigid, hollow rigid
E7: virgin (4) | G7: recycled (5) | I7: virgin (4) | K7: recycled (5) | M7: virgin (4) | O7: recycled (5) | Q7: virgin (4) | S7: recycled (5)
E8: produced, bought in Czechia | F8: imported to Czechia | G8: produced, bought in Czechia | H8: imported to Czechia | I8: produced, bought in Czechia | J8: imported to Czechia | K8: produced, bought in Czechia | L8: imported to Czechia | M8: produced, bought in Czechia | N8: imported to Czechia | O8: produced, bought in Czechia | P8: imported to Czechia | Q8: produced, bought in Czechia | R8: imported to Czechia | S8: produced, bought in Czechia | T8: imported to Czechia
A11: Plastics | B11: PET | C11: clear transparent (6) | V11: =E11*F11*G11*H11*I11*J11*K11*L11*M11*N11*O11*P11*Q11*R11*S11*T11*$V$2 -> 0
C12: colour (7) | V12: =E12*F12*G12*H12*I12*J12*K12*L12*M12*N12*O12*P12*Q12*R12*S12*T12*$V$2 -> 0
B13: PE | C13: clear transparent (6) | V13: =E13*F13*G13*H13*I13*J13*K13*L13*M13*N13*O13*P13*Q13*R13*S13*T13*$V$2 -> 0
C14: colour (7) | V14: =E14*F14*G14*H14*I14*J14*K14*L14*M14*N14*O14*P14*Q14*R14*S14*T14*$V$2 -> 0
B15: PP | C15: clear transparent (6) | V15: =E15*F15*G15*H15*I15*J15*K15*L15*M15*N15*O15*P15*Q15*R15*S15*T15*$V$2 -> 0
C16: colour (7) | V16: =E16*F16*G16*H16*I16*J16*K16*L16*M16*N16*O16*P16*Q16*R16*S16*T16*$V$2 -> 0
B17: PS | C17: clear transparent (6) | V17: =E17*F17*G17*H17*I17*J17*K17*L17*M17*N17*O17*P17*Q17*R17*S17*T17*$V$2 -> 0
C18: colour (7) | V18: =E18*F18*G18*H18*I18*J18*K18*L18*M18*N18*O18*P18*Q18*R18*S18*T18*$V$2 -> 0
B19: XPS | C19: clear transparent (6) | V19: =E19*F19*G19*H19*I19*J19*K19*L19*M19*N19*O19*P19*Q19*R19*S19*T19*$V$2 -> 0
C20: colour (7) | V20: =E20*F20*G20*H20*I20*J20*K20*L20*M20*N20*O20*P20*Q20*R20*S20*T20*$V$2 -> 0
B21: EPS | C21: clear transparent (6) | V21: =E21*F21*G21*H21*I21*J21*K21*L21*M21*N21*O21*P21*Q21*R21*S21*T21*$V$2 -> 0
C22: colour (7) | V22: =E22*F22*G22*H22*I22*J22*K22*L22*M22*N22*O22*P22*Q22*R22*S22*T22*$V$2 -> 0
B23: PVC | C23: clear transparent (6) | V23: =E23*F23*G23*H23*I23*J23*K23*L23*M23*N23*O23*P23*Q23*R23*S23*T23*$V$2 -> 0
C24: colour (7) | V24: =E24*F24*G24*H24*I24*J24*K24*L24*M24*N24*O24*P24*Q24*R24*S24*T24*$V$2 -> 0
B25: Others | C25: clear transparent (6) | V25: =E25*F25*G25*H25*I25*J25*K25*L25*M25*N25*O25*P25*Q25*R25*S25*T25*$V$2 -> 0
C26: colour (7) | V26: =E26*F26*G26*H26*I26*J26*K26*L26*M26*N26*O26*P26*Q26*R26*S26*T26*$V$2 -> 0
B27: Bio- degradable (8) | C27: clear transparent (6) | V27: =E27*F27*G27*H27*I27*J27*K27*L27*M27*N27*O27*P27*Q27*R27*S27*T27*$V$2 -> 0
C28: colour (7) | V28: =E28*F28*G28*H28*I28*J28*K28*L28*M28*N28*O28*P28*Q28*R28*S28*T28*$V$2 -> 0
B29: Composite (9) | C29: clear transparent (6) | V29: =E29*F29*G29*H29*I29*J29*K29*L29*M29*N29*O29*P29*Q29*R29*S29*T29*$V$2 -> 0
C30: colour (7) | V30: =E30*F30*G30*H30*I30*J30*K30*L30*M30*N30*O30*P30*Q30*R30*S30*T30*$V$2 -> 0
A31: Metals | B31: Al | V31: =E31*F31*G31*H31*I31*J31*K31*L31*M31*N31*O31*P31*Q31*R31*S31*T31*$V$2 -> 0
B32: Fe | C32: FE | V32: =E32*F32*G32*H32*I32*J32*K32*L32*M32*N32*O32*P32*Q32*R32*S32*T32*$V$2 -> 0
B33: Composite Al (9) | V33: =E33*F33*G33*H33*I33*J33*K33*L33*M33*N33*O33*P33*Q33*R33*S33*T33*$V$2 -> 0
B34: Composite Fe (9) | V34: =E34*F34*G34*H34*I34*J34*K34*L34*M34*N34*O34*P34*Q34*R34*S34*T34*$V$2 -> 0
A35: Composite material (9) | V35: =E35*F35*G35*H35*I35*J35*K35*L35*M35*N35*O35*P35*Q35*R35*S35*T35*$V$2 -> 0
A37: Fill in the weight in tonnes | E37: Group | M37: Transport
E38: virgin (4) | I38: recycled (5) | M38: virgin (4) | Q38: recycled (5)
E39: produced, bought in Czechia | G39: imported to Czechia | I39: produced, bought in Czechia | K39: imported to Czechia | M39: produced, bought in Czechia | O39: imported to Czechia | Q39: produced, bought in Czechia | S39: imported to Czechia
A42: Paper | B42: Paper | V42: =E42*G42*I42*K42*M42*O42*Q42*S42*$V$2 -> 0
B43: Paperboard | V43: =E43*G43*I43*K43*M43*O43*Q43*S43*$V$2 -> 0
B44: Corrugated board | V44: =E44*G44*I44*K44*M44*O44*Q44*S44*$V$2 -> 0
B45: Moulded fibre | V45: =E45*G45*I45*K45*M45*O45*Q45*S45*$V$2 -> 0
B46: Composite (9) | V46: =E46*G46*I46*K46*M46*O46*Q46*S46*$V$2 -> 0
A47: Wood | B47: Wood and chipboard | V47: =E47*G47*I47*K47*M47*O47*Q47*S47*$V$2 -> 0
B48: Composite with non-wood parts (9) | V48: =E48*G48*I48*K48*M48*O48*Q48*S48*$V$2 -> 0
A49: Textile | V49: =E49*G49*I49*K49*M49*O49*Q49*S49*$V$2 -> 0
A50: Others | V50: =E50*G50*I50*K50*M50*O50*Q50*S50*$V$2 -> 0
A52: 1) Packaging that does not meet the criteria of Section 13 Par. 3 of the Packaging Act No. 477/2001 Coll.
A53: 2) Packaging that does not meet the criteria of Section 2 Letter v) and w) of the Packaging Act No. 477/2001 Coll.
A54: 3) Packaging that does not meet the criteria of Section 2 Letter q) of the Packaging Act No. 477/2001 Coll.
A55: 4) Amount of virgin (raw) material in the packaging.
A56: 5) Verifiable amount of recycled material in the packaging.
A57: 6) Packaging, clear without visible colour.
A58: 7) Packaging, transparent with colour or completely coloured.
A59: 8) Biodegradation is the aerobic or anaerobic decomposition / degradation of packaging waste; oxo-degradable plastic packaging is not considered to be biodegradable packaging.
A60: 9) Continue filling in the sheet J1-1K.

Sheet J1-1K
A1: one-way | E1: paid | G1: non-beverage | I1: sales, group and transport | L1: composite | P1: =P10*P11*P12*P13*P14*P15*P16*P17*P18*P19*P20*P21 -> 0
A2: J1-1K One-way packaging and packaging means (1) - paid | K2: ="IČO: "&Introduction!C12 -> IČO: | P2: 0
A3: Supplementary statement about non-beverage (2) packaging - sales, group and transport - composite packaging placed on the market or into circulation | K3: =Introduction!D4&Introduction!E4 -> 3. quarter 2026
A5: Fill in the weight in tonnes | E5: TRADE PACKAGING (3)
E6: Sales | G6: Group | I6: Transport
E7: produced, bought in Czechia | F7: imported to Czechia | G7: produced, bought in Czechia | H7: imported to Czechia | I7: produced, bought in Czechia | J7: imported to Czechia
A10: Plastics | C10: PET | P10: =E10*F10*G10*H10*I10*J10*$P$2 -> 0
C11: PE | P11: =E11*F11*G11*H11*I11*J11*$P$2 -> 0
C12: PP | P12: =E12*F12*G12*H12*I12*J12*$P$2 -> 0
C13: PS | P13: =E13*F13*G13*H13*I13*J13*$P$2 -> 0
C14: PVC | P14: =E14*F14*G14*H14*I14*J14*$P$2 -> 0
C15: Others | P15: =E15*F15*G15*H15*I15*J15*$P$2 -> 0
A16: Metals | C16: Al | P16: =E16*F16*G16*H16*I16*J16*$P$2 -> 0
C17: Fe | P17: =E17*F17*G17*H17*I17*J17*$P$2 -> 0
A18: Glass | P18: =E18*F18*G18*H18*I18*J18*$P$2 -> 0
A19: Paper and Corrugated board | P19: =E19*F19*G19*H19*I19*J19*$P$2 -> 0
A20: Wood | P20: =E20*F20*G20*H20*I20*J20*$P$2 -> 0
A21: Others | P21: =E21*F21*G21*H21*I21*J21*$P$2 -> 0
A23: 1) Packaging that does not meet the criteria of Section 13 Par. 3 of the Packaging Act No. 477/2001 Coll., and packaging and packaging means listed
A24: in Part D of Annex No. 4 to the Packaging Act No. 477/2001 Coll.
A25: 2) Packaging that does not meet the criteria of Section 2 Letter v) and w) of the Packaging Act No. 477/2001 Coll.
A26: 3) Packaging that does not meet the criteria of Section 2 Letter q) of the Packaging Act No. 477/2001 Coll.

Sheet J1-2A
A1: one-way | E1: paid | I1: beverage | M1: sales | R1: =R10*R11*R12*R13*R14*R15*R16*R17*R18*R19*R20*R21*R22*R23*R24*R25*R26*R27*R28*R29*R30*R31*R32*R33*R34*R35*R36*R41*R42*R43*R44*R45*R46*R47*R48*R49*R50*R51*R52 -> 0
A2: J1-2A One-way packaging and packaging means (1) - paid | N2: ="IČO: "&Introduction!C12 -> IČO: | R2: 0
A3: Statement about beverage (2) packaging - sales packaging and packaging means placed on the market or into circulation | N3: =Introduction!D4&Introduction!E4 -> 3. quarter 2026
A4: Fill in the weight in tonnes | E4: TRADE PACKAGING (3) - Sales
E5: Soft, flexible | I5: Rigid, hollow rigid up to 3 L | M5: Hollow rigid above 3 L
E6: virgin (4) | G6: recycled (5) | I6: virgin (4) | K6: recycled (5) | M6: virgin (4) | O6: recycled (5)
E7: produced, bought in Czechia | F7: imported to Czechia | G7: produced, bought in Czechia | H7: imported to Czechia | I7: produced, bought in Czechia | J7: imported to Czechia | K7: produced, bought in Czechia | L7: imported to Czechia | M7: produced, bought in Czechia | N7: imported to Czechia | O7: produced, bought in Czechia | P7: imported to Czechia
A10: Plastics | B10: PET | C10: clear transparent (6) | R10: =E10*F10*G10*H10*I10*J10*K10*L10*M10*N10*O10*P10*$R$2 -> 0
C11: coloured transparent (8) | R11: =E11*F11*G11*H11*I11*J11*K11*L11*M11*N11*O11*P11*$R$2 -> 0
C12: coloured opaque(9) | R12: =E12*F12*G12*H12*I12*J12*K12*L12*M12*N12*O12*P12*$R$2 -> 0
B13: PE | C13: clear transparent (6) | R13: =E13*F13*G13*H13*I13*J13*K13*L13*M13*N13*O13*P13*$R$2 -> 0
C14: colour (7) | R14: =E14*F14*G14*H14*I14*J14*K14*L14*M14*N14*O14*P14*$R$2 -> 0
B15: PP | C15: clear transparent (6) | R15: =E15*F15*G15*H15*I15*J15*K15*L15*M15*N15*O15*P15*$R$2 -> 0
C16: colour (7) | R16: =E16*F16*G16*H16*I16*J16*K16*L16*M16*N16*O16*P16*$R$2 -> 0
B17: PS | C17: clear transparent (6) | R17: =E17*F17*G17*H17*I17*J17*K17*L17*M17*N17*O17*P17*$R$2 -> 0
C18: colour (7) | R18: =E18*F18*G18*H18*I18*J18*K18*L18*M18*N18*O18*P18*$R$2 -> 0
B19: XPS | C19: clear transparent (6) | R19: =E19*F19*G19*H19*I19*J19*K19*L19*M19*N19*O19*P19*$R$2 -> 0
C20: colour (7) | R20: =E20*F20*G20*H20*I20*J20*K20*L20*M20*N20*O20*P20*$R$2 -> 0
B21: EPS | C21: clear transparent (6) | R21: =E21*F21*G21*H21*I21*J21*K21*L21*M21*N21*O21*P21*$R$2 -> 0
C22: colour (7) | R22: =E22*F22*G22*H22*I22*J22*K22*L22*M22*N22*O22*P22*$R$2 -> 0
B23: PVC | C23: clear transparent (6) | R23: =E23*F23*G23*H23*I23*J23*K23*L23*M23*N23*O23*P23*$R$2 -> 0
C24: colour (7) | R24: =E24*F24*G24*H24*I24*J24*K24*L24*M24*N24*O24*P24*$R$2 -> 0
B25: Others | C25: clear transparent (6) | R25: =E25*F25*G25*H25*I25*J25*K25*L25*M25*N25*O25*P25*$R$2 -> 0
C26: colour (7) | R26: =E26*F26*G26*H26*I26*J26*K26*L26*M26*N26*O26*P26*$R$2 -> 0
B27: Bio- degradable (11) | C27: clear transparent (6) | R27: =E27*F27*G27*H27*I27*J27*K27*L27*M27*N27*O27*P27*$R$2 -> 0
C28: colour (7) | R28: =E28*F28*G28*H28*I28*J28*K28*L28*M28*N28*O28*P28*$R$2 -> 0
B29: Composite (10) | C29: clear transparent (6) | R29: =E29*F29*G29*H29*I29*J29*K29*L29*M29*N29*O29*P29*$R$2 -> 0
C30: colour (7) | R30: =E30*F30*G30*H30*I30*J30*K30*L30*M30*N30*O30*P30*$R$2 -> 0
A31: Metals | B31: Al | R31: =E31*F31*G31*H31*I31*J31*K31*L31*M31*N31*O31*P31*$R$2 -> 0
B32: Fe | C32: FE | R32: =E32*F32*G32*H32*I32*J32*K32*L32*M32*N32*O32*P32*$R$2 -> 0
B33: Composite Al (10) | R33: =E33*F33*G33*H33*I33*J33*K33*L33*M33*N33*O33*P33*$R$2 -> 0
B34: Composite Fe (10) | R34: =E34*F34*G34*H34*I34*J34*K34*L34*M34*N34*O34*P34*$R$2 -> 0
A35: Beverage carton (2,10) | R35: =E35*F35*G35*H35*I35*J35*K35*L35*M35*N35*O35*P35*$R$2 -> 0
A36: Composite material (10) | R36: =E36*F36*G36*H36*I36*J36*K36*L36*M36*N36*O36*P36*$R$2 -> 0
A38: Fill in the weight in tonnes | E38: virgin (4) | I38: recycled (5)
E39: produced, bought in Czechia | G39: imported to Czechia | I39: produced, bought in Czechia | K39: imported to Czechia
A41: Glass | B41: Clear transparent (6) | R41: =E41*G41*I41*K41*$R$2 -> 0
B42: Colour (7) | R42: =E42*G42*I42*K42*$R$2 -> 0
B43: Composite (10) | R43: =E43*G43*I43*K43*$R$2 -> 0
A44: Paper | B44: Paper | R44: =E44*G44*I44*K44*$R$2 -> 0
B45: Paperboard | R45: =E45*G45*I45*K45*$R$2 -> 0
B46: Corrugated board | R46: =E46*G46*I46*K46*$R$2 -> 0
B47: Moulded fibre | R47: =E47*G47*I47*K47*$R$2 -> 0
B48: Composite (10) | R48: =E48*G48*I48*K48*$R$2 -> 0
A49: Wood | B49: Wood and chipboard | R49: =E49*G49*I49*K49*$R$2 -> 0
B50: Composite with non-wood parts (10) | R50: =E50*G50*I50*K50*$R$2 -> 0
A51: Textile | R51: =E51*G51*I51*K51*$R$2 -> 0
A52: Others | R52: =E52*G52*I52*K52*$R$2 -> 0
A54: 1) Packaging that does not meet the criteria of Section 13 Par. 3 of the Packaging Act No. 477/2001 Coll., and packaging and packaging means listed
A55: in Part D of Annex No. 4 to the Packaging Act No. 477/2001 Coll.
A56: 2) Packaging that meets the criteria of Section 2 Letter v) and w) of the Packaging Act No. 477/2001 Coll.
A57: 3) Packaging that does not meet the criteria of Section 2 Letter q) of the Packaging Act No. 477/2001 Coll.
A58: 4) Amount of virgin (raw) material in the packaging.
A59: 5) Verifiable amount of recycled material in the packaging.
A60: 6) Packaging, clear without visible colour.
A61: 7) Packaging, transparent with colour or completely coloured.
A62: 8) PET packaging, transparent with colour.
A63: 9) PET packaging, fully coloured.
A64: 10) Continue filling in the sheet J1-2K.
A65: 11) Biodegradation is the aerobic or anaerobic decomposition / degradation of packaging waste; oxo-degradable plastic packaging is not considered to
A66: be biodegradable packaging.

Sheet J1-2B
A1: one-way | F1: paid | K1: beverage | P1: group and transport | V1: =V11*V12*V13*V14*V15*V16*V17*V18*V19*V20*V21*V22*V23*V24*V25*V26*V27*V28*V29*V30*V31*V32*V33*V34*V35*V42*V43*V44*V45*V46*V47*V48*V49*V50 -> 0
A2: J1-2B One-way packaging (1) - paid | Q2: ="IČO: "&Introduction!C12 -> IČO: | V2: 0
A3: Statement about beverage (2) packaging - group and transport packaging placed on the market or into circulation | Q3: =Introduction!D4&Introduction!E4 -> 3. quarter 2026
A4: Fill in the weight in tonnes | E4: TRADE PACKAGING (3)
E5: Group | M5: Transport
E6: Soft, flexible | I6: Rigid, hollow rigid | M6: Soft, flexible | Q6: Rigid, hollow rigid
E7: virgin (4) | G7: recycled (5) | I7: virgin (4) | K7: recycled (5) | M7: virgin (4) | O7: recycled (5) | Q7: virgin (4) | S7: recycled (5)
E8: produced, bought in Czechia | F8: imported to Czechia | G8: produced, bought in Czechia | H8: imported to Czechia | I8: produced, bought in Czechia | J8: imported to Czechia | K8: produced, bought in Czechia | L8: imported to Czechia | M8: produced, bought in Czechia | N8: imported to Czechia | O8: produced, bought in Czechia | P8: imported to Czechia | Q8: produced, bought in Czechia | R8: imported to Czechia | S8: produced, bought in Czechia | T8: imported to Czechia
A11: Plastics | B11: PET | C11: clear transparent (6) | V11: =E11*F11*G11*H11*I11*J11*K11*L11*M11*N11*O11*P11*Q11*R11*S11*T11*$V$2 -> 0
C12: colour (7) | V12: =E12*F12*G12*H12*I12*J12*K12*L12*M12*N12*O12*P12*Q12*R12*S12*T12*$V$2 -> 0
B13: PE | C13: clear transparent (6) | V13: =E13*F13*G13*H13*I13*J13*K13*L13*M13*N13*O13*P13*Q13*R13*S13*T13*$V$2 -> 0
C14: colour (7) | V14: =E14*F14*G14*H14*I14*J14*K14*L14*M14*N14*O14*P14*Q14*R14*S14*T14*$V$2 -> 0
B15: PP | C15: clear transparent (6) | V15: =E15*F15*G15*H15*I15*J15*K15*L15*M15*N15*O15*P15*Q15*R15*S15*T15*$V$2 -> 0
C16: colour (7) | V16: =E16*F16*G16*H16*I16*J16*K16*L16*M16*N16*O16*P16*Q16*R16*S16*T16*$V$2 -> 0
B17: PS | C17: clear transparent (6) | V17: =E17*F17*G17*H17*I17*J17*K17*L17*M17*N17*O17*P17*Q17*R17*S17*T17*$V$2 -> 0
C18: colour (7) | V18: =E18*F18*G18*H18*I18*J18*K18*L18*M18*N18*O18*P18*Q18*R18*S18*T18*$V$2 -> 0
B19: XPS | C19: clear transparent (6) | V19: =E19*F19*G19*H19*I19*J19*K19*L19*M19*N19*O19*P19*Q19*R19*S19*T19*$V$2 -> 0
C20: colour (7) | V20: =E20*F20*G20*H20*I20*J20*K20*L20*M20*N20*O20*P20*Q20*R20*S20*T20*$V$2 -> 0
B21: EPS | C21: clear transparent (6) | V21: =E21*F21*G21*H21*I21*J21*K21*L21*M21*N21*O21*P21*Q21*R21*S21*T21*$V$2 -> 0
C22: colour (7) | V22: =E22*F22*G22*H22*I22*J22*K22*L22*M22*N22*O22*P22*Q22*R22*S22*T22*$V$2 -> 0
B23: PVC | C23: clear transparent (6) | V23: =E23*F23*G23*H23*I23*J23*K23*L23*M23*N23*O23*P23*Q23*R23*S23*T23*$V$2 -> 0
C24: colour (7) | V24: =E24*F24*G24*H24*I24*J24*K24*L24*M24*N24*O24*P24*Q24*R24*S24*T24*$V$2 -> 0
B25: Others | C25: clear transparent (6) | V25: =E25*F25*G25*H25*I25*J25*K25*L25*M25*N25*O25*P25*Q25*R25*S25*T25*$V$2 -> 0
C26: colour (7) | V26: =E26*F26*G26*H26*I26*J26*K26*L26*M26*N26*O26*P26*Q26*R26*S26*T26*$V$2 -> 0
B27: Bio- degradable (8) | C27: clear transparent (6) | V27: =E27*F27*G27*H27*I27*J27*K27*L27*M27*N27*O27*P27*Q27*R27*S27*T27*$V$2 -> 0
C28: colour (7) | V28: =E28*F28*G28*H28*I28*J28*K28*L28*M28*N28*O28*P28*Q28*R28*S28*T28*$V$2 -> 0
B29: Composite (9) | C29: clear transparent (6) | V29: =E29*F29*G29*H29*I29*J29*K29*L29*M29*N29*O29*P29*Q29*R29*S29*T29*$V$2 -> 0
C30: colour (7) | V30: =E30*F30*G30*H30*I30*J30*K30*L30*M30*N30*O30*P30*Q30*R30*S30*T30*$V$2 -> 0
A31: Metals | B31: Al | V31: =E31*F31*G31*H31*I31*J31*K31*L31*M31*N31*O31*P31*Q31*R31*S31*T31*$V$2 -> 0
B32: Fe | C32: FE | V32: =E32*F32*G32*H32*I32*J32*K32*L32*M32*N32*O32*P32*Q32*R32*S32*T32*$V$2 -> 0
B33: Composite Al (9) | V33: =E33*F33*G33*H33*I33*J33*K33*L33*M33*N33*O33*P33*Q33*R33*S33*T33*$V$2 -> 0
B34: Composite Fe (9) | V34: =E34*F34*G34*H34*I34*J34*K34*L34*M34*N34*O34*P34*Q34*R34*S34*T34*$V$2 -> 0
A35: Composite material (9) | V35: =E35*F35*G35*H35*I35*J35*K35*L35*M35*N35*O35*P35*Q35*R35*S35*T35*$V$2 -> 0
A37: Fill in the weight in tonnes | E37: Group | M37: Transport
E38: virgin (4) | I38: recycled (5) | M38: virgin (4) | Q38: recycled (5)
E39: produced, bought in Czechia | G39: imported to Czechia | I39: produced, bought in Czechia | K39: imported to Czechia | M39: produced, bought in Czechia | O39: imported to Czechia | Q39: produced, bought in Czechia | S39: imported to Czechia
A42: Paper | B42: Paper | V42: =E42*G42*I42*K42*M42*O42*Q42*S42*$V$2 -> 0
B43: Paperboard | V43: =E43*G43*I43*K43*M43*O43*Q43*S43*$V$2 -> 0
B44: Corrugated board | V44: =E44*G44*I44*K44*M44*O44*Q44*S44*$V$2 -> 0
B45: Moulded fibre | V45: =E45*G45*I45*K45*M45*O45*Q45*S45*$V$2 -> 0
B46: Composite (9) | V46: =E46*G46*I46*K46*M46*O46*Q46*S46*$V$2 -> 0
A47: Wood | B47: Wood and chipboard | V47: =E47*G47*I47*K47*M47*O47*Q47*S47*$V$2 -> 0
B48: Composite with non-wood parts (9) | V48: =E48*G48*I48*K48*M48*O48*Q48*S48*$V$2 -> 0
A49: Textile | V49: =E49*G49*I49*K49*M49*O49*Q49*S49*$V$2 -> 0
A50: Others | V50: =E50*G50*I50*K50*M50*O50*Q50*S50*$V$2 -> 0
A52: 1) Packaging that does not meet the criteria of Section 13 Par. 3 of the Packaging Act No. 477/2001 Coll.
A53: 2) Packaging that meets the criteria of Section 2 Letter v) and w) of the Packaging Act No. 477/2001 Coll.
A54: 3) Packaging that does not meet the criteria of Section 2 Letter q) of the Packaging Act No. 477/2001 Coll.
A55: 4) Amount of virgin (raw) material in the packaging.
A56: 5) Verifiable amount of recycled material in the packaging.
A57: 6) Packaging, clear without visible colour.
A58: 7) Packaging, transparent with colour or completely coloured.
A59: 8) Biodegradation is the aerobic or anaerobic decomposition / degradation of packaging waste; oxo-degradable plastic packaging is not considered to be biodegradable packaging.
A60: 9) Continue filling in the sheet J1-2K.

Sheet J1-2K
A1: one-way | E1: paid | G1: beverage | I1: sales, group and transport | L1: composite | P1: =P10*P11*P12*P13*P14*P15*P16*P17*P18*P19*P20*P21 -> 0
A2: J1-2K One-way packaging and packaging means (1) - paid | K2: ="IČO: "&Introduction!C12 -> IČO: | P2: 0
A3: Supplementary statement about beverage (2) packaging - sales, group and transport - composite packaging placed on the market or into circulation | K3: =Introduction!D4&Introduction!E4 -> 3. quarter 2026
A5: Fill in the weight in tonnes | E5: TRADE PACKAGING (3)
E6: Sales | G6: Group | I6: Transport
E7: produced, bought in Czechia | F7: imported to Czechia | G7: produced, bought in Czechia | H7: imported to Czechia | I7: produced, bought in Czechia | J7: imported to Czechia
A10: Plastics | C10: PET | P10: =E10*F10*G10*H10*I10*J10*$P$2 -> 0
C11: PE | P11: =E11*F11*G11*H11*I11*J11*$P$2 -> 0
C12: PP | P12: =E12*F12*G12*H12*I12*J12*$P$2 -> 0
C13: PS | P13: =E13*F13*G13*H13*I13*J13*$P$2 -> 0
C14: PVC | P14: =E14*F14*G14*H14*I14*J14*$P$2 -> 0
C15: Others | P15: =E15*F15*G15*H15*I15*J15*$P$2 -> 0
A16: Metals | C16: Al | P16: =E16*F16*G16*H16*I16*J16*$P$2 -> 0
C17: Fe | P17: =E17*F17*G17*H17*I17*J17*$P$2 -> 0
A18: Glass | P18: =E18*F18*G18*H18*I18*J18*$P$2 -> 0
A19: Paper and Corrugated board | P19: =E19*F19*G19*H19*I19*J19*$P$2 -> 0
A20: Wood | P20: =E20*F20*G20*H20*I20*J20*$P$2 -> 0
A21: Others | P21: =E21*F21*G21*H21*I21*J21*$P$2 -> 0
A23: 1) Packaging that does not meet the criteria of Section 13 Par. 3 of the Packaging Act No. 477/2001 Coll., and packaging and packaging means listed
A24: in Part D of Annex No. 4 to the Packaging Act No. 477/2001 Coll.
A25: 2) Packaging that meets the criteria of Section 2 Letter v) and w) of the Packaging Act No. 477/2001 Coll.
A26: 3) Packaging that does not meet the criteria of Section 2 Letter q) of the Packaging Act No. 477/2001 Coll.

Sheet J1-3
A1: one-way | F1: paid | K1: industrial | P1: non-beverage and beverage | V1: =V11*V12*V13*V14*V15*V16*V17*V18*V19*V20*V21*V22*V23*V24*V25*V26*V27*V28*V29*V30*V31*V32*V33*V34*V35*V42*V43*V44*V45*V46*V47*V48*V49*V50*V51*V52*V53 -> 0
A2: J1-3 One-way packaging (1) - paid | Q2: ="IČO: "&Introduction!C12 -> IČO: | V2: 0
A3: Statement about packaging that is designated exclusively for another end user = industrial (2) - placed on the market or into circulation | Q3: =Introduction!D4&Introduction!E4 -> 3. quarter 2026
A4: Fill in the weight in tonnes | E4: INDUSTRIAL (2)
E5: Non-beverage (3) | M5: Beverage
E6: Soft, flexible | I6: Rigid, hollow rigid | M6: Soft, flexible | Q6: Rigid, hollow rigid
E7: virgin (4) | G7: recycled (5) | I7: virgin (4) | K7: recycled (5) | M7: virgin (4) | O7: recycled (5) | Q7: virgin (4) | S7: recycled (5)
E8: produced, bought in Czechia | F8: imported to Czechia | G8: produced, bought in Czechia | H8: imported to Czechia | I8: produced, bought in Czechia | J8: imported to Czechia | K8: produced, bought in Czechia | L8: imported to Czechia | M8: produced, bought in Czechia | N8: imported to Czechia | O8: produced, bought in Czechia | P8: imported to Czechia | Q8: produced, bought in Czechia | R8: imported to Czechia | S8: produced, bought in Czechia | T8: imported to Czechia
A11: Plastics | B11: PET | C11: clear transparent (6) | V11: =E11*F11*G11*H11*I11*J11*K11*L11*M11*N11*O11*P11*Q11*R11*S11*T11*$V$2 -> 0
C12: colour (7) | V12: =E12*F12*G12*H12*I12*J12*K12*L12*M12*N12*O12*P12*Q12*R12*S12*T12*$V$2 -> 0
B13: PE | C13: clear transparent (6) | V13: =E13*F13*G13*H13*I13*J13*K13*L13*M13*N13*O13*P13*Q13*R13*S13*T13*$V$2 -> 0
C14: colour (7) | V14: =E14*F14*G14*H14*I14*J14*K14*L14*M14*N14*O14*P14*Q14*R14*S14*T14*$V$2 -> 0
B15: PP | C15: clear transparent (6) | V15: =E15*F15*G15*H15*I15*J15*K15*L15*M15*N15*O15*P15*Q15*R15*S15*T15*$V$2 -> 0
C16: colour (7) | V16: =E16*F16*G16*H16*I16*J16*K16*L16*M16*N16*O16*P16*Q16*R16*S16*T16*$V$2 -> 0
B17: PS | C17: clear transparent (6) | V17: =E17*F17*G17*H17*I17*J17*K17*L17*M17*N17*O17*P17*Q17*R17*S17*T17*$V$2 -> 0
C18: colour (7) | V18: =E18*F18*G18*H18*I18*J18*K18*L18*M18*N18*O18*P18*Q18*R18*S18*T18*$V$2 -> 0
B19: XPS | C19: clear transparent (6) | V19: =E19*F19*G19*H19*I19*J19*K19*L19*M19*N19*O19*P19*Q19*R19*S19*T19*$V$2 -> 0
C20: colour (7) | V20: =E20*F20*G20*H20*I20*J20*K20*L20*M20*N20*O20*P20*Q20*R20*S20*T20*$V$2 -> 0
B21: EPS | C21: clear transparent (6) | V21: =E21*F21*G21*H21*I21*J21*K21*L21*M21*N21*O21*P21*Q21*R21*S21*T21*$V$2 -> 0
C22: colour (7) | V22: =E22*F22*G22*H22*I22*J22*K22*L22*M22*N22*O22*P22*Q22*R22*S22*T22*$V$2 -> 0
B23: PVC | C23: clear transparent (6) | V23: =E23*F23*G23*H23*I23*J23*K23*L23*M23*N23*O23*P23*Q23*R23*S23*T23*$V$2 -> 0
C24: colour (7) | V24: =E24*F24*G24*H24*I24*J24*K24*L24*M24*N24*O24*P24*Q24*R24*S24*T24*$V$2 -> 0
B25: Others | C25: clear transparent (6) | V25: =E25*F25*G25*H25*I25*J25*K25*L25*M25*N25*O25*P25*Q25*R25*S25*T25*$V$2 -> 0
C26: colour (7) | V26: =E26*F26*G26*H26*I26*J26*K26*L26*M26*N26*O26*P26*Q26*R26*S26*T26*$V$2 -> 0
B27: Bio- degradable (8) | C27: clear transparent (6) | V27: =E27*F27*G27*H27*I27*J27*K27*L27*M27*N27*O27*P27*Q27*R27*S27*T27*$V$2 -> 0
C28: colour (7) | V28: =E28*F28*G28*H28*I28*J28*K28*L28*M28*N28*O28*P28*Q28*R28*S28*T28*$V$2 -> 0
B29: Composite (9) | C29: clear transparent (6) | V29: =E29*F29*G29*H29*I29*J29*K29*L29*M29*N29*O29*P29*Q29*R29*S29*T29*$V$2 -> 0
C30: colour (7) | V30: =E30*F30*G30*H30*I30*J30*K30*L30*M30*N30*O30*P30*Q30*R30*S30*T30*$V$2 -> 0
A31: Metals | B31: Al | V31: =E31*F31*G31*H31*I31*J31*K31*L31*M31*N31*O31*P31*Q31*R31*S31*T31*$V$2 -> 0
B32: Fe | C32: FE | V32: =E32*F32*G32*H32*I32*J32*K32*L32*M32*N32*O32*P32*Q32*R32*S32*T32*$V$2 -> 0
B33: Composite Al (9) | V33: =E33*F33*G33*H33*I33*J33*K33*L33*M33*N33*O33*P33*Q33*R33*S33*T33*$V$2 -> 0
B34: Composite Fe (9) | V34: =E34*F34*G34*H34*I34*J34*K34*L34*M34*N34*O34*P34*Q34*R34*S34*T34*$V$2 -> 0
A35: Composite material (9) | V35: =E35*F35*G35*H35*I35*J35*K35*L35*M35*N35*O35*P35*Q35*R35*S35*T35*$V$2 -> 0
A37: Fill in the weight in tonnes | E37: Non-beverage (3) | M37: Beverage
E38: virgin (4) | I38: recycled (5) | M38: virgin (4) | Q38: recycled (5)
E39: produced, bought in Czechia | G39: imported to Czechia | I39: produced, bought in Czechia | K39: imported to Czechia | M39: produced, bought in Czechia | O39: imported to Czechia | Q39: produced, bought in Czechia | S39: imported to Czechia
A42: Glass | B42: Clear transparent (6) | V42: =E42*G42*I42*K42*M42*O42*Q42*S42*$V$2 -> 0
B43: Colour (7) | V43: =E43*G43*I43*K43*M43*O43*Q43*S43*$V$2 -> 0
B44: Composite (9) | V44: =E44*G44*I44*K44*M44*O44*Q44*S44*$V$2 -> 0
A45: Paper | B45: Paper | V45: =E45*G45*I45*K45*M45*O45*Q45*S45*$V$2 -> 0
B46: Paperboard | V46: =E46*G46*I46*K46*M46*O46*Q46*S46*$V$2 -> 0
B47: Corrugated board | V47: =E47*G47*I47*K47*M47*O47*Q47*S47*$V$2 -> 0
B48: Moulded fibre | V48: =E48*G48*I48*K48*M48*O48*Q48*S48*$V$2 -> 0
B49: Composite (9) | V49: =E49*G49*I49*K49*M49*O49*Q49*S49*$V$2 -> 0
A50: Wood | B50: Wood and chipboard | V50: =E50*G50*I50*K50*M50*O50*Q50*S50*$V$2 -> 0
B51: Composite with non-wood parts (9) | V51: =E51*G51*I51*K51*M51*O51*Q51*S51*$V$2 -> 0
A52: Textile | V52: =E52*G52*I52*K52*M52*O52*Q52*S52*$V$2 -> 0
A53: Others | V53: =E53*G53*I53*K53*M53*O53*Q53*S53*$V$2 -> 0
A55: 1) Packaging that does not meet the criteria of Section 13 Par. 3 of the Packaging Act No. 477/2001 Coll.
A56: 2) Packaging that meets the criteria of the Section 2 Letter q) of the Packaging Act No. 477/2001 Coll.
A57: 3) Packaging that does not meet the criteria of Section 2 Letter v) and w) of the Packaging Act No. 477/2001 Coll.
A58: 4) Amount of virgin (raw) material in the packaging.
A59: 5) Verifiable amount of recycled material in the packaging.
A60: 6) Packaging, clear without visible colour.
A61: 7) Packaging, transparent with colour or completely coloured.
A62: 8) Biodegradation is the aerobic or anaerobic decomposition / degradation of packaging waste; oxo-degradable plastic packaging is not considered to be biodegradable packaging.
A63: 9) Continue filling in the sheet J1-3K.

Sheet J1-3K
A1: one-way | E1: paid | G1: industrial | I1: non-beverage and beverage | N1: composite | R1: =R11*R12*R13*R14*R15*R16*R17*R18*R19*R20*R21*R22 -> 0
A2: J1-3K One-way packaging (1) - paid | M2: ="IČO: "&Introduction!C12 -> IČO: | R2: 0
A3: Supplementary statement about packaging that is designated exclusively for another end user = industrial (2) - composite packaging placed on the market or into circulation | M3: =Introduction!D4&Introduction!E4 -> 3. quarter 2026
A5: Fill in the weight in tonnes | E5: INDUSTRIAL (2)
E6: Non-beverage (3) | G6: Beverage
E8: produced, bought in Czechia | F8: imported to Czechia | G8: produced, bought in Czechia | H8: imported to Czechia
A11: Plastics | C11: PET | R11: =E11*F11*G11*H11*$R$2 -> 0
C12: PE | R12: =E12*F12*G12*H12*$R$2 -> 0
C13: PP | R13: =E13*F13*G13*H13*$R$2 -> 0
C14: PS | R14: =E14*F14*G14*H14*$R$2 -> 0
C15: PVC | R15: =E15*F15*G15*H15*$R$2 -> 0
C16: Others | R16: =E16*F16*G16*H16*$R$2 -> 0
A17: Metals | C17: Al | R17: =E17*F17*G17*H17*$R$2 -> 0
C18: Fe | R18: =E18*F18*G18*H18*$R$2 -> 0
A19: Glass | R19: =E19*F19*G19*H19*$R$2 -> 0
A20: Paper and Corrugated board | R20: =E20*F20*G20*H20*$R$2 -> 0
A21: Wood | R21: =E21*F21*G21*H21*$R$2 -> 0
A22: Others | R22: =E22*F22*G22*H22*$R$2 -> 0
A24: 1) Packaging that does not meet the criteria of Section 13 Par. 3 of the Packaging Act No. 477/2001 Coll.
A25: 2) Packaging that meets the criteria of the Section 2 Letter q) of the Packaging Act No. 477/2001 Coll.
A26: 3) Packaging that does not meet the criteria of Section 2 Letter v) and w) of the Packaging Act No. 477/2001 Coll.

Sheet J2
A1: one-way | E1: pre-paid | I1: sales, group, transport and industrial | N1: =N9*N10*N11*N12*N13*N14*N15*N16*N17*N18*N19*N20*N21 -> 0
A2: J2 One-way packaging and packaging means (1) - pre-paid | K2: ="IČO: "&Introduction!C12 -> IČO: | N2: 0
A3: Statement about pre-paid packaging placed on the market or into circulation | K3: =Introduction!D4&Introduction!E4 -> 3. quarter 2026
A4: Fill in the weight in tonnes | E4: TRADE PACKAGING (2) | K4: INDUSTRIAL (3)
E5: Sales | G5: Group | I5: Transport
E6: produced, bought in Czechia | F6: imported to Czechia | G6: produced, bought in Czechia | H6: imported to Czechia | I6: produced, bought in Czechia | J6: imported to Czechia | K6: produced, bought in Czechia | L6: imported to Czechia
A9: Plastics | C9: PET | N9: =E9*F9*G9*H9*I9*J9*K9*L9*$N$2 -> 0
C10: PE | N10: =E10*F10*G10*H10*I10*J10*K10*L10*$N$2 -> 0
C11: PP | N11: =E11*F11*G11*H11*I11*J11*K11*L11*$N$2 -> 0
C12: PS | N12: =E12*F12*G12*H12*I12*J12*K12*L12*$N$2 -> 0
C13: PVC | N13: =E13*F13*G13*H13*I13*J13*K13*L13*$N$2 -> 0
C14: Others | N14: =E14*F14*G14*H14*I14*J14*K14*L14*$N$2 -> 0
A15: Metals | C15: Al | N15: =E15*F15*G15*H15*I15*J15*K15*L15*$N$2 -> 0
C16: Fe | N16: =E16*F16*G16*H16*I16*J16*K16*L16*$N$2 -> 0
A17: Glass | N17: =E17*F17*G17*H17*I17*J17*K17*L17*$N$2 -> 0
A18: Paper and Corrugated board | N18: =E18*F18*G18*H18*I18*J18*K18*L18*$N$2 -> 0
A19: Wood | N19: =E19*F19*G19*H19*I19*J19*K19*L19*$N$2 -> 0
A20: Textile | N20: =E20*F20*G20*H20*I20*J20*K20*L20*$N$2 -> 0
A21: Others | N21: =E21*F21*G21*H21*I21*J21*K21*L21*$N$2 -> 0
A23: 1) Packaging that does not meet the criteria of Section 13 Par. 3 of the Packaging Act No. 477/2001 Coll., and packaging and packaging means listed in Part D of Annex No. 4 to the Packaging Act No. 477/2001 Coll.
A24: 2) Packaging that does not meet the criteria of Section 2 Letter q) of the Packaging Act No. 477/2001 Coll.
A25: 3) Packaging that meets the criteria of the Section 2 Letter q) of the Packaging Act No. 477/2001 Coll.

Sheet J3
A1: one-way | E1: non-paid | I1: sales, group, transport and industrial | N1: =N9*N10*N11*N12*N13*N14*N15*N16*N17*N18*N19*N20*N21 -> 0
A2: J3 One-way packaging and packaging means (1) - non-paid | K2: ="IČO: "&Introduction!C12 -> IČO: | N2: 0
A3: Statement about non-paid packaging placed on the market or into circulation | K3: =Introduction!D4&Introduction!E4 -> 3. quarter 2026
A4: Fill in the weight in tonnes | E4: TRADE PACKAGING (2) | K4: INDUSTRIAL (3)
E5: Sales | G5: Group | I5: Transport
E6: produced, bought in Czechia | F6: imported to Czechia | G6: produced, bought in Czechia | H6: imported to Czechia | I6: produced, bought in Czechia | J6: imported to Czechia | K6: produced, bought in Czechia | L6: imported to Czechia
A9: Plastics | C9: PET | N9: =E9*F9*G9*H9*I9*J9*K9*L9*$N$2 -> 0
C10: PE | N10: =E10*F10*G10*H10*I10*J10*K10*L10*$N$2 -> 0
C11: PP | N11: =E11*F11*G11*H11*I11*J11*K11*L11*$N$2 -> 0
C12: PS | N12: =E12*F12*G12*H12*I12*J12*K12*L12*$N$2 -> 0
C13: PVC | N13: =E13*F13*G13*H13*I13*J13*K13*L13*$N$2 -> 0
C14: Others | N14: =E14*F14*G14*H14*I14*J14*K14*L14*$N$2 -> 0
A15: Metals | C15: Al | N15: =E15*F15*G15*H15*I15*J15*K15*L15*$N$2 -> 0
C16: Fe | N16: =E16*F16*G16*H16*I16*J16*K16*L16*$N$2 -> 0
A17: Glass | N17: =E17*F17*G17*H17*I17*J17*K17*L17*$N$2 -> 0
A18: Paper and Corrugated board | N18: =E18*F18*G18*H18*I18*J18*K18*L18*$N$2 -> 0
A19: Wood | N19: =E19*F19*G19*H19*I19*J19*K19*L19*$N$2 -> 0
A20: Textile | N20: =E20*F20*G20*H20*I20*J20*K20*L20*$N$2 -> 0
A21: Others | N21: =E21*F21*G21*H21*I21*J21*K21*L21*$N$2 -> 0
A23: 1) Packaging that does not meet the criteria of Section 13 Par. 3 of the Packaging Act No. 477/2001 Coll., and packaging and packaging means listed in Part D of Annex No. 4 to the Packaging Act No. 477/2001 Coll.
A24: 2) Packaging that does not meet the criteria of Section 2 Letter q) of the Packaging Act No. 477/2001 Coll.
A25: 3) Packaging that meets the criteria of the Section 2 Letter q) of the Packaging Act No. 477/2001 Coll.

Sheet J4
A1: one-way | E1: exported | I1: sales, group, transport and industrial | N1: =N9*N10*N11*N12*N13*N14*N15*N16*N17*N18*N19*N20*N21 -> 0
A2: J4 One-way packaging and packaging means (1) - exported | K2: ="IČO: "&Introduction!C12 -> IČO: | N2: 0
A3: Statement about exported packaging placed on the market or into circulation | K3: =Introduction!D4&Introduction!E4 -> 3. quarter 2026
A4: Fill in the weight in tonnes | E4: TRADE PACKAGING (2) | K4: INDUSTRIAL (3)
E5: Sales | G5: Group | I5: Transport
E6: produced, bought in Czechia | F6: imported to Czechia | G6: produced, bought in Czechia | H6: imported to Czechia | I6: produced, bought in Czechia | J6: imported to Czechia | K6: produced, bought in Czechia | L6: imported to Czechia
A9: Plastics | C9: PET | N9: =E9*F9*G9*H9*I9*J9*K9*L9*$N$2 -> 0
C10: PE | N10: =E10*F10*G10*H10*I10*J10*K10*L10*$N$2 -> 0
C11: PP | N11: =E11*F11*G11*H11*I11*J11*K11*L11*$N$2 -> 0
C12: PS | N12: =E12*F12*G12*H12*I12*J12*K12*L12*$N$2 -> 0
C13: PVC | N13: =E13*F13*G13*H13*I13*J13*K13*L13*$N$2 -> 0
C14: Others | N14: =E14*F14*G14*H14*I14*J14*K14*L14*$N$2 -> 0
A15: Metals | C15: Al | N15: =E15*F15*G15*H15*I15*J15*K15*L15*$N$2 -> 0
C16: Fe | N16: =E16*F16*G16*H16*I16*J16*K16*L16*$N$2 -> 0
A17: Glass | N17: =E17*F17*G17*H17*I17*J17*K17*L17*$N$2 -> 0
A18: Paper and Corrugated board | N18: =E18*F18*G18*H18*I18*J18*K18*L18*$N$2 -> 0
A19: Wood | N19: =E19*F19*G19*H19*I19*J19*K19*L19*$N$2 -> 0
A20: Textile | N20: =E20*F20*G20*H20*I20*J20*K20*L20*$N$2 -> 0
A21: Others | N21: =E21*F21*G21*H21*I21*J21*K21*L21*$N$2 -> 0
A23: 1) Packaging that does not meet the criteria of Section 13 Par. 3 of the Packaging Act No. 477/2001 Coll., and packaging and packaging means listed in Part D of Annex No. 4 to the Packaging Act No. 477/2001 Coll.
A24: 2) Packaging that does not meet the criteria of Section 2 Letter q) of the Packaging Act No. 477/2001 Coll.
A25: 3) Packaging that meets the criteria of the Section 2 Letter q) of the Packaging Act No. 477/2001 Coll.

Sheet L
B1: one-way | F1: non-beverage and beverage | L1: =L6*L7*L8*L9*L10*L11*L12*L13 -> 0
A2: L - Littering packaging and packaging means (1) | I2: ="IČO: "&Introduction!C12 -> IČO: | L2: 0
A3: Statement to record single-use plastic packaging and packaging means that is subject to the obligations to pay the costs of cleaning up packaging waste according to Section 10a of the Packaging Act No. 477/2001 Coll. | I3: =Introduction!D4&Introduction!E4 -> 3. quarter 2026
E4: Paid | H4: Pre-paid | I4: Non-paid | J4: Exported
E5: weight of plastic in tonnes | F5: total weight in tonnes | G5: quantity in pieces | H5: total weight in tonnes | I5: total weight in tonnes | J5: total weight in tonnes
A6: Beverage containers (2) | L6: =F6*H6*I6*J6*$L$2 -> 0
A7: Packets and wrappers (3) | L7: =F7*H7*I7*J7*$L$2 -> 0
A8: Cups for beverages | D8: made from plastic (4) | L8: =F8*H8*I8*J8*$L$2 -> 0
D9: made partly from plastic (5) | L9: =E9*F9*H9*I9*J9*$L$2 -> 0
A10: Food containers | D10: made from plastic (6) | L10: =F10*H10*I10*J10*$L$2 -> 0
D11: made partly from plastic (7) | L11: =E11*F11*H11*I11*J11*$L$2 -> 0
A12: Plastic carrier bags (8) | D12: Lightweight plastic bag 15 < 50 microns | L12: =F12*G12*H12*I12*J12*$L$2 -> 0
D13: Lightweight plastic bag < 15 microns | L13: =F13*G13*H13*I13*J13*$L$2 -> 0
A15: 1) | B15: Packaging and packaging means listed in Part C and D of Annex No. 4 to the Packaging Act No. 477/2001 Coll.
A16: 2) | B16: Beverage containers with a capacity of up to 3 litres, i.e. receptacles used to contain liquid, e.g. beverage bottles, including their caps and lids, and composite beverage packaging, including their caps and lids, but not glass or metal beverage containers that have caps and lids made from plastic, including their caps and lids, listed in Part C of Annex No. 4 to the Packaging Act No. 477/2001 Coll.
A17: 3) | B17: Packets and wrappers made from flexible material containing food that is intended for immediate consumption from the packet or wrapper without any further preparation, listed in Part C of Annex No. 4 to the Packaging Act No. 477/2001 Coll.
A18: 4) | B18: Cups for beverages made from plastic, including their caps and lids, listed in Part D of Annex No. 4 to the Packaging Act No. 477/2001 Coll.
A19: 5) | B19: Cups for beverages made partly from plastic, including their caps and lids, listed in Part D of Annex No. 4 to the Packaging Act No. 477/2001 Coll.
A20: 6) | B20: Food containers made from plastic, i.e. receptacles such as boxes, with or without a lid, used to contain food which is: (a) intended for immediate consumption, either on-the-spot or take-away, (b) typically consumed from the receptacle, and (c) ready to be consumed without any further preparation, such as cooking, boiling or heating, including food containers used for fast food or any other meal ready for immediate consumption, except for beverage containers, plates and packets and wrappers containing food. Listed in Part D of Annex No. 4 to the Packaging Act No. 477/2001 Coll.
A21: 7) | B21: Food containers made partly from plastic, i.e. receptacles such as boxes, with or without a lid, used to contain food which is: (a) intended for immediate consumption, either on-the-spot or take-away, (b) typically consumed from the receptacle, and (c) ready to be consumed without any further preparation, such as cooking, boiling or heating, including food containers used for fast food or any other meal ready for immediate consumption, except for beverage containers, plates and packets and wrappers containing food. Listed in Part D of Annex No. 4 to the Packaging Act No. 477/2001 Coll.
A22: 8) | B22: Plastic carrier bags provided to consumers at the point of sale of the products, listed in Part C of Annex No. 4 to the Packaging Act No. 477/2001 Coll.

Sheet O1-1A
A1: reusable packaging | E1: paid | I1: non-beverage | M1: sales | R1: =R10*R11*R12*R13*R14*R15*R16*R17*R18*R19*R20*R21*R22*R23*R24*R25*R26*R27*R28*R29*R30*R31*R32*R33*R34*R35*R40*R41*R42*R43*R44*R45*R46*R47*R48*R49*R50*R51 -> 0
A2: O1-1A Reusable packaging (1) - paid | N2: ="IČO: "&Introduction!C12 -> IČO: | R2: 0
A3: Statement about non-beverage (2) packaging - sales packaging placed on the market or into circulation | N3: =Introduction!D4&Introduction!E4 -> 3. quarter 2026
A4: Fill in the weight in tonnes | E4: TRADE PACKAGING (3) - Sales
E5: Soft, flexible | I5: Rigid, hollow rigid up to 3 L | M5: Hollow rigid above 3 L
E6: virgin (4) | G6: recycled (5) | I6: virgin (4) | K6: recycled (5) | M6: virgin (4) | O6: recycled (5)
E7: produced, bought in Czechia | F7: imported to Czechia | G7: produced, bought in Czechia | H7: imported to Czechia | I7: produced, bought in Czechia | J7: imported to Czechia | K7: produced, bought in Czechia | L7: imported to Czechia | M7: produced, bought in Czechia | N7: imported to Czechia | O7: produced, bought in Czechia | P7: imported to Czechia
A10: Plastics | B10: PET | C10: clear transparent (6) | R10: =E10*F10*G10*H10*I10*J10*K10*L10*M10*N10*O10*P10*$R$2 -> 0
C11: coloured transparent (8) | R11: =E11*F11*G11*H11*I11*J11*K11*L11*M11*N11*O11*P11*$R$2 -> 0
C12: coloured opaque(9) | R12: =E12*F12*G12*H12*I12*J12*K12*L12*M12*N12*O12*P12*$R$2 -> 0
B13: PE | C13: clear transparent (6) | R13: =E13*F13*G13*H13*I13*J13*K13*L13*M13*N13*O13*P13*$R$2 -> 0
C14: colour (7) | R14: =E14*F14*G14*H14*I14*J14*K14*L14*M14*N14*O14*P14*$R$2 -> 0
B15: PP | C15: clear transparent (6) | R15: =E15*F15*G15*H15*I15*J15*K15*L15*M15*N15*O15*P15*$R$2 -> 0
C16: colour (7) | R16: =E16*F16*G16*H16*I16*J16*K16*L16*M16*N16*O16*P16*$R$2 -> 0
B17: PS | C17: clear transparent (6) | R17: =E17*F17*G17*H17*I17*J17*K17*L17*M17*N17*O17*P17*$R$2 -> 0
C18: colour (7) | R18: =E18*F18*G18*H18*I18*J18*K18*L18*M18*N18*O18*P18*$R$2 -> 0
B19: XPS | C19: clear transparent (6) | R19: =E19*F19*G19*H19*I19*J19*K19*L19*M19*N19*O19*P19*$R$2 -> 0
C20: colour (7) | R20: =E20*F20*G20*H20*I20*J20*K20*L20*M20*N20*O20*P20*$R$2 -> 0
B21: EPS | C21: clear transparent (6) | R21: =E21*F21*G21*H21*I21*J21*K21*L21*M21*N21*O21*P21*$R$2 -> 0
C22: colour (7) | R22: =E22*F22*G22*H22*I22*J22*K22*L22*M22*N22*O22*P22*$R$2 -> 0
B23: PVC | C23: clear transparent (6) | R23: =E23*F23*G23*H23*I23*J23*K23*L23*M23*N23*O23*P23*$R$2 -> 0
C24: colour (7) | R24: =E24*F24*G24*H24*I24*J24*K24*L24*M24*N24*O24*P24*$R$2 -> 0
B25: Others | C25: clear transparent (6) | R25: =E25*F25*G25*H25*I25*J25*K25*L25*M25*N25*O25*P25*$R$2 -> 0
C26: colour (7) | R26: =E26*F26*G26*H26*I26*J26*K26*L26*M26*N26*O26*P26*$R$2 -> 0
B27: Bio- degradable (11) | C27: clear transparent (6) | R27: =E27*F27*G27*H27*I27*J27*K27*L27*M27*N27*O27*P27*$R$2 -> 0
C28: colour (7) | R28: =E28*F28*G28*H28*I28*J28*K28*L28*M28*N28*O28*P28*$R$2 -> 0
B29: Composite (10) | C29: clear transparent (6) | R29: =E29*F29*G29*H29*I29*J29*K29*L29*M29*N29*O29*P29*$R$2 -> 0
C30: colour (7) | R30: =E30*F30*G30*H30*I30*J30*K30*L30*M30*N30*O30*P30*$R$2 -> 0
A31: Metals | B31: Al | R31: =E31*F31*G31*H31*I31*J31*K31*L31*M31*N31*O31*P31*$R$2 -> 0
B32: Fe | C32: FE | R32: =E32*F32*G32*H32*I32*J32*K32*L32*M32*N32*O32*P32*$R$2 -> 0
B33: Composite Al (10) | R33: =E33*F33*G33*H33*I33*J33*K33*L33*M33*N33*O33*P33*$R$2 -> 0
B34: Composite Fe (10) | R34: =E34*F34*G34*H34*I34*J34*K34*L34*M34*N34*O34*P34*$R$2 -> 0
A35: Composite material (10) | R35: =E35*F35*G35*H35*I35*J35*K35*L35*M35*N35*O35*P35*$R$2 -> 0
A37: Fill in the weight in tonnes | E37: virgin (4) | I37: recycled (5)
E38: produced, bought in Czechia | G38: imported to Czechia | I38: produced, bought in Czechia | K38: imported to Czechia
A40: Glass | B40: Clear transparent (6) | R40: =E40*G40*I40*K40*$R$2 -> 0
B41: Colour (7) | R41: =E41*G41*I41*K41*$R$2 -> 0
B42: Composite (10) | R42: =E42*G42*I42*K42*$R$2 -> 0
A43: Paper | B43: Paper | R43: =E43*G43*I43*K43*$R$2 -> 0
B44: Paperboard | R44: =E44*G44*I44*K44*$R$2 -> 0
B45: Corrugated board | R45: =E45*G45*I45*K45*$R$2 -> 0
B46: Moulded fibre | R46: =E46*G46*I46*K46*$R$2 -> 0
B47: Composite (10) | R47: =E47*G47*I47*K47*$R$2 -> 0
A48: Wood | B48: Wood and chipboard | R48: =E48*G48*I48*K48*$R$2 -> 0
B49: Composite with non-wood parts (10) | R49: =E49*G49*I49*K49*$R$2 -> 0
A50: Textile | R50: =E50*G50*I50*K50*$R$2 -> 0
A51: Others | R51: =E51*G51*I51*K51*$R$2 -> 0
A53: 1) Packaging that meets the criteria of Section 13 Par. 3 of the Packaging Act No. 477/2001 Coll.
A54: 2) Packaging that does not meet the criteria of Section 2 Letter v) and w) of the Packaging Act No. 477/2001 Coll.
A55: 3) Packaging that does not meet the criteria of Section 2 Letter q) of the Packaging Act No. 477/2001 Coll.
A56: 4) Amount of virgin (raw) material in the packaging.
A57: 5) Verifiable amount of recycled material in the packaging.
A58: 6) Packaging, clear without visible colour.
A59: 7) Packaging, transparent with colour or completely coloured.
A60: 8) PET packaging, transparent with colour.
A61: 9) PET packaging, fully coloured.
A62: 10) Continue filling in the sheet O1-1K.
A63: 11) Biodegradation is the aerobic or anaerobic decomposition / degradation of packaging waste; oxo-degradable plastic packaging is not considered to be biodegradable packaging.

Sheet O1-1B
A1: reusable packaging | F1: paid | K1: non-beverage | P1: group and transport | V1: =V11*V12*V13*V14*V15*V16*V17*V18*V19*V20*V21*V22*V23*V24*V25*V26*V27*V28*V29*V30*V31*V32*V33*V34*V35*V42*V43*V44*V45*V46*V47*V48*V49*V50 -> 0
A2: O1-1B Reusable packaging (1) - paid | Q2: ="IČO: "&Introduction!C12 -> IČO: | V2: 0
A3: Statement about non-beverage (2) packaging - group and transport packaging placed on the market or into circulation | Q3: =Introduction!D4&Introduction!E4 -> 3. quarter 2026
A4: Fill in the weight in tonnes | E4: TRADE PACKAGING (3)
E5: Group | M5: Transport
E6: Soft, flexible | I6: Rigid, hollow rigid | M6: Soft, flexible | Q6: Rigid, hollow rigid
E7: virgin (4) | G7: recycled (5) | I7: virgin (4) | K7: recycled (5) | M7: virgin (4) | O7: recycled (5) | Q7: virgin (4) | S7: recycled (5)
E8: produced, bought in Czechia | F8: imported to Czechia | G8: produced, bought in Czechia | H8: imported to Czechia | I8: produced, bought in Czechia | J8: imported to Czechia | K8: produced, bought in Czechia | L8: imported to Czechia | M8: produced, bought in Czechia | N8: imported to Czechia | O8: produced, bought in Czechia | P8: imported to Czechia | Q8: produced, bought in Czechia | R8: imported to Czechia | S8: produced, bought in Czechia | T8: imported to Czechia
A11: Plastics | B11: PET | C11: clear transparent (6) | V11: =E11*F11*G11*H11*I11*J11*K11*L11*M11*N11*O11*P11*Q11*R11*S11*T11*$V$2 -> 0
C12: colour (7) | V12: =E12*F12*G12*H12*I12*J12*K12*L12*M12*N12*O12*P12*Q12*R12*S12*T12*$V$2 -> 0
B13: PE | C13: clear transparent (6) | V13: =E13*F13*G13*H13*I13*J13*K13*L13*M13*N13*O13*P13*Q13*R13*S13*T13*$V$2 -> 0
C14: colour (7) | V14: =E14*F14*G14*H14*I14*J14*K14*L14*M14*N14*O14*P14*Q14*R14*S14*T14*$V$2 -> 0
B15: PP | C15: clear transparent (6) | V15: =E15*F15*G15*H15*I15*J15*K15*L15*M15*N15*O15*P15*Q15*R15*S15*T15*$V$2 -> 0
C16: colour (7) | V16: =E16*F16*G16*H16*I16*J16*K16*L16*M16*N16*O16*P16*Q16*R16*S16*T16*$V$2 -> 0
B17: PS | C17: clear transparent (6) | V17: =E17*F17*G17*H17*I17*J17*K17*L17*M17*N17*O17*P17*Q17*R17*S17*T17*$V$2 -> 0
C18: colour (7) | V18: =E18*F18*G18*H18*I18*J18*K18*L18*M18*N18*O18*P18*Q18*R18*S18*T18*$V$2 -> 0
B19: XPS | C19: clear transparent (6) | V19: =E19*F19*G19*H19*I19*J19*K19*L19*M19*N19*O19*P19*Q19*R19*S19*T19*$V$2 -> 0
C20: colour (7) | V20: =E20*F20*G20*H20*I20*J20*K20*L20*M20*N20*O20*P20*Q20*R20*S20*T20*$V$2 -> 0
B21: EPS | C21: clear transparent (6) | V21: =E21*F21*G21*H21*I21*J21*K21*L21*M21*N21*O21*P21*Q21*R21*S21*T21*$V$2 -> 0
C22: colour (7) | V22: =E22*F22*G22*H22*I22*J22*K22*L22*M22*N22*O22*P22*Q22*R22*S22*T22*$V$2 -> 0
B23: PVC | C23: clear transparent (6) | V23: =E23*F23*G23*H23*I23*J23*K23*L23*M23*N23*O23*P23*Q23*R23*S23*T23*$V$2 -> 0
C24: colour (7) | V24: =E24*F24*G24*H24*I24*J24*K24*L24*M24*N24*O24*P24*Q24*R24*S24*T24*$V$2 -> 0
B25: Others | C25: clear transparent (6) | V25: =E25*F25*G25*H25*I25*J25*K25*L25*M25*N25*O25*P25*Q25*R25*S25*T25*$V$2 -> 0
C26: colour (7) | V26: =E26*F26*G26*H26*I26*J26*K26*L26*M26*N26*O26*P26*Q26*R26*S26*T26*$V$2 -> 0
B27: Bio- degradable (8) | C27: clear transparent (6) | V27: =E27*F27*G27*H27*I27*J27*K27*L27*M27*N27*O27*P27*Q27*R27*S27*T27*$V$2 -> 0
C28: colour (7) | V28: =E28*F28*G28*H28*I28*J28*K28*L28*M28*N28*O28*P28*Q28*R28*S28*T28*$V$2 -> 0
B29: Composite (9) | C29: clear transparent (6) | V29: =E29*F29*G29*H29*I29*J29*K29*L29*M29*N29*O29*P29*Q29*R29*S29*T29*$V$2 -> 0
C30: colour (7) | V30: =E30*F30*G30*H30*I30*J30*K30*L30*M30*N30*O30*P30*Q30*R30*S30*T30*$V$2 -> 0
A31: Metals | B31: Al | V31: =E31*F31*G31*H31*I31*J31*K31*L31*M31*N31*O31*P31*Q31*R31*S31*T31*$V$2 -> 0
B32: Fe | C32: FE | V32: =E32*F32*G32*H32*I32*J32*K32*L32*M32*N32*O32*P32*Q32*R32*S32*T32*$V$2 -> 0
B33: Composite Al (9) | V33: =E33*F33*G33*H33*I33*J33*K33*L33*M33*N33*O33*P33*Q33*R33*S33*T33*$V$2 -> 0
B34: Composite Fe (9) | V34: =E34*F34*G34*H34*I34*J34*K34*L34*M34*N34*O34*P34*Q34*R34*S34*T34*$V$2 -> 0
A35: Composite material (9) | V35: =E35*F35*G35*H35*I35*J35*K35*L35*M35*N35*O35*P35*Q35*R35*S35*T35*$V$2 -> 0
A37: Fill in the weight in tonnes | E37: Group | M37: Transport
E38: virgin (4) | I38: recycled (5) | M38: virgin (4) | Q38: recycled (5)
E39: produced, bought in Czechia | G39: imported to Czechia | I39: produced, bought in Czechia | K39: imported to Czechia | M39: produced, bought in Czechia | O39: imported to Czechia | Q39: produced, bought in Czechia | S39: imported to Czechia
A42: Paper | B42: Paper | V42: =E42*G42*I42*K42*M42*O42*Q42*S42*$V$2 -> 0
B43: Paperboard | V43: =E43*G43*I43*K43*M43*O43*Q43*S43*$V$2 -> 0
B44: Corrugated board | V44: =E44*G44*I44*K44*M44*O44*Q44*S44*$V$2 -> 0
B45: Moulded fibre | V45: =E45*G45*I45*K45*M45*O45*Q45*S45*$V$2 -> 0
B46: Composite (9) | V46: =E46*G46*I46*K46*M46*O46*Q46*S46*$V$2 -> 0
A47: Wood | B47: Wood and chipboard | V47: =E47*G47*I47*K47*M47*O47*Q47*S47*$V$2 -> 0
B48: Composite with non-wood parts (9) | V48: =E48*G48*I48*K48*M48*O48*Q48*S48*$V$2 -> 0
A49: Textile | V49: =E49*G49*I49*K49*M49*O49*Q49*S49*$V$2 -> 0
A50: Others | V50: =E50*G50*I50*K50*M50*O50*Q50*S50*$V$2 -> 0
A52: 1) Packaging that meets the criteria of Section 13 Par. 3 of the Packaging Act No. 477/2001 Coll.
A53: 2) Packaging that does not meet the criteria of Section 2 Letter v) and w) of the Packaging Act No. 477/2001 Coll.
A54: 3) Packaging that does not meet the criteria of Section 2 Letter q) of the Packaging Act No. 477/2001 Coll.
A55: 4) Amount of virgin (raw) material in the packaging.
A56: 5) Verifiable amount of recycled material in the packaging.
A57: 6) Packaging, clear without visible colour.
A58: 7) Packaging, transparent with colour or completely coloured.
A59: 8) Biodegradation is the aerobic or anaerobic decomposition / degradation of packaging waste; oxo-degradable plastic packaging is not considered to be biodegradable packaging.
A60: 9) Continue filling in the sheet O1-1K.

Sheet O1-1K
A1: reusable packaging | E1: paid | G1: non-beverage | I1: sales, group and transport | L1: composite | P1: =P10*P11*P12*P13*P14*P15*P16*P17*P18*P19*P20*P21 -> 0
A2: O1-1K Reusable packaging (1) - paid | K2: ="IČO: "&Introduction!C12 -> IČO: | P2: 0
A3: Supplementary statement about non-beverage (2) packaging - sales, group and transport - composite packaging placed on the market or into circulation | K3: =Introduction!D4&Introduction!E4 -> 3. quarter 2026
A5: Fill in the weight in tonnes | E5: TRADE PACKAGING (3)
E6: Sales | G6: Group | I6: Transport
E7: produced, bought in Czechia | F7: imported to Czechia | G7: produced, bought in Czechia | H7: imported to Czechia | I7: produced, bought in Czechia | J7: imported to Czechia
A10: Plastics | C10: PET | P10: =E10*F10*G10*H10*I10*J10*$P$2 -> 0
C11: PE | P11: =E11*F11*G11*H11*I11*J11*$P$2 -> 0
C12: PP | P12: =E12*F12*G12*H12*I12*J12*$P$2 -> 0
C13: PS | P13: =E13*F13*G13*H13*I13*J13*$P$2 -> 0
C14: PVC | P14: =E14*F14*G14*H14*I14*J14*$P$2 -> 0
C15: Others | P15: =E15*F15*G15*H15*I15*J15*$P$2 -> 0
A16: Metals | C16: Al | P16: =E16*F16*G16*H16*I16*J16*$P$2 -> 0
C17: Fe | P17: =E17*F17*G17*H17*I17*J17*$P$2 -> 0
A18: Glass | P18: =E18*F18*G18*H18*I18*J18*$P$2 -> 0
A19: Paper and Corrugated board | P19: =E19*F19*G19*H19*I19*J19*$P$2 -> 0
A20: Wood | P20: =E20*F20*G20*H20*I20*J20*$P$2 -> 0
A21: Others | P21: =E21*F21*G21*H21*I21*J21*$P$2 -> 0
A23: 1) Packaging that meets the criteria of Section 13 Par. 3 of the Packaging Act No. 477/2001 Coll.
A24: 2) Packaging that does not meet the criteria of Section 2 Letter v) and w) of the Packaging Act No. 477/2001 Coll.
A25: 3) Packaging that does not meet the criteria of Section 2 Letter q) of the Packaging Act No. 477/2001 Coll.

Sheet O1-2A
A1: reusable packaging | E1: paid | I1: beverage | M1: sales | R1: =R10*R11*R12*R13*R14*R15*R16*R17*R18*R19*R20*R21*R22*R23*R24*R25*R26*R27*R28*R29*R30*R31*R32*R33*R34*R35*R40*R41*R42*R43*R44*R45*R46*R47*R48*R49*R50*R51 -> 0
A2: O1-2A Reusable packaging (1) - paid | N2: ="IČO: "&Introduction!C12 -> IČO: | R2: 0
A3: Statement about beverage (2) packaging - sales packaging placed on the market or into circulation | N3: =Introduction!D4&Introduction!E4 -> 3. quarter 2026
A4: Fill in the weight in tonnes | E4: TRADE PACKAGING (3) - Sales
E5: Soft, flexible | I5: Rigid, hollow rigid up to 3 L | M5: Hollow rigid above 3 L
E6: virgin (4) | G6: recycled (5) | I6: virgin (4) | K6: recycled (5) | M6: virgin (4) | O6: recycled (5)
E7: produced, bought in Czechia | F7: imported to Czechia | G7: produced, bought in Czechia | H7: imported to Czechia | I7: produced, bought in Czechia | J7: imported to Czechia | K7: produced, bought in Czechia | L7: imported to Czechia | M7: produced, bought in Czechia | N7: imported to Czechia | O7: produced, bought in Czechia | P7: imported to Czechia
A10: Plastics | B10: PET | C10: clear transparent (6) | R10: =E10*F10*G10*H10*I10*J10*K10*L10*M10*N10*O10*P10*$R$2 -> 0
C11: coloured transparent (8) | R11: =E11*F11*G11*H11*I11*J11*K11*L11*M11*N11*O11*P11*$R$2 -> 0
C12: coloured opaque(9) | R12: =E12*F12*G12*H12*I12*J12*K12*L12*M12*N12*O12*P12*$R$2 -> 0
B13: PE | C13: clear transparent (6) | R13: =E13*F13*G13*H13*I13*J13*K13*L13*M13*N13*O13*P13*$R$2 -> 0
C14: colour (7) | R14: =E14*F14*G14*H14*I14*J14*K14*L14*M14*N14*O14*P14*$R$2 -> 0
B15: PP | C15: clear transparent (6) | R15: =E15*F15*G15*H15*I15*J15*K15*L15*M15*N15*O15*P15*$R$2 -> 0
C16: colour (7) | R16: =E16*F16*G16*H16*I16*J16*K16*L16*M16*N16*O16*P16*$R$2 -> 0
B17: PS | C17: clear transparent (6) | R17: =E17*F17*G17*H17*I17*J17*K17*L17*M17*N17*O17*P17*$R$2 -> 0
C18: colour (7) | R18: =E18*F18*G18*H18*I18*J18*K18*L18*M18*N18*O18*P18*$R$2 -> 0
B19: XPS | C19: clear transparent (6) | R19: =E19*F19*G19*H19*I19*J19*K19*L19*M19*N19*O19*P19*$R$2 -> 0
C20: colour (7) | R20: =E20*F20*G20*H20*I20*J20*K20*L20*M20*N20*O20*P20*$R$2 -> 0
B21: EPS | C21: clear transparent (6) | R21: =E21*F21*G21*H21*I21*J21*K21*L21*M21*N21*O21*P21*$R$2 -> 0
C22: colour (7) | R22: =E22*F22*G22*H22*I22*J22*K22*L22*M22*N22*O22*P22*$R$2 -> 0
B23: PVC | C23: clear transparent (6) | R23: =E23*F23*G23*H23*I23*J23*K23*L23*M23*N23*O23*P23*$R$2 -> 0
C24: colour (7) | R24: =E24*F24*G24*H24*I24*J24*K24*L24*M24*N24*O24*P24*$R$2 -> 0
B25: Others | C25: clear transparent (6) | R25: =E25*F25*G25*H25*I25*J25*K25*L25*M25*N25*O25*P25*$R$2 -> 0
C26: colour (7) | R26: =E26*F26*G26*H26*I26*J26*K26*L26*M26*N26*O26*P26*$R$2 -> 0
B27: Bio- degradable (11) | C27: clear transparent (6) | R27: =E27*F27*G27*H27*I27*J27*K27*L27*M27*N27*O27*P27*$R$2 -> 0
C28: colour (7) | R28: =E28*F28*G28*H28*I28*J28*K28*L28*M28*N28*O28*P28*$R$2 -> 0
B29: Composite (10) | C29: clear transparent (6) | R29: =E29*F29*G29*H29*I29*J29*K29*L29*M29*N29*O29*P29*$R$2 -> 0
C30: colour (7) | R30: =E30*F30*G30*H30*I30*J30*K30*L30*M30*N30*O30*P30*$R$2 -> 0
A31: Metals | B31: Al | R31: =E31*F31*G31*H31*I31*J31*K31*L31*M31*N31*O31*P31*$R$2 -> 0
B32: Fe | C32: FE | R32: =E32*F32*G32*H32*I32*J32*K32*L32*M32*N32*O32*P32*$R$2 -> 0
B33: Composite Al (10) | R33: =E33*F33*G33*H33*I33*J33*K33*L33*M33*N33*O33*P33*$R$2 -> 0
B34: Composite Fe (10) | R34: =E34*F34*G34*H34*I34*J34*K34*L34*M34*N34*O34*P34*$R$2 -> 0
A35: Composite material (10) | R35: =E35*F35*G35*H35*I35*J35*K35*L35*M35*N35*O35*P35*$R$2 -> 0
A37: Fill in the weight in tonnes | E37: virgin (4) | I37: recycled (5)
E38: produced, bought in Czechia | G38: imported to Czechia | I38: produced, bought in Czechia | K38: imported to Czechia
A40: Glass | B40: Clear transparent (6) | R40: =E40*G40*I40*K40*$R$2 -> 0
B41: Colour (7) | R41: =E41*G41*I41*K41*$R$2 -> 0
B42: Composite (10) | R42: =E42*G42*I42*K42*$R$2 -> 0
A43: Paper | B43: Paper | R43: =E43*G43*I43*K43*$R$2 -> 0
B44: Paperboard | R44: =E44*G44*I44*K44*$R$2 -> 0
B45: Corrugated board | R45: =E45*G45*I45*K45*$R$2 -> 0
B46: Moulded fibre | R46: =E46*G46*I46*K46*$R$2 -> 0
B47: Composite (10) | R47: =E47*G47*I47*K47*$R$2 -> 0
A48: Wood | B48: Wood and chipboard | R48: =E48*G48*I48*K48*$R$2 -> 0
B49: Composite with non-wood parts (10) | R49: =E49*G49*I49*K49*$R$2 -> 0
A50: Textile | R50: =E50*G50*I50*K50*$R$2 -> 0
A51: Others | R51: =E51*G51*I51*K51*$R$2 -> 0
A53: 1) Packaging that meets the criteria of Section 13 Par. 3 of the Packaging Act No. 477/2001 Coll.
A54: 2) Packaging that meets the criteria of Section 2 Letter v) and w) of the Packaging Act No. 477/2001 Coll.
A55: 3) Packaging that does not meet the criteria of Section 2 Letter q) of the Packaging Act No. 477/2001 Coll.
A56: 4) Amount of virgin (raw) material in the packaging.
A57: 5) Verifiable amount of recycled material in the packaging.
A58: 6) Packaging, clear without visible colour.
A59: 7) Packaging, transparent with colour or completely coloured.
A60: 8) PET packaging, transparent with colour.
A61: 9) PET packaging, fully coloured.
A62: 10) Continue filling in the sheet O1-2K.
A63: 11) Biodegradation is the aerobic or anaerobic decomposition / degradation of packaging waste; oxo-degradable plastic packaging is not considered to be biodegradable packaging.

Sheet O1-2B
A1: reusable packaging | F1: paid | K1: beverage | P1: group and transport | V1: =V11*V12*V13*V14*V15*V16*V17*V18*V19*V20*V21*V22*V23*V24*V25*V26*V27*V28*V29*V30*V31*V32*V33*V34*V35*V42*V43*V44*V45*V46*V47*V48*V49*V50 -> 0
A2: O1-2B Reusable packaging (1) - paid | R2: ="IČO: "&Introduction!C12 -> IČO: | V2: 0
A3: Statement about beverage (2) packaging - group and transport packaging placed on the market or into circulation | R3: =Introduction!D4&Introduction!E4 -> 3. quarter 2026
A4: Fill in the weight in tonnes | E4: TRADE PACKAGING (3)
E5: Group | M5: Transport
E6: Soft, flexible | I6: Rigid, hollow rigid | M6: Soft, flexible | Q6: Rigid, hollow rigid
E7: virgin (4) | G7: recycled (5) | I7: virgin (4) | K7: recycled (5) | M7: virgin (4) | O7: recycled (5) | Q7: virgin (4) | S7: recycled (5)
E8: produced, bought in Czechia | F8: imported to Czechia | G8: produced, bought in Czechia | H8: imported to Czechia | I8: produced, bought in Czechia | J8: imported to Czechia | K8: produced, bought in Czechia | L8: imported to Czechia | M8: produced, bought in Czechia | N8: imported to Czechia | O8: produced, bought in Czechia | P8: imported to Czechia | Q8: produced, bought in Czechia | R8: imported to Czechia | S8: produced, bought in Czechia | T8: imported to Czechia
A11: Plastics | B11: PET | C11: clear transparent (6) | V11: =E11*F11*G11*H11*I11*J11*K11*L11*M11*N11*O11*P11*Q11*R11*S11*T11*$V$2 -> 0
C12: colour (7) | V12: =E12*F12*G12*H12*I12*J12*K12*L12*M12*N12*O12*P12*Q12*R12*S12*T12*$V$2 -> 0
B13: PE | C13: clear transparent (6) | V13: =E13*F13*G13*H13*I13*J13*K13*L13*M13*N13*O13*P13*Q13*R13*S13*T13*$V$2 -> 0
C14: colour (7) | V14: =E14*F14*G14*H14*I14*J14*K14*L14*M14*N14*O14*P14*Q14*R14*S14*T14*$V$2 -> 0
B15: PP | C15: clear transparent (6) | V15: =E15*F15*G15*H15*I15*J15*K15*L15*M15*N15*O15*P15*Q15*R15*S15*T15*$V$2 -> 0
C16: colour (7) | V16: =E16*F16*G16*H16*I16*J16*K16*L16*M16*N16*O16*P16*Q16*R16*S16*T16*$V$2 -> 0
B17: PS | C17: clear transparent (6) | V17: =E17*F17*G17*H17*I17*J17*K17*L17*M17*N17*O17*P17*Q17*R17*S17*T17*$V$2 -> 0
C18: colour (7) | V18: =E18*F18*G18*H18*I18*J18*K18*L18*M18*N18*O18*P18*Q18*R18*S18*T18*$V$2 -> 0
B19: XPS | C19: clear transparent (6) | V19: =E19*F19*G19*H19*I19*J19*K19*L19*M19*N19*O19*P19*Q19*R19*S19*T19*$V$2 -> 0
C20: colour (7) | V20: =E20*F20*G20*H20*I20*J20*K20*L20*M20*N20*O20*P20*Q20*R20*S20*T20*$V$2 -> 0
B21: EPS | C21: clear transparent (6) | V21: =E21*F21*G21*H21*I21*J21*K21*L21*M21*N21*O21*P21*Q21*R21*S21*T21*$V$2 -> 0
C22: colour (7) | V22: =E22*F22*G22*H22*I22*J22*K22*L22*M22*N22*O22*P22*Q22*R22*S22*T22*$V$2 -> 0
B23: PVC | C23: clear transparent (6) | V23: =E23*F23*G23*H23*I23*J23*K23*L23*M23*N23*O23*P23*Q23*R23*S23*T23*$V$2 -> 0
C24: colour (7) | V24: =E24*F24*G24*H24*I24*J24*K24*L24*M24*N24*O24*P24*Q24*R24*S24*T24*$V$2 -> 0
B25: Others | C25: clear transparent (6) | V25: =E25*F25*G25*H25*I25*J25*K25*L25*M25*N25*O25*P25*Q25*R25*S25*T25*$V$2 -> 0
C26: colour (7) | V26: =E26*F26*G26*H26*I26*J26*K26*L26*M26*N26*O26*P26*Q26*R26*S26*T26*$V$2 -> 0
B27: Bio- degradable (8) | C27: clear transparent (6) | V27: =E27*F27*G27*H27*I27*J27*K27*L27*M27*N27*O27*P27*Q27*R27*S27*T27*$V$2 -> 0
C28: colour (7) | V28: =E28*F28*G28*H28*I28*J28*K28*L28*M28*N28*O28*P28*Q28*R28*S28*T28*$V$2 -> 0
B29: Composite (9) | C29: clear transparent (6) | V29: =E29*F29*G29*H29*I29*J29*K29*L29*M29*N29*O29*P29*Q29*R29*S29*T29*$V$2 -> 0
C30: colour (7) | V30: =E30*F30*G30*H30*I30*J30*K30*L30*M30*N30*O30*P30*Q30*R30*S30*T30*$V$2 -> 0
A31: Metals | B31: Al | V31: =E31*F31*G31*H31*I31*J31*K31*L31*M31*N31*O31*P31*Q31*R31*S31*T31*$V$2 -> 0
B32: Fe | C32: FE | V32: =E32*F32*G32*H32*I32*J32*K32*L32*M32*N32*O32*P32*Q32*R32*S32*T32*$V$2 -> 0
B33: Composite Al (9) | V33: =E33*F33*G33*H33*I33*J33*K33*L33*M33*N33*O33*P33*Q33*R33*S33*T33*$V$2 -> 0
B34: Composite Fe (9) | V34: =E34*F34*G34*H34*I34*J34*K34*L34*M34*N34*O34*P34*Q34*R34*S34*T34*$V$2 -> 0
A35: Composite material (9) | V35: =E35*F35*G35*H35*I35*J35*K35*L35*M35*N35*O35*P35*Q35*R35*S35*T35*$V$2 -> 0
A37: Fill in the weight in tonnes | E37: Group | M37: Transport
E38: virgin (4) | I38: recycled (5) | M38: virgin (4) | Q38: recycled (5)
E39: produced, bought in Czechia | G39: imported to Czechia | I39: produced, bought in Czechia | K39: imported to Czechia | M39: produced, bought in Czechia | O39: imported to Czechia | Q39: produced, bought in Czechia | S39: imported to Czechia
A42: Paper | B42: Paper | V42: =E42*G42*I42*K42*M42*O42*Q42*S42*$V$2 -> 0
B43: Paperboard | V43: =E43*G43*I43*K43*M43*O43*Q43*S43*$V$2 -> 0
B44: Corrugated board | V44: =E44*G44*I44*K44*M44*O44*Q44*S44*$V$2 -> 0
B45: Moulded fibre | V45: =E45*G45*I45*K45*M45*O45*Q45*S45*$V$2 -> 0
B46: Composite (9) | V46: =E46*G46*I46*K46*M46*O46*Q46*S46*$V$2 -> 0
A47: Wood | B47: Wood and chipboard | V47: =E47*G47*I47*K47*M47*O47*Q47*S47*$V$2 -> 0
B48: Composite with non-wood parts (9) | V48: =E48*G48*I48*K48*M48*O48*Q48*S48*$V$2 -> 0
A49: Textile | V49: =E49*G49*I49*K49*M49*O49*Q49*S49*$V$2 -> 0
A50: Others | V50: =E50*G50*I50*K50*M50*O50*Q50*S50*$V$2 -> 0
A52: 1) Packaging that meets the criteria of Section 13 Par. 3 of the Packaging Act No. 477/2001 Coll.
A53: 2) Packaging that meets the criteria of Section 2 Letter v) and w) of the Packaging Act No. 477/2001 Coll.
A54: 3) Packaging that does not meet the criteria of Section 2 Letter q) of the Packaging Act No. 477/2001 Coll.
A55: 4) Amount of virgin (raw) material in the packaging.
A56: 5) Verifiable amount of recycled material in the packaging.
A57: 6) Packaging, clear without visible colour.
A58: 7) Packaging, transparent with colour or completely coloured.
A59: 8) Biodegradation is the aerobic or anaerobic decomposition / degradation of packaging waste; oxo-degradable plastic packaging is not considered to be biodegradable packaging.
A60: 9) Continue filling in the sheet O1-2K.

Sheet O1-2K
A1: reusable packaging | E1: paid | G1: beverage | I1: sales, group and transport | L1: composite | P1: =P10*P11*P12*P13*P14*P15*P16*P17*P18*P19*P20*P21 -> 0
A2: O1-2K Reusable packaging (1) - paid | K2: ="IČO: "&Introduction!C12 -> IČO: | P2: 0
A3: Supplementary statement about beverage (2) packaging - sales, group and transport - composite packaging placed on the market or into circulation | K3: =Introduction!D4&Introduction!E4 -> 3. quarter 2026
A5: Fill in the weight in tonnes | E5: TRADE PACKAGING (3)
E6: Sales | G6: Group | I6: Transport
E7: produced, bought in Czechia | F7: imported to Czechia | G7: produced, bought in Czechia | H7: imported to Czechia | I7: produced, bought in Czechia | J7: imported to Czechia
A10: Plastics | C10: PET | P10: =E10*F10*G10*H10*I10*J10*$P$2 -> 0
C11: PE | P11: =E11*F11*G11*H11*I11*J11*$P$2 -> 0
C12: PP | P12: =E12*F12*G12*H12*I12*J12*$P$2 -> 0
C13: PS | P13: =E13*F13*G13*H13*I13*J13*$P$2 -> 0
C14: PVC | P14: =E14*F14*G14*H14*I14*J14*$P$2 -> 0
C15: Others | P15: =E15*F15*G15*H15*I15*J15*$P$2 -> 0
A16: Metals | C16: Al | P16: =E16*F16*G16*H16*I16*J16*$P$2 -> 0
C17: Fe | P17: =E17*F17*G17*H17*I17*J17*$P$2 -> 0
A18: Glass | P18: =E18*F18*G18*H18*I18*J18*$P$2 -> 0
A19: Paper and Corrugated board | P19: =E19*F19*G19*H19*I19*J19*$P$2 -> 0
A20: Wood | P20: =E20*F20*G20*H20*I20*J20*$P$2 -> 0
A21: Others | P21: =E21*F21*G21*H21*I21*J21*$P$2 -> 0
A23: 1) Packaging that meets the criteria of Section 13 Par. 3 of the Packaging Act No. 477/2001 Coll.
A24: 2) Packaging that meets the criteria of Section 2 Letter v) and w) of the Packaging Act No. 477/2001 Coll.
A25: 3) Packaging that does not meet the criteria of Section 2 Letter q) of the Packaging Act No. 477/2001 Coll.

Sheet O1-3
A1: reusable packaging | F1: paid | K1: industrial | P1: non-beverage and beverage | V1: =V11*V12*V13*V14*V15*V16*V17*V18*V19*V20*V21*V22*V23*V24*V25*V26*V27*V28*V29*V30*V31*V32*V33*V34*V35*V42*V43*V44*V45*V46*V47*V48*V49*V50*V51*V52*V53 -> 0
A2: O1-3 Reusable packaging (1) - paid | Q2: ="IČO: "&Introduction!C12 -> IČO: | V2: 0
A3: Statement about packaging that is designated exclusively for another end user = industrial (2) - placed on the market or into circulation | Q3: =Introduction!D4&Introduction!E4 -> 3. quarter 2026
A4: Fill in the weight in tonnes | E4: INDUSTRIAL (2)
E5: Non-beverage (3) | M5: Beverage
E6: Soft, flexible | I6: Rigid, hollow rigid | M6: Soft, flexible | Q6: Rigid, hollow rigid
E7: virgin (4) | G7: recycled (5) | I7: virgin (4) | K7: recycled (5) | M7: virgin (4) | O7: recycled (5) | Q7: virgin (4) | S7: recycled (5)
E8: produced, bought in Czechia | F8: imported to Czechia | G8: produced, bought in Czechia | H8: imported to Czechia | I8: produced, bought in Czechia | J8: imported to Czechia | K8: produced, bought in Czechia | L8: imported to Czechia | M8: produced, bought in Czechia | N8: imported to Czechia | O8: produced, bought in Czechia | P8: imported to Czechia | Q8: produced, bought in Czechia | R8: imported to Czechia | S8: produced, bought in Czechia | T8: imported to Czechia
A11: Plastics | B11: PET | C11: clear transparent (6) | V11: =E11*F11*G11*H11*I11*J11*K11*L11*M11*N11*O11*P11*Q11*R11*S11*T11*$V$2 -> 0
C12: colour (7) | V12: =E12*F12*G12*H12*I12*J12*K12*L12*M12*N12*O12*P12*Q12*R12*S12*T12*$V$2 -> 0
B13: PE | C13: clear transparent (6) | V13: =E13*F13*G13*H13*I13*J13*K13*L13*M13*N13*O13*P13*Q13*R13*S13*T13*$V$2 -> 0
C14: colour (7) | V14: =E14*F14*G14*H14*I14*J14*K14*L14*M14*N14*O14*P14*Q14*R14*S14*T14*$V$2 -> 0
B15: PP | C15: clear transparent (6) | V15: =E15*F15*G15*H15*I15*J15*K15*L15*M15*N15*O15*P15*Q15*R15*S15*T15*$V$2 -> 0
C16: colour (7) | V16: =E16*F16*G16*H16*I16*J16*K16*L16*M16*N16*O16*P16*Q16*R16*S16*T16*$V$2 -> 0
B17: PS | C17: clear transparent (6) | V17: =E17*F17*G17*H17*I17*J17*K17*L17*M17*N17*O17*P17*Q17*R17*S17*T17*$V$2 -> 0
C18: colour (7) | V18: =E18*F18*G18*H18*I18*J18*K18*L18*M18*N18*O18*P18*Q18*R18*S18*T18*$V$2 -> 0
B19: XPS | C19: clear transparent (6) | V19: =E19*F19*G19*H19*I19*J19*K19*L19*M19*N19*O19*P19*Q19*R19*S19*T19*$V$2 -> 0
C20: colour (7) | V20: =E20*F20*G20*H20*I20*J20*K20*L20*M20*N20*O20*P20*Q20*R20*S20*T20*$V$2 -> 0
B21: EPS | C21: clear transparent (6) | V21: =E21*F21*G21*H21*I21*J21*K21*L21*M21*N21*O21*P21*Q21*R21*S21*T21*$V$2 -> 0
C22: colour (7) | V22: =E22*F22*G22*H22*I22*J22*K22*L22*M22*N22*O22*P22*Q22*R22*S22*T22*$V$2 -> 0
B23: PVC | C23: clear transparent (6) | V23: =E23*F23*G23*H23*I23*J23*K23*L23*M23*N23*O23*P23*Q23*R23*S23*T23*$V$2 -> 0
C24: colour (7) | V24: =E24*F24*G24*H24*I24*J24*K24*L24*M24*N24*O24*P24*Q24*R24*S24*T24*$V$2 -> 0
B25: Others | C25: clear transparent (6) | V25: =E25*F25*G25*H25*I25*J25*K25*L25*M25*N25*O25*P25*Q25*R25*S25*T25*$V$2 -> 0
C26: colour (7) | V26: =E26*F26*G26*H26*I26*J26*K26*L26*M26*N26*O26*P26*Q26*R26*S26*T26*$V$2 -> 0
B27: Bio- degradable (8) | C27: clear transparent (6) | V27: =E27*F27*G27*H27*I27*J27*K27*L27*M27*N27*O27*P27*Q27*R27*S27*T27*$V$2 -> 0
C28: colour (7) | V28: =E28*F28*G28*H28*I28*J28*K28*L28*M28*N28*O28*P28*Q28*R28*S28*T28*$V$2 -> 0
B29: Composite (9) | C29: clear transparent (6) | V29: =E29*F29*G29*H29*I29*J29*K29*L29*M29*N29*O29*P29*Q29*R29*S29*T29*$V$2 -> 0
C30: colour (7) | V30: =E30*F30*G30*H30*I30*J30*K30*L30*M30*N30*O30*P30*Q30*R30*S30*T30*$V$2 -> 0
A31: Metals | B31: Al | V31: =E31*F31*G31*H31*I31*J31*K31*L31*M31*N31*O31*P31*Q31*R31*S31*T31*$V$2 -> 0
B32: Fe | C32: FE | V32: =E32*F32*G32*H32*I32*J32*K32*L32*M32*N32*O32*P32*Q32*R32*S32*T32*$V$2 -> 0
B33: Composite Al (9) | V33: =E33*F33*G33*H33*I33*J33*K33*L33*M33*N33*O33*P33*Q33*R33*S33*T33*$V$2 -> 0
B34: Composite Fe (9) | V34: =E34*F34*G34*H34*I34*J34*K34*L34*M34*N34*O34*P34*Q34*R34*S34*T34*$V$2 -> 0
A35: Composite material (9) | V35: =E35*F35*G35*H35*I35*J35*K35*L35*M35*N35*O35*P35*Q35*R35*S35*T35*$V$2 -> 0
A37: Fill in the weight in tonnes | E37: Non-beverage (3) | M37: Beverage
E38: virgin (4) | I38: recycled (5) | M38: virgin (4) | Q38: recycled (5)
E39: produced, bought in Czechia | G39: imported to Czechia | I39: produced, bought in Czechia | K39: imported to Czechia | M39: produced, bought in Czechia | O39: imported to Czechia | Q39: produced, bought in Czechia | S39: imported to Czechia
A42: Glass | B42: Clear transparent (6) | V42: =E42*G42*I42*K42*M42*O42*Q42*S42*$V$2 -> 0
B43: Colour (7) | V43: =E43*G43*I43*K43*M43*O43*Q43*S43*$V$2 -> 0
B44: Composite (9) | V44: =E44*G44*I44*K44*M44*O44*Q44*S44*$V$2 -> 0
A45: Paper | B45: Paper | V45: =E45*G45*I45*K45*M45*O45*Q45*S45*$V$2 -> 0
B46: Paperboard | V46: =E46*G46*I46*K46*M46*O46*Q46*S46*$V$2 -> 0
B47: Corrugated board | V47: =E47*G47*I47*K47*M47*O47*Q47*S47*$V$2 -> 0
B48: Moulded fibre | V48: =E48*G48*I48*K48*M48*O48*Q48*S48*$V$2 -> 0
B49: Composite (9) | V49: =E49*G49*I49*K49*M49*O49*Q49*S49*$V$2 -> 0
A50: Wood | B50: Wood and chipboard | V50: =E50*G50*I50*K50*M50*O50*Q50*S50*$V$2 -> 0
B51: Composite with non-wood parts (9) | V51: =E51*G51*I51*K51*M51*O51*Q51*S51*$V$2 -> 0
A52: Textile | V52: =E52*G52*I52*K52*M52*O52*Q52*S52*$V$2 -> 0
A53: Others | V53: =E53*G53*I53*K53*M53*O53*Q53*S53*$V$2 -> 0
A55: 1) Packaging that meets the criteria of Section 13 Par. 3 of the Packaging Act No. 477/2001 Coll.
A56: 2) Packaging that meets the criteria of the Section 2 Letter q) of the Packaging Act No. 477/2001 Coll.
A57: 3) Packaging that does not meet the criteria of Section 2 Letter v) and w) of the Packaging Act No. 477/2001 Coll.
A58: 4) Amount of virgin (raw) material in the packaging.
A59: 5) Verifiable amount of recycled material in the packaging.
A60: 6) Packaging, clear without visible colour.
A61: 7) Packaging, transparent with colour or completely coloured.
A62: 8) Biodegradation is the aerobic or anaerobic decomposition / degradation of packaging waste; oxo-degradable plastic packaging is not considered to be biodegradable packaging.
A63: 9) Continue filling in the sheet O1-3K.

Sheet O1-3K
A1: reusable packaging | E1: paid | G1: industrial | I1: non-beverage and beverage | N1: composite | R1: =R11*R12*R13*R14*R15*R16*R17*R18*R19*R20*R21*R22 -> 0
A2: O1-3K Reusable packaging (1) - paid | M2: ="IČO: "&Introduction!C12 -> IČO: | R2: 0
A3: Supplementary statement about packaging that is designated exclusively for another end user = industrial (2) - composite packaging placed on the market or into circulation | M3: =Introduction!D4&Introduction!E4 -> 3. quarter 2026
A5: Fill in the weight in tonnes | E5: INDUSTRIAL (2)
E6: Non-beverage (3) | G6: Beverage
E8: produced, bought in Czechia | F8: imported to Czechia | G8: produced, bought in Czechia | H8: imported to Czechia
A11: Plastics | C11: PET | R11: =E11*F11*G11*H11*$R$2 -> 0
C12: PE | R12: =E12*F12*G12*H12*$R$2 -> 0
C13: PP | R13: =E13*F13*G13*H13*$R$2 -> 0
C14: PS | R14: =E14*F14*G14*H14*$R$2 -> 0
C15: PVC | R15: =E15*F15*G15*H15*$R$2 -> 0
C16: Others | R16: =E16*F16*G16*H16*$R$2 -> 0
A17: Metals | C17: Al | R17: =E17*F17*G17*H17*$R$2 -> 0
C18: Fe | R18: =E18*F18*G18*H18*$R$2 -> 0
A19: Glass | R19: =E19*F19*G19*H19*$R$2 -> 0
A20: Paper and Corrugated board | R20: =E20*F20*G20*H20*$R$2 -> 0
A21: Wood | R21: =E21*F21*G21*H21*$R$2 -> 0
A22: Others | R22: =E22*F22*G22*H22*$R$2 -> 0
A24: 1) Packaging that meets the criteria of Section 13 Par. 3 of the Packaging Act No. 477/2001 Coll.
A25: 2) Packaging that meets the criteria of the Section 2 Letter q) of the Packaging Act No. 477/2001 Coll.
A26: 3) Packaging that does not meet the criteria of Section 2 Letter v) and w) of the Packaging Act No. 477/2001 Coll.

Sheet O2
A1: reusable packaging | E1: pre-paid | I1: sales, group, transport and industrial | N1: =N9*N10*N11*N12*N13*N14*N15*N16*N17*N18*N19*N20*N21 -> 0
A2: O2 Reusable packaging (1) - pre-paid | K2: ="IČO: "&Introduction!C12 -> IČO: | N2: 0
A3: Statement about pre-paid packaging placed on the market or into circulation | K3: =Introduction!D4&Introduction!E4 -> 3. quarter 2026
A4: Fill in the weight in tonnes | E4: TRADE PACKAGING (2) | K4: INDUSTRIAL (3)
E5: Sales | G5: Group | I5: Transport
E6: produced, bought in Czechia | F6: imported to Czechia | G6: produced, bought in Czechia | H6: imported to Czechia | I6: produced, bought in Czechia | J6: imported to Czechia | K6: produced, bought in Czechia | L6: imported to Czechia
A9: Plastics | C9: PET | N9: =E9*F9*G9*H9*I9*J9*K9*L9*$N$2 -> 0
C10: PE | N10: =E10*F10*G10*H10*I10*J10*K10*L10*$N$2 -> 0
C11: PP | N11: =E11*F11*G11*H11*I11*J11*K11*L11*$N$2 -> 0
C12: PS | N12: =E12*F12*G12*H12*I12*J12*K12*L12*$N$2 -> 0
C13: PVC | N13: =E13*F13*G13*H13*I13*J13*K13*L13*$N$2 -> 0
C14: Others | N14: =E14*F14*G14*H14*I14*J14*K14*L14*$N$2 -> 0
A15: Metals | C15: Al | N15: =E15*F15*G15*H15*I15*J15*K15*L15*$N$2 -> 0
C16: Fe | N16: =E16*F16*G16*H16*I16*J16*K16*L16*$N$2 -> 0
A17: Glass | N17: =E17*F17*G17*H17*I17*J17*K17*L17*$N$2 -> 0
A18: Paper and Corrugated board | N18: =E18*F18*G18*H18*I18*J18*K18*L18*$N$2 -> 0
A19: Wood | N19: =E19*F19*G19*H19*I19*J19*K19*L19*$N$2 -> 0
A20: Textile | N20: =E20*F20*G20*H20*I20*J20*K20*L20*$N$2 -> 0
A21: Others | N21: =E21*F21*G21*H21*I21*J21*K21*L21*$N$2 -> 0
A23: 1) Packaging that meets the criteria of Section 13 Par. 3 of the Packaging Act No. 477/2001 Coll.
A24: 2) Packaging that does not meet the criteria of Section 2 Letter q) of the Packaging Act No. 477/2001 Coll.
A25: 3) Packaging that meets the criteria of the Section 2 Letter q) of the Packaging Act No. 477/2001 Coll.

Sheet O3
A1: reusable packaging | E1: non-paid | I1: sales, group, transport and industrial | N1: =N9*N10*N11*N12*N13*N14*N15*N16*N17*N18*N19*N20*N21 -> 0
A2: O3 Reusable packaging (1) - non-paid | K2: ="IČO: "&Introduction!C12 -> IČO: | N2: 0
A3: Statement about non-paid packaging placed on the market or into circulation | K3: =Introduction!D4&Introduction!E4 -> 3. quarter 2026
A4: Fill in the weight in tonnes | E4: TRADE PACKAGING (2) | K4: INDUSTRIAL (3)
E5: Sales | G5: Group | I5: Transport
E6: produced, bought in Czechia | F6: imported to Czechia | G6: produced, bought in Czechia | H6: imported to Czechia | I6: produced, bought in Czechia | J6: imported to Czechia | K6: produced, bought in Czechia | L6: imported to Czechia
A9: Plastics | C9: PET | N9: =E9*F9*G9*H9*I9*J9*K9*L9*$N$2 -> 0
C10: PE | N10: =E10*F10*G10*H10*I10*J10*K10*L10*$N$2 -> 0
C11: PP | N11: =E11*F11*G11*H11*I11*J11*K11*L11*$N$2 -> 0
C12: PS | N12: =E12*F12*G12*H12*I12*J12*K12*L12*$N$2 -> 0
C13: PVC | N13: =E13*F13*G13*H13*I13*J13*K13*L13*$N$2 -> 0
C14: Others | N14: =E14*F14*G14*H14*I14*J14*K14*L14*$N$2 -> 0
A15: Metals | C15: Al | N15: =E15*F15*G15*H15*I15*J15*K15*L15*$N$2 -> 0
C16: Fe | N16: =E16*F16*G16*H16*I16*J16*K16*L16*$N$2 -> 0
A17: Glass | N17: =E17*F17*G17*H17*I17*J17*K17*L17*$N$2 -> 0
A18: Paper and Corrugated board | N18: =E18*F18*G18*H18*I18*J18*K18*L18*$N$2 -> 0
A19: Wood | N19: =E19*F19*G19*H19*I19*J19*K19*L19*$N$2 -> 0
A20: Textile | N20: =E20*F20*G20*H20*I20*J20*K20*L20*$N$2 -> 0
A21: Others | N21: =E21*F21*G21*H21*I21*J21*K21*L21*$N$2 -> 0
A23: 1) Packaging that meets the criteria of Section 13 Par. 3 of the Packaging Act No. 477/2001 Coll.
A24: 2) Packaging that does not meet the criteria of Section 2 Letter q) of the Packaging Act No. 477/2001 Coll.
A25: 3) Packaging that meets the criteria of the Section 2 Letter q) of the Packaging Act No. 477/2001 Coll.

Sheet O4
A1: reusable packaging | E1: exported | I1: sales, group, transport and industrial | N1: =N9*N10*N11*N12*N13*N14*N15*N16*N17*N18*N19*N20*N21 -> 0
A2: O4 Reusable packaging (1) - exported | K2: ="IČO: "&Introduction!C12 -> IČO: | N2: 0
A3: Statement about exported packaging placed on the market or into circulation | K3: =Introduction!D4&Introduction!E4 -> 3. quarter 2026
A4: Fill in the weight in tonnes | E4: TRADE PACKAGING (2) | K4: INDUSTRIAL (3)
E5: Sales | G5: Group | I5: Transport
E6: produced, bought in Czechia | F6: imported to Czechia | G6: produced, bought in Czechia | H6: imported to Czechia | I6: produced, bought in Czechia | J6: imported to Czechia | K6: produced, bought in Czechia | L6: imported to Czechia
A9: Plastics | C9: PET | N9: =E9*F9*G9*H9*I9*J9*K9*L9*$N$2 -> 0
C10: PE | N10: =E10*F10*G10*H10*I10*J10*K10*L10*$N$2 -> 0
C11: PP | N11: =E11*F11*G11*H11*I11*J11*K11*L11*$N$2 -> 0
C12: PS | N12: =E12*F12*G12*H12*I12*J12*K12*L12*$N$2 -> 0
C13: PVC | N13: =E13*F13*G13*H13*I13*J13*K13*L13*$N$2 -> 0
C14: Others | N14: =E14*F14*G14*H14*I14*J14*K14*L14*$N$2 -> 0
A15: Metals | C15: Al | N15: =E15*F15*G15*H15*I15*J15*K15*L15*$N$2 -> 0
C16: Fe | N16: =E16*F16*G16*H16*I16*J16*K16*L16*$N$2 -> 0
A17: Glass | N17: =E17*F17*G17*H17*I17*J17*K17*L17*$N$2 -> 0
A18: Paper and Corrugated board | N18: =E18*F18*G18*H18*I18*J18*K18*L18*$N$2 -> 0
A19: Wood | N19: =E19*F19*G19*H19*I19*J19*K19*L19*$N$2 -> 0
A20: Textile | N20: =E20*F20*G20*H20*I20*J20*K20*L20*$N$2 -> 0
A21: Others | N21: =E21*F21*G21*H21*I21*J21*K21*L21*$N$2 -> 0
A23: 1) Packaging that meets the criteria of Section 13 Par. 3 of the Packaging Act No. 477/2001 Coll.
A24: 2) Packaging that does not meet the criteria of Section 2 Letter q) of the Packaging Act No. 477/2001 Coll.
A25: 3) Packaging that meets the criteria of the Section 2 Letter q) of the Packaging Act No. 477/2001 Coll.

Sheet S1
A1: S1 Reusable packaging (1) - discarded of circulation | P1: ="IČO: "&Introduction!C12 -> IČO: | T1: =T9*T10*T11*T12*T13*T14*T15*T16*T17*T18*T19*T20*T21 -> 0
P2: =Introduction!D4&Introduction!E4 -> 3. quarter 2026 | T2: 0
A3: Fill in the weight in tonnes | D3: TRADE PACKAGING (2) | N3: INDUSTRIAL (3)
D4: Sales | I4: Group, Transport
D5: Recycled in Czechia | E5: Recycled in other EU member states | F5: Recycled outside the EU | G5: Energy recovered | H5: Wooden packaging repairs | I5: Recycled in Czechia | J5: Recycled in other EU member states | K5: Recycled outside the EU | L5: Energy recovered | M5: Wooden packaging repairs | N5: Recycled in Czechia | O5: Recycled in other EU member states | P5: Recycled outside the EU | Q5: Energy recovered | R5: Wooden packaging repairs
A9: Plastics | B9: PET | T9: =D9*E9*F9*G9*I9*J9*K9*L9*N9*O9*P9*Q9*$T$2 -> 0
B10: PE | T10: =D10*E10*F10*G10*I10*J10*K10*L10*N10*O10*P10*Q10*$T$2 -> 0
B11: PP | T11: =D11*E11*F11*G11*I11*J11*K11*L11*N11*O11*P11*Q11*$T$2 -> 0
B12: PS | T12: =D12*E12*F12*G12*I12*J12*K12*L12*N12*O12*P12*Q12*$T$2 -> 0
B13: PVC | T13: =D13*E13*F13*G13*I13*J13*K13*L13*N13*O13*P13*Q13*$T$2 -> 0
B14: Others | T14: =D14*E14*F14*G14*I14*J14*K14*L14*N14*O14*P14*Q14*$T$2 -> 0
A15: Metals | B15: Al | T15: =D15*E15*F15*I15*J15*K15*N15*O15*P15*$T$2 -> 0
B16: Fe | T16: =D16*E16*F16*I16*J16*K16*N16*O16*P16*$T$2 -> 0
A17: Glass | T17: =D17*E17*F17*I17*J17*K17*N17*O17*P17*$T$2 -> 0
A18: Paper and Corrugated board | T18: =D18*E18*F18*G18*I18*J18*K18*L18*N18*O18*P18*Q18*$T$2 -> 0
A19: Wood | T19: =D19*E19*F19*G19*H19*I19*J19*K19*L19*M19*N19*O19*P19*R19*Q19*$T$2 -> 0
A20: Textile | T20: =D20*E20*F20*G20*I20*J20*K20*L20*N20*O20*P20*Q20*$T$2 -> 0
A21: Others | T21: =D21*E21*F21*G21*I21*J21*K21*L21*N21*O21*P21*Q21*$T$2 -> 0
A24: Packaging mentioned here is not intended for charging.
A25: 1) Packaging that meets the criteria of Section 13 Par. 3 of the Packaging Act No. 477/2001 Coll.
A26: 2) Packaging that does not meet the criteria of Section 2 Letter q) of the Packaging Act No. 477/2001 Coll.
A27: 3) Packaging that meets the criteria of the Section 2 Letter q) of the Packaging Act No. 477/2001 Coll.

Sheet S2
A1: S2 Statistical records of plastic crates and pallets | L1: ="IČO: "&Introduction!C12 -> IČO: | Q1: =Q8*Q9*Q10*Q11*Q12*Q13*Q14*Q15*Q16*Q21*Q22*Q23*Q24*Q25*Q26*Q27*Q28*Q29*Q34*Q35*Q36*Q37*Q38*Q39*Q40*Q41*Q42 -> 0
A2: Reusable packaging (1) | L2: =Introduction!D4&Introduction!E4 -> 3. quarter 2026 | Q2: 0
A3: Filling the companies joined to the Voluntary Agreement on measures to ensure compliance with Commission Decision 2009/292/EC of 24 March 2009, establishing the conditions for derogation of plastic crates and plastic pallets in relation to heavy metals concentration levels established in European Parliament and Council Directive 94/62/EC on packaging and packaging waste.
A5: Used packaging
A6: Type of crate | C6: Average number of turns of 1 item of reusable packaging for period under consideration | E6: Weight of 1 item of reusable packaging - fill in TONNES | F6: Reusable packaging (1) placed on the market or into circulation (used packaging) Fill in the weight in TONNES | O6: =(O7/10^178)*(O20/10^178)*(O33/10^178) -> 0
F7: green | G7: brown | H7: red | I7: red-brown | J7: black | K7: blue | L7: grey | M7: yellow | N7: other | O7: =O8*O9*O10*O11*O12*O13*O14*O15*O16 -> 0
A8: Crate - beer - ALE | O8: =C8*E8*F8*G8*H8*I8*J8*K8*L8*M8*N8 -> 0 | Q8: =C8*E8*F8*G8*H8*I8*J8*K8*L8*M8*N8*$Q$2 -> 0
A9: Crate - beer - NRW | O9: =C9*E9*F9*G9*H9*I9*J9*K9*L9*M9*N9 -> 0 | Q9: =C9*E9*F9*G9*H9*I9*J9*K9*L9*M9*N9*$Q$2 -> 0
A10: Crate - soft drinks | O10: =C10*E10*F10*G10*H10*I10*J10*K10*L10*M10*N10 -> 0 | Q10: =C10*E10*F10*G10*H10*I10*J10*K10*L10*M10*N10*$Q$2 -> 0
A11: Crate - baked goods | O11: =C11*E11*F11*G11*H11*I11*J11*K11*L11*M11*N11 -> 0 | Q11: =C11*E11*F11*G11*H11*I11*J11*K11*L11*M11*N11*$Q$2 -> 0
A12: Crate - fruits & vegetables | O12: =C12*E12*F12*G12*H12*I12*J12*K12*L12*M12*N12 -> 0 | Q12: =C12*E12*F12*G12*H12*I12*J12*K12*L12*M12*N12*$Q$2 -> 0
A13: Crate - meat | O13: =C13*E13*F13*G13*H13*I13*J13*K13*L13*M13*N13 -> 0 | Q13: =C13*E13*F13*G13*H13*I13*J13*K13*L13*M13*N13*$Q$2 -> 0
A14: Crate - smoked meats | O14: =C14*E14*F14*G14*H14*I14*J14*K14*L14*M14*N14 -> 0 | Q14: =C14*E14*F14*G14*H14*I14*J14*K14*L14*M14*N14*$Q$2 -> 0
A15: Crates - other | O15: =C15*E15*F15*G15*H15*I15*J15*K15*L15*M15*N15 -> 0 | Q15: =C15*E15*F15*G15*H15*I15*J15*K15*L15*M15*N15*$Q$2 -> 0
A16: Handling pallet | O16: =C16*E16*F16*G16*H16*I16*J16*K16*L16*M16*N16 -> 0 | Q16: =C16*E16*F16*G16*H16*I16*J16*K16*L16*M16*N16*$Q$2 -> 0
A18: Newly manufactured packaging
A19: Type of crate | C19: Number of items of newly manufactured packaging - fill in PIECES | E19: Weight of 1 item of newly manufactured packaging - fill in TONNES | F19: Packaging newly placed on the market or into circulation (newly manufactured packaging) Fill in the weight in TONNES
F20: green | G20: brown | H20: red | I20: red-brown | J20: black | K20: blue | L20: grey | M20: yellow | N20: other | O20: =O21*O22*O23*O24*O25*O26*O27*O28*O29 -> 0
A21: Crate - beer - ALE | O21: =C21*E21*F21*G21*H21*I21*J21*K21*L21*M21*N21 -> 0 | Q21: =C21*E21*F21*G21*H21*I21*J21*K21*L21*M21*N21*$Q$2 -> 0
A22: Crate - beer - NRW | O22: =C22*E22*F22*G22*H22*I22*J22*K22*L22*M22*N22 -> 0 | Q22: =C22*E22*F22*G22*H22*I22*J22*K22*L22*M22*N22*$Q$2 -> 0
A23: Crate - soft drinks | O23: =C23*E23*F23*G23*H23*I23*J23*K23*L23*M23*N23 -> 0 | Q23: =C23*E23*F23*G23*H23*I23*J23*K23*L23*M23*N23*$Q$2 -> 0
A24: Crate - baked goods | O24: =C24*E24*F24*G24*H24*I24*J24*K24*L24*M24*N24 -> 0 | Q24: =C24*E24*F24*G24*H24*I24*J24*K24*L24*M24*N24*$Q$2 -> 0
A25: Crate - fruits & vegetables | O25: =C25*E25*F25*G25*H25*I25*J25*K25*L25*M25*N25 -> 0 | Q25: =C25*E25*F25*G25*H25*I25*J25*K25*L25*M25*N25*$Q$2 -> 0
A26: Crate - meat | O26: =C26*E26*F26*G26*H26*I26*J26*K26*L26*M26*N26 -> 0 | Q26: =C26*E26*F26*G26*H26*I26*J26*K26*L26*M26*N26*$Q$2 -> 0
A27: Crate - smoked meats | O27: =C27*E27*F27*G27*H27*I27*J27*K27*L27*M27*N27 -> 0 | Q27: =C27*E27*F27*G27*H27*I27*J27*K27*L27*M27*N27*$Q$2 -> 0
A28: Crates - other | O28: =C28*E28*F28*G28*H28*I28*J28*K28*L28*M28*N28 -> 0 | Q28: =C28*E28*F28*G28*H28*I28*J28*K28*L28*M28*N28*$Q$2 -> 0
A29: Handling pallet | O29: =C29*E29*F29*G29*H29*I29*J29*K29*L29*M29*N29 -> 0 | Q29: =C29*E29*F29*G29*H29*I29*J29*K29*L29*M29*N29*$Q$2 -> 0
A31: Discarded packaging
A32: Type of crate | C32: Number of items of discarded packaging - fill in PIECES | E32: Weight of 1 item of discarded packaging - fill in TONNES | F32: Reusable packaging that has been discarded of circulation (discarded packaging) Fill in the weight in TONNES
F33: green | G33: brown | H33: red | I33: red-brown | J33: black | K33: blue | L33: grey | M33: yellow | N33: other | O33: =O34*O35*O36*O37*O38*O39*O40*O41*O42 -> 0
A34: Crate - beer - ALE | O34: =C34*E34*F34*G34*H34*I34*J34*K34*L34*M34*N34 -> 0 | Q34: =C34*E34*F34*G34*H34*I34*J34*K34*L34*M34*N34*$Q$2 -> 0
A35: Crate - beer - NRW | O35: =C35*E35*F35*G35*H35*I35*J35*K35*L35*M35*N35 -> 0 | Q35: =C35*E35*F35*G35*H35*I35*J35*K35*L35*M35*N35*$Q$2 -> 0
A36: Crate - soft drinks | O36: =C36*E36*F36*G36*H36*I36*J36*K36*L36*M36*N36 -> 0 | Q36: =C36*E36*F36*G36*H36*I36*J36*K36*L36*M36*N36*$Q$2 -> 0
A37: Crate - baked goods | O37: =C37*E37*F37*G37*H37*I37*J37*K37*L37*M37*N37 -> 0 | Q37: =C37*E37*F37*G37*H37*I37*J37*K37*L37*M37*N37*$Q$2 -> 0
A38: Crate - fruits & vegetables | O38: =C38*E38*F38*G38*H38*I38*J38*K38*L38*M38*N38 -> 0 | Q38: =C38*E38*F38*G38*H38*I38*J38*K38*L38*M38*N38*$Q$2 -> 0
A39: Crate - meat | O39: =C39*E39*F39*G39*H39*I39*J39*K39*L39*M39*N39 -> 0 | Q39: =C39*E39*F39*G39*H39*I39*J39*K39*L39*M39*N39*$Q$2 -> 0
A40: Crate - smoked meats | O40: =C40*E40*F40*G40*H40*I40*J40*K40*L40*M40*N40 -> 0 | Q40: =C40*E40*F40*G40*H40*I40*J40*K40*L40*M40*N40*$Q$2 -> 0
A41: Crates - other | O41: =C41*E41*F41*G41*H41*I41*J41*K41*L41*M41*N41 -> 0 | Q41: =C41*E41*F41*G41*H41*I41*J41*K41*L41*M41*N41*$Q$2 -> 0
A42: Handling pallet | O42: =C42*E42*F42*G42*H42*I42*J42*K42*L42*M42*N42 -> 0 | Q42: =C42*E42*F42*G42*H42*I42*J42*K42*L42*M42*N42*$Q$2 -> 0
A44: This statement is used only for statistical purposes of selected types of packaging.
A45: Packaging mentioned here is not intended for charging.
A46: 1) Packaging that meets the criteria of Section 13 Par. 3 of the Packaging Act No. 477/2001 Coll.
