Workbook
Name J11B_HODNOTY: 'J1-1B'!$E$11:$T$35,'J1-1B'!$E$42:$T$50
Name J11B_HODNOTY: '[1]J1-1B'!$E$11:$T$35,'[1]J1-1B'!$E$42:$T$50
Name J11B_HODNOTY: 'J1-1B'!$E$11:$T$35,'J1-1B'!$E$42:$T$50
Name J11K_HODNOTY: 'J1-1K'!$E$10:$J$21
Name J11K_HODNOTY: '[1]J1-1K'!$E$10:$J$21
Name J11K_HODNOTY: 'J1-1K'!$E$10:$J$21
Name J11K_KOMPOZITY_CERVENE: 'J1-1K'!$E$10:$E$21
Name J11K_KOMPOZITY_CERVENE: '[1]J1-1K'!$E$10:$E$21
Name J11K_KOMPOZITY_CERVENE: 'J1-1K'!$E$10:$E$21
Name J11K_KOMPOZITY_MODRE: 'J1-1K'!$G$10:$G$21
Name J11K_KOMPOZITY_MODRE: '[1]J1-1K'!$G$10:$G$21
Name J11K_KOMPOZITY_MODRE: 'J1-1K'!$G$10:$G$21
Name J11K_KOMPOZITY_ORANZOVE: 'J1-1K'!$F$10:$F$21
Name J11K_KOMPOZITY_ORANZOVE: '[1]J1-1K'!$F$10:$F$21
Name J11K_KOMPOZITY_ORANZOVE: 'J1-1K'!$F$10:$F$21
Name J11K_KOMPOZITY_SEDE: 'J1-1K'!$J$10:$J$21
Name J11K_KOMPOZITY_SEDE: '[1]J1-1K'!$J$10:$J$21
Name J11K_KOMPOZITY_SEDE: 'J1-1K'!$J$10:$J$21
Name J11K_KOMPOZITY_ZELENE: 'J1-1K'!$I$10:$I$21
Name J11K_KOMPOZITY_ZELENE: '[1]J1-1K'!$I$10:$I$21
Name J11K_KOMPOZITY_ZELENE: 'J1-1K'!$I$10:$I$21
Name J11K_KOMPOZITY_ZLUTE: 'J1-1K'!$H$10:$H$21
Name J11K_KOMPOZITY_ZLUTE: '[1]J1-1K'!$H$10:$H$21
Name J11K_KOMPOZITY_ZLUTE: 'J1-1K'!$H$10:$H$21
Name J12A_HODNOTY: 'J1-2A'!$E$10:$P$34,'J1-2A'!$I$35:$P$36,'J1-2A'!$E$36,'J1-2A'!$F$36,'J1-2A'!$G$36,'J1-2A'!$H$36,'J1-2A'!$E$41:$L$52
Name J12A_HODNOTY: '[1]J1-2A'!$E$10:$P$34,'[1]J1-2A'!$I$35:$P$36,'[1]J1-2A'!$E$36,'[1]J1-2A'!$F$36,'[1]J1-2A'!$G$36,'[1]J1-2A'!$H$36,'[1]J1-2A'!$E$41:$L$52
Name J12A_HODNOTY: 'J1-2A'!$E$10:$P$34,'J1-2A'!$I$35:$P$36,'J1-2A'!$E$36,'J1-2A'!$F$36,'J1-2A'!$G$36,'J1-2A'!$H$36,'J1-2A'!$E$41:$L$52
Name J12B_HODNOTY: 'J1-2B'!$E$11:$T$35,'J1-2B'!$E$42:$T$50
Name J12B_HODNOTY: '[1]J1-2B'!$E$11:$T$35,'[1]J1-2B'!$E$42:$T$50
Name J12B_HODNOTY: 'J1-2B'!$E$11:$T$35,'J1-2B'!$E$42:$T$50
Name J12K_HODNOTY: 'J1-2K'!$E$10:$J$21
Name J12K_HODNOTY: '[1]J1-2K'!$E$10:$J$21
Name J12K_HODNOTY: 'J1-2K'!$E$10:$J$21
Name J12K_KOMPOZITY_CERVENE: 'J1-2K'!$E$10:$E$21
Name J12K_KOMPOZITY_CERVENE: '[1]J1-2K'!$E$10:$E$21
Name J12K_KOMPOZITY_CERVENE: 'J1-2K'!$E$10:$E$21
Name J12K_KOMPOZITY_MODRE: 'J1-2K'!$G$10:$G$21
Name J12K_KOMPOZITY_MODRE: '[1]J1-2K'!$G$10:$G$21
Name J12K_KOMPOZITY_MODRE: 'J1-2K'!$G$10:$G$21
Name J12K_KOMPOZITY_ORANZOVE: 'J1-2K'!$F$10:$F$21
Name J12K_KOMPOZITY_ORANZOVE: '[1]J1-2K'!$F$10:$F$21
Name J12K_KOMPOZITY_ORANZOVE: 'J1-2K'!$F$10:$F$21
Name J12K_KOMPOZITY_SEDE: 'J1-2K'!$J$10:$J$21
Name J12K_KOMPOZITY_SEDE: '[1]J1-2K'!$J$10:$J$21
Name J12K_KOMPOZITY_SEDE: 'J1-2K'!$J$10:$J$21
Name J12K_KOMPOZITY_ZELENE: 'J1-2K'!$I$10:$I$21
Name J12K_KOMPOZITY_ZELENE: '[1]J1-2K'!$I$10:$I$21
Name J12K_KOMPOZITY_ZELENE: 'J1-2K'!$I$10:$I$21
Name J12K_KOMPOZITY_ZLUTE: 'J1-2K'!$H$10:$H$21
Name J12K_KOMPOZITY_ZLUTE: '[1]J1-2K'!$H$10:$H$21
Name J12K_KOMPOZITY_ZLUTE: 'J1-2K'!$H$10:$H$21
Name J13_HODNOTY: 'J1-3'!$E$11:$T$35,'J1-3'!$E$42:$T$53
Name J13_HODNOTY: '[1]J1-3'!$E$11:$T$35,'[1]J1-3'!$E$42:$T$53
Name J13_HODNOTY: 'J1-3'!$E$11:$T$35,'J1-3'!$E$42:$T$53
Name J13K_HODNOTY: 'J1-3K'!$E$11:$H$22
Name J13K_HODNOTY: '[1]J1-3K'!$E$11:$H$22
Name J13K_HODNOTY: 'J1-3K'!$E$11:$H$22
Name J13K_KOMPOZITY_CERVENE: 'J1-3K'!$E$11:$E$22
Name J13K_KOMPOZITY_CERVENE: '[1]J1-3K'!$E$11:$E$22
Name J13K_KOMPOZITY_CERVENE: 'J1-3K'!$E$11:$E$22

Sheet SUM
A1: =SUM(A3:A5508) -> 0 | B1: =SUM(B3:B5508) -> 11476870 | C1: =SUM(C3:C5508)+KONTROLY!C121 -> 0
A2: Hodnota buňky | B2: CENÍK | C2: Odměna
A3: ='J1-1A'!E10 -> 0 | B3: 15546 | C3: =A3*B3 -> 0
A4: ='J1-1A'!E11 -> 0 | B4: 15546 | C4: =A4*B4 -> 0
A5: ='J1-1A'!E12 -> 0 | B5: 15546 | C5: =A5*B5 -> 0
A6: ='J1-1A'!E13 -> 0 | B6: 15546 | C6: =A6*B6 -> 0
A7: ='J1-1A'!E14 -> 0 | B7: 15546 | C7: =A7*B7 -> 0
A8: ='J1-1A'!E15 -> 0 | B8: 15546 | C8: =A8*B8 -> 0
A9: ='J1-1A'!E16 -> 0 | B9: 15546 | C9: =A9*B9 -> 0
A10: ='J1-1A'!E17 -> 0 | B10: 15546 | C10: =A10*B10 -> 0
A11: ='J1-1A'!E18 -> 0 | B11: 15546 | C11: =A11*B11 -> 0
A12: ='J1-1A'!E19 -> 0 | B12: 17142 | C12: =A12*B12 -> 0
A13: ='J1-1A'!E20 -> 0 | B13: 17142 | C13: =A13*B13 -> 0
A14: ='J1-1A'!E21 -> 0 | B14: 17142 | C14: =A14*B14 -> 0
... A27: ='J1-1A'!E34 -> 0 | B27: 2611 | C27: =A27*B27 -> 0
A28: ='J1-1A'!E36 -> 0 | B28: 24066 | C28: =A28*B28 -> 0
A29: ='J1-1A'!E41 -> 0 | B29: 1852 | C29: =A29*B29 -> 0
A30: ='J1-1A'!E42 -> 0 | B30: 1852 | C30: =A30*B30 -> 0
A31: ='J1-1A'!E43 -> 0 | B31: 1852 | C31: =A31*B31 -> 0
A32: ='J1-1A'!E44 -> 0 | B32: 7152 | C32: =A32*B32 -> 0
A33: ='J1-1A'!E45 -> 0 | B33: 7152 | C33: =A33*B33 -> 0
A34: ='J1-1A'!E46 -> 0 | B34: 7152 | C34: =A34*B34 -> 0
A35: ='J1-1A'!E47 -> 0 | B35: 7152 | C35: =A35*B35 -> 0
A36: ='J1-1A'!E48 -> 0 | B36: 7152 | C36: =A36*B36 -> 0
A37: ='J1-1A'!E49 -> 0 | B37: 3754 | C37: =A37*B37 -> 0
A38: ='J1-1A'!E50 -> 0 | B38: 3754 | C38: =A38*B38 -> 0
A39: ='J1-1A'!E51 -> 0 | B39: 2052 | C39: =A39*B39 -> 0
A40: ='J1-1A'!E52 -> 0 | B40: 24066 | C40: =A40*B40 -> 0
A41: ='J1-1A'!F10 -> 0 | B41: 15546 | C41: =A41*B41 -> 0
A42: ='J1-1A'!F11 -> 0 | B42: 15546 | C42: =A42*B42 -> 0
A43: ='J1-1A'!F12 -> 0 | B43: 15546 | C43: =A43*B43 -> 0
A44: ='J1-1A'!F13 -> 0 | B44: 15546 | C44: =A44*B44 -> 0
A45: ='J1-1A'!F14 -> 0 | B45: 15546 | C45: =A45*B45 -> 0
A46: ='J1-1A'!F15 -> 0 | B46: 15546 | C46: =A46*B46 -> 0
A47: ='J1-1A'!F16 -> 0 | B47: 15546 | C47: =A47*B47 -> 0
A48: ='J1-1A'!F17 -> 0 | B48: 15546 | C48: =A48*B48 -> 0
A49: ='J1-1A'!F18 -> 0 | B49: 15546 | C49: =A49*B49 -> 0
A50: ='J1-1A'!F19 -> 0 | B50: 17142 | C50: =A50*B50 -> 0
A51: ='J1-1A'!F20 -> 0 | B51: 17142 | C51: =A51*B51 -> 0
A52: ='J1-1A'!F21 -> 0 | B52: 17142 | C52: =A52*B52 -> 0
...

Sheet KONTROLY
A1: Jazyk výkazu | B1: E | C1: Verze výkazu | D1: 2.77 | E1: RETAIL (pokud je to retailový výkaz napiš do F1 písmeno R) pole je ovládáno skriptem | G1: Verze výkazu výstup | H1: =IF($B$1="E",D1&F1&B1,D1&F1) -> 2.77E | J1: Jazyky (combo) | K1: CZ | L1: E
A3: Kontroly Introduction | B3: Podmínka | C3: Výstupní hláška | D3: Výstup podmínka | E3: Hláška CZ | F3: Hláška EN | G3: Číslo chyby | H3: popis chyby
A4: Kontrola kvartálu | B4: =ISNUMBER(Introduction!D4) -> TRUE | C4: =IF(B4=TRUE,"",IF($B$1="CZ",E4,F4)) | D4: =IF(C4="",0,1) -> 0 | E4: Čtvrtletí (musí být číslo 1, 2, 3 nebo 4) | F4: Quarter (please fill in 1,2,3, or 4) | G4: 1 | H4: ="Error #"&G4&": Sheet Introduction - " -> Error #1: Sheet Introduction -
A5: Kontrola IČO | B5: =LEN(Introduction!C12) -> 0 | D5: =IF(C5="",0,1) -> 0 | E5: IČO (musí mít osm číslic) | F5: IČO (the number must have 8 figures) | G5: 2 | H5: ="Error #"&G5&": Sheet Introduction - " -> Error #2: Sheet Introduction -
A6: EKOKOM-ID | B6: =LEN(Introduction!F14) -> 0 | C6: =IF(B6=9,"",IF($B$1="CZ",E6,F6)) -> EKOKOM ID (ID must start with one letter and it must have 9 characters) | D6: =IF(B6=9,0,1) -> 1 | E6: EKOKOM ID (musí začínat jedním písmenem a jeho délka musí být 9 znaků) | F6: EKOKOM ID (ID must start with one letter and it must have 9 characters) | G6: 3 | H6: ="Error #"&G6&": Sheet Introduction - " -> Error #3: Sheet Introduction -
A7: Kontrola úvod - chybová hláška 1 | C7: =IF(D7=0,"",IF($B$1="CZ",E7,F7)) -> ATTENTION!! Please check the following fields on this page: | D7: =SUM(D4:D6) -> 1 | E7: POZOR!! Zkontrolujte prosím následující pole na této stránce: | F7: ATTENTION!! Please check the following fields on this page:
A8: Kontrola úvod - chybová hláška 2 | C8: =C4&C5&C6 -> EKOKOM ID (ID must start with one letter and it must have 9 characters)
A9: Kontrola úvod - chybová hláška složená 1,2 | C9: =C7&C8 -> ATTENTION!! Please check the following fields on this page: EKOKOM ID (ID must start with one letter and it must have 9 characters)
A11: Kontola Čísel na listech | B11: hodnota | C11: Výstupní hláška (chyba na listu) | D11: číslo chyby | E11: popis chyby | F11: Vyplněné listy
A12: J1-1A | B12: ='J1-1A'!R1 -> 0 | C12: =IF(ISERR(B12),IF($B$1="CZ",E12&$E$39&A12,E12&$F$39&A12),"") | D12: 10 | E12: ="Error #"&D12&": " -> Error #10: | F12: =SUM(J11A_HODNOTY) -> 0 | G12: =IF(F12>0,A12,"")
A13: J1-1B | B13: ='J1-1B'!V1 -> 0 | C13: =IF(ISERR(B13),IF($B$1="CZ",E13&$E$39&A13,E13&$F$39&A13),"") | D13: 11 | E13: ="Error #"&D13&": " -> Error #11: | F13: =SUM(J11B_HODNOTY) -> 0 | G13: =IF(F13>0," | "&A13,"")
A14: J1-1K | B14: ='J1-1K'!P1 -> 0 | C14: =IF(ISERR(B14),IF($B$1="CZ",E14&$E$39&A14,E14&$F$39&A14),"") | D14: 12 | E14: ="Error #"&D14&": " -> Error #12: | F14: =SUM(J11K_HODNOTY) -> 0 | G14: =IF(F14>0," | "&A14,"")
A15: J1-2A | B15: ='J1-2A'!R1 -> 0 | C15: =IF(ISERR(B15),IF($B$1="CZ",E15&$E$39&A15,E15&$F$39&A15),"") | D15: 13 | E15: ="Error #"&D15&": " -> Error #13: | F15: =SUM(J12A_HODNOTY) -> 0 | G15: =IF(F15>0," | "&A15,"")
A16: J1-2B | B16: ='J1-2B'!V1 -> 0 | C16: =IF(ISERR(B16),IF($B$1="CZ",E16&$E$39&A16,E16&$F$39&A16),"") | D16: 14 | E16: ="Error #"&D16&": " -> Error #14: | F16: =SUM(J12B_HODNOTY) -> 0 | G16: =IF(F16>0," | "&A16,"")
A17: J1-2K | B17: ='J1-2K'!P1 -> 0 | C17: =IF(ISERR(B17),IF($B$1="CZ",E17&$E$39&A17,E17&$F$39&A17),"") | D17: 15 | E17: ="Error #"&D17&": " -> Error #15: | F17: =SUM(J12K_HODNOTY) -> 0 | G17: =IF(F17>0," | "&A17,"")
A18: J1-3 | B18: ='J1-3'!V1 -> 0 | C18: =IF(ISERR(B18),IF($B$1="CZ",E18&$E$39&A18,E18&$F$39&A18),"") | D18: 16 | E18: ="Error #"&D18&": " -> Error #16: | F18: =SUM(J13_HODNOTY) -> 0 | G18: =IF(F18>0," | "&A18,"")
A19: J1-3K | B19: ='J1-3K'!R1 -> 0 | C19: =IF(ISERR(B19),IF($B$1="CZ",E19&$E$39&A19,E19&$F$39&A19),"") | D19: 17 | E19: ="Error #"&D19&": " -> Error #17: | F19: =SUM(J13K_HODNOTY) -> 0 | G19: =IF(F19>0," | "&A19,"")
A20: J2 | B20: ='J2'!N1 -> 0 | C20: =IF(ISERR(B20),IF($B$1="CZ",E20&$E$39&A20,E20&$F$39&A20),"") | D20: 18 | E20: ="Error #"&D20&": " -> Error #18: | F20: =SUM(J2_HODNOTY) -> 0 | G20: =IF(F20>0," | "&A20,"")
A21: J3 | B21: ='J3'!N1 -> 0 | C21: =IF(ISERR(B21),IF($B$1="CZ",E21&$E$39&A21,E21&$F$39&A21),"") | D21: 19 | E21: ="Error #"&D21&": " -> Error #19: | F21: =SUM(J3_HODNOTY) -> 0 | G21: =IF(F21>0," | "&A21,"")
A22: J4 | B22: ='J4'!N1 -> 0 | C22: =IF(ISERR(B22),IF($B$1="CZ",E22&$E$39&A22,E22&$F$39&A22),"") | D22: 20 | E22: ="Error #"&D22&": " -> Error #20: | F22: =SUM(J4_HODNOTY) -> 0 | G22: =IF(F22>0," | "&A22,"")
A23: L | B23: =L!L1 -> 0 | C23: =IF(ISERR(B23),IF($B$1="CZ",E23&$E$39&A23,E23&$F$39&A23),"") | D23: 21 | E23: ="Error #"&D23&": " -> Error #21: | F23: =SUM(L_HODNOTY) -> 0 | G23: =IF(F23>0," | "&A23,"")
A24: O1-1A | B24: ='O1-1A'!R1 -> 0 | C24: =IF(ISERR(B24),IF($B$1="CZ",E24&$E$39&A24,E24&$F$39&A24),"") | D24: 22 | E24: ="Error #"&D24&": " -> Error #22: | F24: =SUM(O11A_HODNOTY) -> 0 | G24: =IF(F24>0," | "&A24,"")
A25: O1-1B | B25: ='O1-1B'!V1 -> 0 | C25: =IF(ISERR(B25),IF($B$1="CZ",E25&$E$39&A25,E25&$F$39&A25),"") | D25: 23 | E25: ="Error #"&D25&": " -> Error #23: | F25: =SUM(O11B_HODNOTY) -> 0 | G25: =IF(F25>0," | "&A25,"")
A26: O1-1K | B26: ='O1-1K'!P1 -> 0 | C26: =IF(ISERR(B26),IF($B$1="CZ",E26&$E$39&A26,E26&$F$39&A26),"") | D26: 24 | E26: ="Error #"&D26&": " -> Error #24: | F26: =SUM(O11K_HODNOTY) -> 0 | G26: =IF(F26>0," | "&A26,"")
A27: O1-2A | B27: ='O1-2A'!R1 -> 0 | C27: =IF(ISERR(B27),IF($B$1="CZ",E27&$E$39&A27,E27&$F$39&A27),"") | D27: 25 | E27: ="Error #"&D27&": " -> Error #25: | F27: =SUM(O12A_HODNOTY) -> 0 | G27: =IF(F27>0," | "&A27,"")
A28: O1-2B | B28: ='O1-2B'!V1 -> 0 | C28: =IF(ISERR(B28),IF($B$1="CZ",E28&$E$39&A28,E28&$F$39&A28),"") | D28: 26 | E28: ="Error #"&D28&": " -> Error #26: | F28: =SUM(O12B_HODNOTY) -> 0 | G28: =IF(F28>0," | "&A28,"")
A29: O1-2K | B29: ='O1-2K'!P1 -> 0 | C29: =IF(ISERR(B29),IF($B$1="CZ",E29&$E$39&A29,E29&$F$39&A29),"") | D29: 27 | E29: ="Error #"&D29&": " -> Error #27: | F29: =SUM(O12K_HODNOTY) -> 0 | G29: =IF(F29>0," | "&A29,"")
A30: O1-3 | B30: ='O1-3'!V1 -> 0 | C30: =IF(ISERR(B30),IF($B$1="CZ",E30&$E$39&A30,E30&$F$39&A30),"") | D30: 28 | E30: ="Error #"&D30&": " -> Error #28: | F30: =SUM(O13_HODNOTY) -> 0 | G30: =IF(F30>0," | "&A30,"")
A31: O1-3K | B31: ='O1-3K'!R1 -> 0 | C31: =IF(ISERR(B31),IF($B$1="CZ",E31&$E$39&A31,E31&$F$39&A31),"") | D31: 29 | E31: ="Error #"&D31&": " -> Error #29: | F31: =SUM(O13K_HODNOTY) -> 0 | G31: =IF(F31>0," | "&A31,"")
A32: O2 | B32: ='O2'!N1 -> 0 | C32: =IF(ISERR(B32),IF($B$1="CZ",E32&$E$39&A32,E32&$F$39&A32),"") | D32: 30 | E32: ="Error #"&D32&": " -> Error #30: | F32: =SUM(O2_HODNOTY) -> 0 | G32: =IF(F32>0," | "&A32,"")
A33: O3 | B33: ='O3'!N1 -> 0 | C33: =IF(ISERR(B33),IF($B$1="CZ",E33&$E$39&A33,E33&$F$39&A33),"") | D33: 31 | E33: ="Error #"&D33&": " -> Error #31: | F33: =SUM(O3_HODNOTY) -> 0 | G33: =IF(F33>0," | "&A33,"")
A34: O4 | B34: ='O4'!N1 -> 0 | C34: =IF(ISERR(B34),IF($B$1="CZ",E34&$E$39&A34,E34&$F$39&A34),"") | D34: 32 | E34: ="Error #"&D34&": " -> Error #32: | F34: =SUM(O4_HODNOTY) -> 0 | G34: =IF(F34>0," | "&A34,"")
A35: S1 | B35: ='S1'!T1 -> 0 | C35: =IF(ISERR(B35),IF($B$1="CZ",E35&$E$39&A35,E35&$F$39&A35),"") | D35: 33 | E35: ="Error #"&D35&": " -> Error #33: | F35: =SUM(S1_HODNOTY) -> 0 | G35: =IF(F35>0," | "&A35,"")
A36: S2 | B36: ='S2'!Q1 -> 0 | C36: =IF(ISERR(B36),IF($B$1="CZ",E36&$E$39&A36,E36&$F$39&A36),"") | D36: 34 | E36: ="Error #"&D36&": " -> Error #34: | F36: =SUM(S2_HODNOTY) -> 0 | G36: =IF(F36>0," | "&A36,"")
A38: Hlášky kontrol na listech - souhrn | B38: hodnota | C38: Výstupní hláška - souhrn | E38: Hláška CZ (šablona) | F38: Hláška EN (šablona)
B39: =B12*B13*B14*B15*B16*B17*B18*B19*B20*B21*B22*B23*B24*B25*B26*B27*B28*B29*B30*B31*B32*B33*B34*B35*B36 -> 0 | C39: =C12&C13&C14&C15&C16&C17&C18&C19&C20&C21&C22&C23&C24&C25&C26&C27&C28&C29&C30&C31&C32&C33&C34&C35&C36 | E39: ="Chybná hodnota na záložce: " -> Chybná hodnota na záložce: | F39: Error value in sheet:
C40: =IF($B$1="CZ",E40&G12&G13&G14&G15&G16&G17&G18&G19&G20&G21&G22&G23&G24&G25&G26&G27&G28&G29&G30&G31&G32&G33&G34&G35&G36,F40&G12&G13&G14&G15&G16&G17&G18&G19&G20&G21&G22&G23&G24&G25&G26&G27&G28&G29&G30&G31&G32&G33&G34&G35&G36) -> YOU COMPLETED THESE SHEETS: | E40: VYPLNILI JSTE TYTO LISTY: | F40: YOU COMPLETED THESE SHEETS:
A42: Kontola KOMPOZITY SOUČET 1 | B42: hodnota | C42: Kontrola KOMPOZITY SOUČET 2 | D42: hodnota | E42: Výstupní hláška | F42: Rozdíl | G42: Hláška CZ | H42: Hláška EN | I42: číslo chyby | J42: popis chyby
A43: Suma hodnot v červených polích na listu J1-1A | B43: =SUM(J11A_KOMPOZITY_CERVENE) -> 0 | C43: Suma hodnot v červených polích na listu J1-1K | D43: =SUM(J11K_KOMPOZITY_CERVENE) -> 0 | E43: =IF(F43<>0,IF($B$1="CZ",J43&G43&" ",J43&H43&" "),"") | F43: =B43-D43 -> 0 | G43: Chyba vyplnění na listech J1-1A a J1-1K: Součet hmotnosti kompozitních obalů na listu J1-1A ve sloupci vyrobené, nakoupené v ČR a jejich hmotnostního rozpadu na listu J1-1K ve sloupci prodejní vyrobené, nakoupené v ČR, musí být roven | H43: Fill error on sheets J1-1A and J1-1K: The sum of the weights of composite packaging on sheet J1-1A in the column produced, bought in Czechia and their mass decay on sheet J1-1K in the column sales, produced, bought in Czechia, must be equal Czechia, must be equal | I43: 100 | J43: ="Error #"&I43&": " -> Error #100:
A44: Suma hodnot v oranžových polích na listu J1-1A | B44: =SUM(J11A_KOMPOZITY_ORANZOVE) -> 0 | C44: Suma hodnot v oranžových polích na listu J1-1K | D44: =SUM(J11K_KOMPOZITY_ORANZOVE) -> 0 | E44: =IF(F44<>0,IF($B$1="CZ",J44&G44&" ",J44&H44&" "),"") | F44: =B44-D44 -> 0 | G44: Chyba vyplnění na listech J1-1A a J1-1K: Součet hmotnosti kompozitních obalů na listu J1-1A ve sloupci importované do ČR a jejich hmotnostního rozpadu na listu J1-1K ve sloupci prodejní importované do ČR, musí být roven | H44: Fill error on sheets J1-1A and J1-1K: The sum of the weights of composite packaging on sheet J1-1A in the column imported to Czechia and their mass decay on sheet J1-1K in the column sales, imported to Czechia, must be equal | I44: 101 | J44: ="Error #"&I44&": " -> Error #101:
...

Sheet TEST
A1: =KONTROLY!C40 -> YOU COMPLETED THESE SHEETS:
A2: =IF(A4&A5&A6&A7&A8&A9&A10&A11&A12&A13&A14&A15&A16&A17&A18&A19&A20&A21&A22&A23&A24&A25&A26&A27&A28&A29&A30&A31&A32&A33&A34&A35&B4&B5&B6&B7&B8&B9&B10&B11&B12&B13&B14&B15&B16&B17&B18&B19&B20&B21&B22&B23&B24&B25&B26&B27&B28&B29&B30&B31&B32&B33&B34&B35<>"",KONTROLY!C77,KONTROLY!C78) -> THESE ERRORS ARE IN THE STATEMENT:
A4: =IF(KONTROLY!C4<>"",CONCATENATE(KONTROLY!H4,KONTROLY!C4),"") | B4: =KONTROLY!E43
A5: =IF(KONTROLY!C5<>"",CONCATENATE(KONTROLY!H5,KONTROLY!C5),"") | B5: =KONTROLY!E44
A6: =IF(KONTROLY!C6<>"",CONCATENATE(KONTROLY!H6,KONTROLY!C6),"") -> Error #3: Sheet Introduction - EKOKOM ID (ID must start with one letter and it must have 9 characters) | B6: =KONTROLY!E45
A7: =KONTROLY!C12 | B7: =KONTROLY!E46
A8: =KONTROLY!C13 | B8: =KONTROLY!E47
A9: =KONTROLY!C14 | B9: =KONTROLY!E48
A10: =KONTROLY!C15 | B10: =KONTROLY!E49
A11: =KONTROLY!C16 | B11: =KONTROLY!E50
A12: =KONTROLY!C17 | B12: =KONTROLY!E51
A13: =KONTROLY!C18 | B13: =KONTROLY!E52
A14: =KONTROLY!C19 | B14: =KONTROLY!E53
A15: =KONTROLY!C20 | B15: =KONTROLY!E54
A16: =KONTROLY!C21 | B16: =KONTROLY!E55
A17: =KONTROLY!C22 | B17: =KONTROLY!E56
A18: =KONTROLY!C23 | B18: =KONTROLY!E57
... A31: =KONTROLY!C36 | B31: =KONTROLY!E70
A32: =KONTROLY!F81 | B32: =KONTROLY!E71
A33: =KONTROLY!F83 | B33: =KONTROLY!E72
A34: =KONTROLY!F87 | B34: =KONTROLY!E73
A35: =KONTROLY!F92 | B35: =KONTROLY!E74

Sheet Introduction
A1: =KONTROLY!H1 -> 2.77E
B2: Statement about packaging production
D4: 3 | E4: . quarter 2026
B6: Company:
B8: Address:
B10: E-mail for receiving invoices:
B11: Business identification number | E11: V.A.T. identification number
B12: IČO: | E12: DIČ:
B13: Order number | E13: EKOKOM-ID:
E14: EK-
B15: Methodology for this statement you can find on www.ekokom.cz
B16: =KONTROLY!C9 -> ATTENTION!! Please check the following fields on this page: EKOKOM ID (ID must start with one letter and it must have 9 characters)
B17: Filled out statement send to: | E17: vykazy@ekokom.cz
B18: Contact person:
B19: Phone:
B20: Fax:
B21: E-mail:
B23: INVOICING ESTIMATE: | D23: =IF(TEST!A2=KONTROLY!C77,KONTROLY!B77,SUM!C1) -> ATTENTION, ERROR, PLEASE CORRECT! see the TEST sheet for errors specification

Sheet J1-1A
A1: one-way | E1: paid | I1: non-beverage | M1: sales | R1: =R10*R11*R12*R13*R14*R15*R16*R17*R18*R19*R20*R21*R22*R23*R24*R25*R26*R27*R28*R29*R30*R31*R32*R33*R34*R35*R36*R41*R42*R43*R44*R45*R46*R47*R48*R49*R50*R51*R52 -> 0
A2: J1-1A One-way packaging and packaging means (1) - paid | N2: ="IČO: "&Introduction!C12 -> IČO: | R2: 0
A3: Statement about non-beverage (2) packaging - sales packaging and packaging means placed on the market or into circulation | N3: =Introduction!D4&Introduction!E4 -> 3. quarter 2026
A4: Fill in the weight in tonnes | E4: TRADE PACKAGING (3) - Sales
E5: Soft, flexible | I5: Rigid, hollow rigid up to 3 L | M5: Hollow rigid above 3 L
E6: virgin (4) | G6: recycled (5) | I6: virgin (4) | K6: recycled (5) | M6: virgin (4) | O6: recycled (5)
E7: produced, bought in Czechia | F7: imported to Czechia | G7: produced, bought in Czechia | H7: imported to Czechia | I7: produced, bought in Czechia | J7: imported to Czechia | K7: produced, bought in Czechia | L7: imported to Czechia | M7: produced, bought in Czechia | N7: imported to Czechia | O7: produced, bought in Czechia | P7: imported to Czechia
A10: Plastics | B10: PET | C10: clear transparent (6) | R10: =E10*F10*G10*H10*I10*J10*K10*L10*M10*N10*O10*P10*$R$2 -> 0
C11: coloured transparent (8) | R11: =E11*F11*G11*H11*I11*J11*K11*L11*M11*N11*O11*P11*$R$2 -> 0
C12: coloured opaque(9) | R12: =E12*F12*G12*H12*I12*J12*K12*L12*M12*N12*O12*P12*$R$2 -> 0
B13: PE | C13: clear transparent (6) | R13: =E13*F13*G13*H13*I13*J13*K13*L13*M13*N13*O13*P13*$R$2 -> 0
C14: colour (7) | R14: =E14*F14*G14*H14*I14*J14*K14*L14*M14*N14*O14*P14*$R$2 -> 0
B15: PP | C15: clear transparent (6) | R15: =E15*F15*G15*H15*I15*J15*K15*L15*M15*N15*O15*P15*$R$2 -> 0
C16: colour (7) | R16: =E16*F16*G16*H16*I16*J16*K16*L16*M16*N16*O16*P16*$R$2 -> 0
B17: PS | C17: clear transparent (6) | R17: =E17*F17*G17*H17*I17*J17*K17*L17*M17*N17*O17*P17*$R$2 -> 0
C18: colour (7) | R18: =E18*F18*G18*H18*I18*J18*K18*L18*M18*N18*O18*P18*$R$2 -> 0
B19: XPS | C19: clear transparent (6) | R19: =E19*F19*G19*H19*I19*J19*K19*L19*M19*N19*O19*P19*$R$2 -> 0
C20: colour (7) | R20: =E20*F20*G20*H20*I20*J20*K20*L20*M20*N20*O20*P20*$R$2 -> 0
B21: EPS | C21: clear transparent (6) | R21: =E21*F21*G21*H21*I21*J21*K21*L21*M21*N21*O21*P21*$R$2 -> 0
C22: colour (7) | R22: =E22*F22*G22*H22*I22*J22*K22*L22*M22*N22*O22*P22*$R$2 -> 0
B23: PVC | C23: clear transparent (6) | R23: =E23*F23*G23*H23*I23*J23*K23*L23*M23*N23*O23*P23*$R$2 -> 0
C24: colour (7) | R24: =E24*F24*G24*H24*I24*J24*K24*L24*M24*N24*O24*P24*$R$2 -> 0
B25: Others | C25: clear transparent (6) | R25: =E25*F25*G25*H25*I25*J25*K25*L25*M25*N25*O25*P25*$R$2 -> 0
C26: colour (7) | R26: =E26*F26*G26*H26*I26*J26*K26*L26*M26*N26*O26*P26*$R$2 -> 0
B27: Bio- degradable (11) | C27: clear transparent (6) | R27: =E27*F27*G27*H27*I27*J27*K27*L27*M27*N27*O27*P27*$R$2 -> 0
C28: colour (7) | R28: =E28*F28*G28*H28*I28*J28*K28*L28*M28*N28*O28*P28*$R$2 -> 0
B29: Composite (10) | C29: clear transparent (6) | R29: =E29*F29*G29*H29*I29*J29*K29*L29*M29*N29*O29*P29*$R$2 -> 0
C30: colour (7) | R30: =E30*F30*G30*H30*I30*J30*K30*L30*M30*N30*O30*P30*$R$2 -> 0
A31: Metals | B31: Al | R31: =E31*F31*G31*H31*I31*J31*K31*L31*M31*N31*O31*P31*$R$2 -> 0
B32: Fe | C32: FE | R32: =E32*F32*G32*H32*I32*J32*K32*L32*M32*N32*O32*P32*$R$2 -> 0
B33: Composite Al (10) | R33: =E33*F33*G33*H33*I33*J33*K33*L33*M33*N33*O33*P33*$R$2 -> 0
B34: Composite Fe (10) | R34: =E34*F34*G34*H34*I34*J34*K34*L34*M34*N34*O34*P34*$R$2 -> 0
A35: Beverage carton (2,10) | R35: =I35*J35*K35*L35*M35*N35*O35*P35*$R$2 -> 0
A36: Composite material (10) | R36: =E36*F36*G36*H36*I36*J36*K36*L36*M36*N36*O36*P36*$R$2 -> 0
A38: Fill in the weight in tonnes | E38: virgin (4) | I38: recycled (5)
E39: produced, bought in Czechia | G39: imported to Czechia | I39: produced, bought in Czechia | K39: imported to Czechia
A41: Glass | B41: Clear transparent (6) | R41: =E41*G41*I41*K41*$R$2 -> 0
B42: Colour (7) | R42: =E42*G42*I42*K42*$R$2 -> 0
B43: Composite (10) | R43: =E43*G43*I43*K43*$R$2 -> 0
A44: Paper | B44: Paper | R44: =E44*G44*I44*K44*$R$2 -> 0
...

Sheet J1-1B
A1: one-way | F1: paid | K1: non-beverage | P1: group and transport | V1: =V11*V12*V13*V14*V15*V16*V17*V18*V19*V20*V21*V22*V23*V24*V25*V26*V27*V28*V29*V30*V31*V32*V33*V34*V35*V42*V43*V44*V45*V46*V47*V48*V49*V50 -> 0
A2: J1-1B One-way packaging (1) - paid | Q2: ="IČO: "&Introduction!C12 -> IČO: | V2: 0
A3: Statement about non-beverage (2) packaging - group and transport packaging placed on the market or into circulation | Q3: =Introduction!D4&Introduction!E4 -> 3. quarter 2026
A4: Fill in the weight in tonnes | E4: TRADE PACKAGING (3)
E5: Group | M5: Transport
E6: Soft, flexible | I6: Rigid, hollow rigid | M6: Soft, flexible | Q6: Rigid, hollow rigid
E7: virgin (4) | G7: recycled (5) | I7: virgin (4) | K7: recycled (5) | M7: virgin (4) | O7: recycled (5) | Q7: virgin (4) | S7: recycled (5)
E8: produced, bought in Czechia | F8: imported to Czechia | G8: produced, bought in Czechia | H8: imported to Czechia | I8: produced, bought in Czechia | J8: imported to Czechia | K8: produced, bought in Czechia | L8: imported to Czechia | M8: produced, bought in Czechia | N8: imported to Czechia | O8: produced, bought in Czechia | P8: imported to Czechia | Q8: produced, bought in Czechia | R8: imported to Czechia | S8: produced, bought in Czechia | T8: imported to Czechia
A11: Plastics | B11: PET | C11: clear transparent (6) | V11: =E11*F11*G11*H11*I11*J11*K11*L11*M11*N11*O11*P11*Q11*R11*S11*T11*$V$2 -> 0
C12: colour (7) | V12: =E12*F12*G12*H12*I12*J12*K12*L12*M12*N12*O12*P12*Q12*R12*S12*T12*$V$2 -> 0
B13: PE | C13: clear transparent (6) | V13: =E13*F13*G13*H13*I13*J13*K13*L13*M13*N13*O13*P13*Q13*R13*S13*T13*$V$2 -> 0
C14: colour (7) | V14: =E14*F14*G14*H14*I14*J14*K14*L14*M14*N14*O14*P14*Q14*R14*S14*T14*$V$2 -> 0
B15: PP | C15: clear transparent (6) | V15: =E15*F15*G15*H15*I15*J15*K15*L15*M15*N15*O15*P15*Q15*R15*S15*T15*$V$2 -> 0
C16: colour (7) | V16: =E16*F16*G16*H16*I16*J16*K16*L16*M16*N16*O16*P16*Q16*R16*S16*T16*$V$2 -> 0
B17: PS | C17: clear transparent (6) | V17: =E17*F17*G17*H17*I17*J17*K17*L17*M17*N17*O17*P17*Q17*R17*S17*T17*$V$2 -> 0
C18: colour (7) | V18: =E18*F18*G18*H18*I18*J18*K18*L18*M18*N18*O18*P18*Q18*R18*S18*T18*$V$2 -> 0
B19: XPS | C19: clear transparent (6) | V19: =E19*F19*G19*H19*I19*J19*K19*L19*M19*N19*O19*P19*Q19*R19*S19*T19*$V$2 -> 0
C20: colour (7) | V20: =E20*F20*G20*H20*I20*J20*K20*L20*M20*N20*O20*P20*Q20*R20*S20*T20*$V$2 -> 0
B21: EPS | C21: clear transparent (6) | V21: =E21*F21*G21*H21*I21*J21*K21*L21*M21*N21*O21*P21*Q21*R21*S21*T21*$V$2 -> 0
C22: colour (7) | V22: =E22*F22*G22*H22*I22*J22*K22*L22*M22*N22*O22*P22*Q22*R22*S22*T22*$V$2 -> 0
B23: PVC | C23: clear transparent (6) | V23: =E23*F23*G23*H23*I23*J23*K23*L23*M23*N23*O23*P23*Q23*R23*S23*T23*$V$2 -> 0
C24: colour (7) | V24: =E24*F24*G24*H24*I24*J24*K24*L24*M24*N24*O24*P24*Q24*R24*S24*T24*$V$2 -> 0
B25: Others | C25: clear transparent (6) | V25: =E25*F25*G25*H25*I25*J25*K25*L25*M25*N25*O25*P25*Q25*R25*S25*T25*$V$2 -> 0
C26: colour (7) | V26: =E26*F26*G26*H26*I26*J26*K26*L26*M26*N26*O26*P26*Q26*R26*S26*T26*$V$2 -> 0
B27: Bio- degradable (8) | C27: clear transparent (6) | V27: =E27*F27*G27*H27*I27*J27*K27*L27*M27*N27*O27*P27*Q27*R27*S27*T27*$V$2 -> 0
C28: colour (7) | V28: =E28*F28*G28*H28*I28*J28*K28*L28*M28*N28*O28*P28*Q28*R28*S28*T28*$V$2 -> 0
B29: Composite (9) | C29: clear transparent (6) | V29: =E29*F29*G29*H29*I29*J29*K29*L29*M29*N29*O29*P29*Q29*R29*S29*T29*$V$2 -> 0
C30: colour (7) | V30: =E30*F30*G30*H30*I30*J30*K30*L30*M30*N30*O30*P30*Q30*R30*S30*T30*$V$2 -> 0
A31: Metals | B31: Al | V31: =E31*F31*G31*H31*I31*J31*K31*L31*M31*N31*O31*P31*Q31*R31*S31*T31*$V$2 -> 0
B32: Fe | C32: FE | V32: =E32*F32*G32*H32*I32*J32*K32*L32*M32*N32*O32*P32*Q32*R32*S32*T32*$V$2 -> 0
B33: Composite Al (9) | V33: =E33*F33*G33*H33*I33*J33*K33*L33*M33*N33*O33*P33*Q33*R33*S33*T33*$V$2 -> 0
B34: Composite Fe (9) | V34: =E34*F34*G34*H34*I34*J34*K34*L34*M34*N34*O34*P34*Q34*R34*S34*T34*$V$2 -> 0
A35: Composite material (9) | V35: =E35*F35*G35*H35*I35*J35*K35*L35*M35*N35*O35*P35*Q35*R35*S35*T35*$V$2 -> 0
A37: Fill in the weight in tonnes | E37: Group | M37: Transport
E38: virgin (4) | I38: recycled (5) | M38: virgin (4) | Q38: recycled (5)
E39: produced, bought in Czechia | G39: imported to Czechia | I39: produced, bought in Czechia | K39: imported to Czechia | M39: produced, bought in Czechia | O39: imported to Czechia | Q39: produced, bought in Czechia | S39: imported to Czechia
A42: Paper | B42: Paper | V42: =E42*G42*I42*K42*M42*O42*Q42*S42*$V$2 -> 0
B43: Paperboard | V43: =E43*G43*I43*K43*M43*O43*Q43*S43*$V$2 -> 0
B44: Corrugated board | V44: =E44*G44*I44*K44*M44*O44*Q44*S44*$V$2 -> 0
B45: Moulded fibre | V45: =E45*G45*I45*K45*M45*O45*Q45*S45*$V$2 -> 0
...

Sheet J1-1K
A1: one-way | E1: paid | G1: non-beverage | I1: sales, group and transport | L1: composite | P1: =P10*P11*P12*P13*P14*P15*P16*P17*P18*P19*P20*P21 -> 0
A2: J1-1K One-way packaging and packaging means (1) - paid | K2: ="IČO: "&Introduction!C12 -> IČO: | P2: 0
A3: Supplementary statement about non-beverage (2) packaging - sales, group and transport - composite packaging placed on the market or into circulation | K3: =Introduction!D4&Introduction!E4 -> 3. quarter 2026
A5: Fill in the weight in tonnes | E5: TRADE PACKAGING (3)
E6: Sales | G6: Group | I6: Transport
E7: produced, bought in Czechia | F7: imported to Czechia | G7: produced, bought in Czechia | H7: imported to Czechia | I7: produced, bought in Czechia | J7: imported to Czechia
A10: Plastics | C10: PET | P10: =E10*F10*G10*H10*I10*J10*$P$2 -> 0
C11: PE | P11: =E11*F11*G11*H11*I11*J11*$P$2 -> 0
C12: PP | P12: =E12*F12*G12*H12*I12*J12*$P$2 -> 0
C13: PS | P13: =E13*F13*G13*H13*I13*J13*$P$2 -> 0
C14: PVC | P14: =E14*F14*G14*H14*I14*J14*$P$2 -> 0
C15: Others | P15: =E15*F15*G15*H15*I15*J15*$P$2 -> 0
A16: Metals | C16: Al | P16: =E16*F16*G16*H16*I16*J16*$P$2 -> 0
C17: Fe | P17: =E17*F17*G17*H17*I17*J17*$P$2 -> 0
A18: Glass | P18: =E18*F18*G18*H18*I18*J18*$P$2 -> 0
A19: Paper and Corrugated board | P19: =E19*F19*G19*H19*I19*J19*$P$2 -> 0
A20: Wood | P20: =E20*F20*G20*H20*I20*J20*$P$2 -> 0
A21: Others | P21: =E21*F21*G21*H21*I21*J21*$P$2 -> 0
A23: 1) Packaging that does not meet the criteria of Section 13 Par. 3 of the Packaging Act No. 477/2001 Coll., and packaging and packaging means listed
A24: in Part D of Annex No. 4 to the Packaging Act No. 477/2001 Coll.
A25: 2) Packaging that does not meet the criteria of Section 2 Letter v) and w) of the Packaging Act No. 477/2001 Coll.
A26: 3) Packaging that does not meet the criteria of Section 2 Letter q) of the Packaging Act No. 477/2001 Coll.

Sheet J1-2A
A1: one-way | E1: paid | I1: beverage | M1: sales | R1: =R10*R11*R12*R13*R14*R15*R16*R17*R18*R19*R20*R21*R22*R23*R24*R25*R26*R27*R28*R29*R30*R31*R32*R33*R34*R35*R36*R41*R42*R43*R44*R45*R46*R47*R48*R49*R50*R51*R52 -> 0
A2: J1-2A One-way packaging and packaging means (1) - paid | N2: ="IČO: "&Introduction!C12 -> IČO: | R2: 0
A3: Statement about beverage (2) packaging - sales packaging and packaging means placed on the market or into circulation | N3: =Introduction!D4&Introduction!E4 -> 3. quarter 2026
A4: Fill in the weight in tonnes | E4: TRADE PACKAGING (3) - Sales
E5: Soft, flexible | I5: Rigid, hollow rigid up to 3 L | M5: Hollow rigid above 3 L
E6: virgin (4) | G6: recycled (5) | I6: virgin (4) | K6: recycled (5) | M6: virgin (4) | O6: recycled (5)
E7: produced, bought in Czechia | F7: imported to Czechia | G7: produced, bought in Czechia | H7: imported to Czechia | I7: produced, bought in Czechia | J7: imported to Czechia | K7: produced, bought in Czechia | L7: imported to Czechia | M7: produced, bought in Czechia | N7: imported to Czechia | O7: produced, bought in Czechia | P7: imported to Czechia
A10: Plastics | B10: PET | C10: clear transparent (6) | R10: =E10*F10*G10*H10*I10*J10*K10*L10*M10*N10*O10*P10*$R$2 -> 0
C11: coloured transparent (8) | R11: =E11*F11*G11*H11*I11*J11*K11*L11*M11*N11*O11*P11*$R$2 -> 0
C12: coloured opaque(9) | R12: =E12*F12*G12*H12*I12*J12*K12*L12*M12*N12*O12*P12*$R$2 -> 0
B13: PE | C13: clear transparent (6) | R13: =E13*F13*G13*H13*I13*J13*K13*L13*M13*N13*O13*P13*$R$2 -> 0
C14: colour (7) | R14: =E14*F14*G14*H14*I14*J14*K14*L14*M14*N14*O14*P14*$R$2 -> 0
B15: PP | C15: clear transparent (6) | R15: =E15*F15*G15*H15*I15*J15*K15*L15*M15*N15*O15*P15*$R$2 -> 0
C16: colour (7) | R16: =E16*F16*G16*H16*I16*J16*K16*L16*M16*N16*O16*P16*$R$2 -> 0
B17: PS | C17: clear transparent (6) | R17: =E17*F17*G17*H17*I17*J17*K17*L17*M17*N17*O17*P17*$R$2 -> 0
C18: colour (7) | R18: =E18*F18*G18*H18*I18*J18*K18*L18*M18*N18*O18*P18*$R$2 -> 0
B19: XPS | C19: clear transparent (6) | R19: =E19*F19*G19*H19*I19*J19*K19*L19*M19*N19*O19*P19*$R$2 -> 0
C20: colour (7) | R20: =E20*F20*G20*H20*I20*J20*K20*L20*M20*N20*O20*P20*$R$2 -> 0
B21: EPS | C21: clear transparent (6) | R21: =E21*F21*G21*H21*I21*J21*K21*L21*M21*N21*O21*P21*$R$2 -> 0
C22: colour (7) | R22: =E22*F22*G22*H22*I22*J22*K22*L22*M22*N22*O22*P22*$R$2 -> 0
B23: PVC | C23: clear transparent (6) | R23: =E23*F23*G23*H23*I23*J23*K23*L23*M23*N23*O23*P23*$R$2 -> 0
C24: colour (7) | R24: =E24*F24*G24*H24*I24*J24*K24*L24*M24*N24*O24*P24*$R$2 -> 0
B25: Others | C25: clear transparent (6) | R25: =E25*F25*G25*H25*I25*J25*K25*L25*M25*N25*O25*P25*$R$2 -> 0
C26: colour (7) | R26: =E26*F26*G26*H26*I26*J26*K26*L26*M26*N26*O26*P26*$R$2 -> 0
B27: Bio- degradable (11) | C27: clear transparent (6) | R27: =E27*F27*G27*H27*I27*J27*K27*L27*M27*N27*O27*P27*$R$2 -> 0
C28: colour (7) | R28: =E28*F28*G28*H28*I28*J28*K28*L28*M28*N28*O28*P28*$R$2 -> 0
B29: Composite (10) | C29: clear transparent (6) | R29: =E29*F29*G29*H29*I29*J29*K29*L29*M29*N29*O29*P29*$R$2 -> 0
C30: colour (7) | R30: =E30*F30*G30*H30*I30*J30*K30*L30*M30*N30*O30*P30*$R$2 -> 0
A31: Metals | B31: Al | R31: =E31*F31*G31*H31*I31*J31*K31*L31*M31*N31*O31*P31*$R$2 -> 0
B32: Fe | C32: FE | R32: =E32*F32*G32*H32*I32*J32*K32*L32*M32*N32*O32*P32*$R$2 -> 0
B33: Composite Al (10) | R33: =E33*F33*G33*H33*I33*J33*K33*L33*M33*N33*O33*P33*$R$2 -> 0
B34: Composite Fe (10) | R34: =E34*F34*G34*H34*I34*J34*K34*L34*M34*N34*O34*P34*$R$2 -> 0
A35: Beverage carton (2,10) | R35: =E35*F35*G35*H35*I35*J35*K35*L35*M35*N35*O35*P35*$R$2 -> 0
A36: Composite material (10) | R36: =E36*F36*G36*H36*I36*J36*K36*L36*M36*N36*O36*P36*$R$2 -> 0
A38: Fill in the weight in tonnes | E38: virgin (4) | I38: recycled (5)
E39: produced, bought in Czechia | G39: imported to Czechia | I39: produced, bought in Czechia | K39: imported to Czechia
A41: Glass | B41: Clear transparent (6) | R41: =E41*G41*I41*K41*$R$2 -> 0
B42: Colour (7) | R42: =E42*G42*I42*K42*$R$2 -> 0
B43: Composite (10) | R43: =E43*G43*I43*K43*$R$2 -> 0
A44: Paper | B44: Paper | R44: =E44*G44*I44*K44*$R$2 -> 0
...

Sheet J1-2B
A1: one-way | F1: paid | K1: beverage | P1: group and transport | V1: =V11*V12*V13*V14*V15*V16*V17*V18*V19*V20*V21*V22*V23*V24*V25*V26*V27*V28*V29*V30*V31*V32*V33*V34*V35*V42*V43*V44*V45*V46*V47*V48*V49*V50 -> 0
A2: J1-2B One-way packaging (1) - paid | Q2: ="IČO: "&Introduction!C12 -> IČO: | V2: 0
A3: Statement about beverage (2) packaging - group and transport packaging placed on the market or into circulation | Q3: =Introduction!D4&Introduction!E4 -> 3. quarter 2026
A4: Fill in the weight in tonnes | E4: TRADE PACKAGING (3)
E5: Group | M5: Transport
E6: Soft, flexible | I6: Rigid, hollow rigid | M6: Soft, flexible | Q6: Rigid, hollow rigid
E7: virgin (4) | G7: recycled (5) | I7: virgin (4) | K7: recycled (5) | M7: virgin (4) | O7: recycled (5) | Q7: virgin (4) | S7: recycled (5)
E8: produced, bought in Czechia | F8: imported to Czechia | G8: produced, bought in Czechia | H8: imported to Czechia | I8: produced, bought in Czechia | J8: imported to Czechia | K8: produced, bought in Czechia | L8: imported to Czechia | M8: produced, bought in Czechia | N8: imported to Czechia | O8: produced, bought in Czechia | P8: imported to Czechia | Q8: produced, bought in Czechia | R8: imported to Czechia | S8: produced, bought in Czechia | T8: imported to Czechia
A11: Plastics | B11: PET | C11: clear transparent (6) | V11: =E11*F11*G11*H11*I11*J11*K11*L11*M11*N11*O11*P11*Q11*R11*S11*T11*$V$2 -> 0
C12: colour (7) | V12: =E12*F12*G12*H12*I12*J12*K12*L12*M12*N12*O12*P12*Q12*R12*S12*T12*$V$2 -> 0
B13: PE | C13: clear transparent (6) | V13: =E13*F13*G13*H13*I13*J13*K13*L13*M13*N13*O13*P13*Q13*R13*S13*T13*$V$2 -> 0
C14: colour (7) | V14: =E14*F14*G14*H14*I14*J14*K14*L14*M14*N14*O14*P14*Q14*R14*S14*T14*$V$2 -> 0
B15: PP | C15: clear transparent (6) | V15: =E15*F15*G15*H15*I15*J15*K15*L15*M15*N15*O15*P15*Q15*R15*S15*T15*$V$2 -> 0
C16: colour (7) | V16: =E16*F16*G16*H16*I16*J16*K16*L16*M16*N16*O16*P16*Q16*R16*S16*T16*$V$2 -> 0
B17: PS | C17: clear transparent (6) | V17: =E17*F17*G17*H17*I17*J17*K17*L17*M17*N17*O17*P17*Q17*R17*S17*T17*$V$2 -> 0
C18: colour (7) | V18: =E18*F18*G18*H18*I18*J18*K18*L18*M18*N18*O18*P18*Q18*R18*S18*T18*$V$2 -> 0
B19: XPS | C19: clear transparent (6) | V19: =E19*F19*G19*H19*I19*J19*K19*L19*M19*N19*O19*P19*Q19*R19*S19*T19*$V$2 -> 0
C20: colour (7) | V20: =E20*F20*G20*H20*I20*J20*K20*L20*M20*N20*O20*P20*Q20*R20*S20*T20*$V$2 -> 0
B21: EPS | C21: clear transparent (6) | V21: =E21*F21*G21*H21*I21*J21*K21*L21*M21*N21*O21*P21*Q21*R21*S21*T21*$V$2 -> 0
C22: colour (7) | V22: =E22*F22*G22*H22*I22*J22*K22*L22*M22*N22*O22*P22*Q22*R22*S22*T22*$V$2 -> 0
B23: PVC | C23: clear transparent (6) | V23: =E23*F23*G23*H23*I23*J23*K23*L23*M23*N23*O23*P23*Q23*R23*S23*T23*$V$2 -> 0
C24: colour (7) | V24: =E24*F24*G24*H24*I24*J24*K24*L24*M24*N24*O24*P24*Q24*R24*S24*T24*$V$2 -> 0
B25: Others | C25: clear transparent (6) | V25: =E25*F25*G25*H25*I25*J25*K25*L25*M25*N25*O25*P25*Q25*R25*S25*T25*$V$2 -> 0
C26: colour (7) | V26: =E26*F26*G26*H26*I26*J26*K26*L26*M26*N26*O26*P26*Q26*R26*S26*T26*$V$2 -> 0
B27: Bio- degradable (8) | C27: clear transparent (6) | V27: =E27*F27*G27*H27*I27*J27*K27*L27*M27*N27*O27*P27*Q27*R27*S27*T27*$V$2 -> 0
C28: colour (7) | V28: =E28*F28*G28*H28*I28*J28*K28*L28*M28*N28*O28*P28*Q28*R28*S28*T28*$V$2 -> 0
B29: Composite (9) | C29: clear transparent (6) | V29: =E29*F29*G29*H29*I29*J29*K29*L29*M29*N29*O29*P29*Q29*R29*S29*T29*$V$2 -> 0
C30: colour (7) | V30: =E30*F30*G30*H30*I30*J30*K30*L30*M30*N30*O30*P30*Q30*R30*S30*T30*$V$2 -> 0
A31: Metals | B31: Al | V31: =E31*F31*G31*H31*I31*J31*K31*L31*M31*N31*O31*P31*Q31*R31*S31*T31*$V$2 -> 0
B32: Fe | C32: FE | V32: =E32*F32*G32*H32*I32*J32*K32*L32*M32*N32*O32*P32*Q32*R32*S32*T32*$V$2 -> 0
B33: Composite Al (9) | V33: =E33*F33*G33*H33*I33*J33*K33*L33*M33*N33*O33*P33*Q33*R33*S33*T33*$V$2 -> 0
B34: Composite Fe (9) | V34: =E34*F34*G34*H34*I34*J34*K34*L34*M34*N34*O34*P34*Q34*R34*S34*T34*$V$2 -> 0
A35: Composite material (9) | V35: =E35*F35*G35*H35*I35*J35*K35*L35*M35*N35*O35*P35*Q35*R35*S35*T35*$V$2 -> 0
A37: Fill in the weight in tonnes | E37: Group | M37: Transport
E38: virgin (4) | I38: recycled (5) | M38: virgin (4) | Q38: recycled (5)
E39: produced, bought in Czechia | G39: imported to Czechia | I39: produced, bought in Czechia | K39: imported to Czechia | M39: produced, bought in Czechia | O39: imported to Czechia | Q39: produced, bought in Czechia | S39: imported to Czechia
A42: Paper | B42: Paper | V42: =E42*G42*I42*K42*M42*O42*Q42*S42*$V$2 -> 0
B43: Paperboard | V43: =E43*G43*I43*K43*M43*O43*Q43*S43*$V$2 -> 0
B44: Corrugated board | V44: =E44*G44*I44*K44*M44*O44*Q44*S44*$V$2 -> 0
B45: Moulded fibre | V45: =E45*G45*I45*K45*M45*O45*Q45*S45*$V$2 -> 0
...

Sheet J1-2K
A1: one-way | E1: paid | G1: beverage | I1: sales, group and transport | L1: composite | P1: =P10*P11*P12*P13*P14*P15*P16*P17*P18*P19*P20*P21 -> 0
A2: J1-2K One-way packaging and packaging means (1) - paid | K2: ="IČO: "&Introduction!C12 -> IČO: | P2: 0
A3: Supplementary statement about beverage (2) packaging - sales, group and transport - composite packaging placed on the market or into circulation | K3: =Introduction!D4&Introduction!E4 -> 3. quarter 2026
A5: Fill in the weight in tonnes | E5: TRADE PACKAGING (3)
E6: Sales | G6: Group | I6: Transport
E7: produced, bought in Czechia | F7: imported to Czechia | G7: produced, bought in Czechia | H7: imported to Czechia | I7: produced, bought in Czechia | J7: imported to Czechia
A10: Plastics | C10: PET | P10: =E10*F10*G10*H10*I10*J10*$P$2 -> 0
C11: PE | P11: =E11*F11*G11*H11*I11*J11*$P$2 -> 0
C12: PP | P12: =E12*F12*G12*H12*I12*J12*$P$2 -> 0
C13: PS | P13: =E13*F13*G13*H13*I13*J13*$P$2 -> 0
C14: PVC | P14: =E14*F14*G14*H14*I14*J14*$P$2 -> 0
C15: Others | P15: =E15*F15*G15*H15*I15*J15*$P$2 -> 0
A16: Metals | C16: Al | P16: =E16*F16*G16*H16*I16*J16*$P$2 -> 0
C17: Fe | P17: =E17*F17*G17*H17*I17*J17*$P$2 -> 0
A18: Glass | P18: =E18*F18*G18*H18*I18*J18*$P$2 -> 0
A19: Paper and Corrugated board | P19: =E19*F19*G19*H19*I19*J19*$P$2 -> 0
A20: Wood | P20: =E20*F20*G20*H20*I20*J20*$P$2 -> 0
A21: Others | P21: =E21*F21*G21*H21*I21*J21*$P$2 -> 0
A23: 1) Packaging that does not meet the criteria of Section 13 Par. 3 of the Packaging Act No. 477/2001 Coll., and packaging and packaging means listed
A24: in Part D of Annex No. 4 to the Packaging Act No. 477/2001 Coll.
A25: 2) Packaging that meets the criteria of Section 2 Letter v) and w) of the Packaging Act No. 477/2001 Coll.
A26: 3) Packaging that does not meet the criteria of Section 2 Letter q) of the Packaging Act No. 477/2001 Coll.

Sheet J1-3
A1: one-way | F1: paid | K1: industrial | P1: non-beverage and beverage | V1: =V11*V12*V13*V14*V15*V16*V17*V18*V19*V20*V21*V22*V23*V24*V25*V26*V27*V28*V29*V30*V31*V32*V33*V34*V35*V42*V43*V44*V45*V46*V47*V48*V49*V50*V51*V52*V53 -> 0
A2: J1-3 One-way packaging (1) - paid | Q2: ="IČO: "&Introduction!C12 -> IČO: | V2: 0
A3: Statement about packaging that is designated exclusively for another end user = industrial (2) - placed on the market or into circulation | Q3: =Introduction!D4&Introduction!E4 -> 3. quarter 2026
A4: Fill in the weight in tonnes | E4: INDUSTRIAL (2)
E5: Non-beverage (3) | M5: Beverage
E6: Soft, flexible | I6: Rigid, hollow rigid | M6: Soft, flexible | Q6: Rigid, hollow rigid
E7: virgin (4) | G7: recycled (5) | I7: virgin (4) | K7: recycled (5) | M7: virgin (4) | O7: recycled (5) | Q7: virgin (4) | S7: recycled (5)
E8: produced, bought in Czechia | F8: imported to Czechia | G8: produced, bought in Czechia | H8: imported to Czechia | I8: produced, bought in Czechia | J8: imported to Czechia | K8: produced, bought in Czechia | L8: imported to Czechia | M8: produced, bought in Czechia | N8: imported to Czechia | O8: produced, bought in Czechia | P8: imported to Czechia | Q8: produced, bought in Czechia | R8: imported to Czechia | S8: produced, bought in Czechia | T8: imported to Czechia
A11: Plastics | B11: PET | C11: clear transparent (6) | V11: =E11*F11*G11*H11*I11*J11*K11*L11*M11*N11*O11*P11*Q11*R11*S11*T11*$V$2 -> 0
C12: colour (7) | V12: =E12*F12*G12*H12*I12*J12*K12*L12*M12*N12*O12*P12*Q12*R12*S12*T12*$V$2 -> 0
B13: PE | C13: clear transparent (6) | V13: =E13*F13*G13*H13*I13*J13*K13*L13*M13*N13*O13*P13*Q13*R13*S13*T13*$V$2 -> 0
C14: colour (7) | V14: =E14*F14*G14*H14*I14*J14*K14*L14*M14*N14*O14*P14*Q14*R14*S14*T14*$V$2 -> 0
B15: PP | C15: clear transparent (6) | V15: =E15*F15*G15*H15*I15*J15*K15*L15*M15*N15*O15*P15*Q15*R15*S15*T15*$V$2 -> 0
C16: colour (7) | V16: =E16*F16*G16*H16*I16*J16*K16*L16*M16*N16*O16*P16*Q16*R16*S16*T16*$V$2 -> 0
B17: PS | C17: clear transparent (6) | V17: =E17*F17*G17*H17*I17*J17*K17*L17*M17*N17*O17*P17*Q17*R17*S17*T17*$V$2 -> 0
C18: colour (7) | V18: =E18*F18*G18*H18*I18*J18*K18*L18*M18*N18*O18*P18*Q18*R18*S18*T18*$V$2 -> 0
B19: XPS | C19: clear transparent (6) | V19: =E19*F19*G19*H19*I19*J19*K19*L19*M19*N19*O19*P19*Q19*R19*S19*T19*$V$2 -> 0
C20: colour (7) | V20: =E20*F20*G20*H20*I20*J20*K20*L20*M20*N20*O20*P20*Q20*R20*S20*T20*$V$2 -> 0
B21: EPS | C21: clear transparent (6) | V21: =E21*F21*G21*H21*I21*J21*K21*L21*M21*N21*O21*P21*Q21*R21*S21*T21*$V$2 -> 0
C22: colour (7) | V22: =E22*F22*G22*H22*I22*J22*K22*L22*M22*N22*O22*P22*Q22*R22*S22*T22*$V$2 -> 0
B23: PVC | C23: clear transparent (6) | V23: =E23*F23*G23*H23*I23*J23*K23*L23*M23*N23*O23*P23*Q23*R23*S23*T23*$V$2 -> 0
C24: colour (7) | V24: =E24*F24*G24*H24*I24*J24*K24*L24*M24*N24*O24*P24*Q24*R24*S24*T24*$V$2 -> 0
B25: Others | C25: clear transparent (6) | V25: =E25*F25*G25*H25*I25*J25*K25*L25*M25*N25*O25*P25*Q25*R25*S25*T25*$V$2 -> 0
C26: colour (7) | V26: =E26*F26*G26*H26*I26*J26*K26*L26*M26*N26*O26*P26*Q26*R26*S26*T26*$V$2 -> 0
B27: Bio- degradable (8) | C27: clear transparent (6) | V27: =E27*F27*G27*H27*I27*J27*K27*L27*M27*N27*O27*P27*Q27*R27*S27*T27*$V$2 -> 0
C28: colour (7) | V28: =E28*F28*G28*H28*I28*J28*K28*L28*M28*N28*O28*P28*Q28*R28*S28*T28*$V$2 -> 0
B29: Composite (9) | C29: clear transparent (6) | V29: =E29*F29*G29*H29*I29*J29*K29*L29*M29*N29*O29*P29*Q29*R29*S29*T29*$V$2 -> 0
C30: colour (7) | V30: =E30*F30*G30*H30*I30*J30*K30*L30*M30*N30*O30*P30*Q30*R30*S30*T30*$V$2 -> 0
A31: Metals | B31: Al | V31: =E31*F31*G31*H31*I31*J31*K31*L31*M31*N31*O31*P31*Q31*R31*S31*T31*$V$2 -> 0
B32: Fe | C32: FE | V32: =E32*F32*G32*H32*I32*J32*K32*L32*M32*N32*O32*P32*Q32*R32*S32*T32*$V$2 -> 0
B33: Composite Al (9) | V33: =E33*F33*G33*H33*I33*J33*K33*L33*M33*N33*O33*P33*Q33*R33*S33*T33*$V$2 -> 0
B34: Composite Fe (9) | V34: =E34*F34*G34*H34*I34*J34*K34*L34*M34*N34*O34*P34*Q34*R34*S34*T34*$V$2 -> 0
A35: Composite material (9) | V35: =E35*F35*G35*H35*I35*J35*K35*L35*M35*N35*O35*P35*Q35*R35*S35*T35*$V$2 -> 0
A37: Fill in the weight in tonnes | E37: Non-beverage (3) | M37: Beverage
E38: virgin (4) | I38: recycled (5) | M38: virgin (4) | Q38: recycled (5)
E39: produced, bought in Czechia | G39: imported to Czechia | I39: produced, bought in Czechia | K39: imported to Czechia | M39: produced, bought in Czechia | O39: imported to Czechia | Q39: produced, bought in Czechia | S39: imported to Czechia
A42: Glass | B42: Clear transparent (6) | V42: =E42*G42*I42*K42*M42*O42*Q42*S42*$V$2 -> 0
B43: Colour (7) | V43: =E43*G43*I43*K43*M43*O43*Q43*S43*$V$2 -> 0
B44: Composite (9) | V44: =E44*G44*I44*K44*M44*O44*Q44*S44*$V$2 -> 0
A45: Paper | B45: Paper | V45: =E45*G45*I45*K45*M45*O45*Q45*S45*$V$2 -> 0
...

Sheet J1-3K
A1: one-way | E1: paid | G1: industrial | I1: non-beverage and beverage | N1: composite | R1: =R11*R12*R13*R14*R15*R16*R17*R18*R19*R20*R21*R22 -> 0
A2: J1-3K One-way packaging (1) - paid | M2: ="IČO: "&Introduction!C12 -> IČO: | R2: 0
A3: Supplementary statement about packaging that is designated exclusively for another end user = industrial (2) - composite packaging placed on the market or into circulation | M3: =Introduction!D4&Introduction!E4 -> 3. quarter 2026
A5: Fill in the weight in tonnes | E5: INDUSTRIAL (2)
E6: Non-beverage (3) | G6: Beverage
E8: produced, bought in Czechia | F8: imported to Czechia | G8: produced, bought in Czechia | H8: imported to Czechia
A11: Plastics | C11: PET | R11: =E11*F11*G11*H11*$R$2 -> 0
C12: PE | R12: =E12*F12*G12*H12*$R$2 -> 0
C13: PP | R13: =E13*F13*G13*H13*$R$2 -> 0
C14: PS | R14: =E14*F14*G14*H14*$R$2 -> 0
C15: PVC | R15: =E15*F15*G15*H15*$R$2 -> 0
C16: Others | R16: =E16*F16*G16*H16*$R$2 -> 0
A17: Metals | C17: Al | R17: =E17*F17*G17*H17*$R$2 -> 0
C18: Fe | R18: =E18*F18*G18*H18*$R$2 -> 0
A19: Glass | R19: =E19*F19*G19*H19*$R$2 -> 0
A20: Paper and Corrugated board | R20: =E20*F20*G20*H20*$R$2 -> 0
A21: Wood | R21: =E21*F21*G21*H21*$R$2 -> 0
A22: Others | R22: =E22*F22*G22*H22*$R$2 -> 0
A24: 1) Packaging that does not meet the criteria of Section 13 Par. 3 of the Packaging Act No. 477/2001 Coll.
A25: 2) Packaging that meets the criteria of the Section 2 Letter q) of the Packaging Act No. 477/2001 Coll.
A26: 3) Packaging that does not meet the criteria of Section 2 Letter v) and w) of the Packaging Act No. 477/2001 Coll.

Sheet J2
A1: one-way | E1: pre-paid | I1: sales, group, transport and industrial | N1: =N9*N10*N11*N12*N13*N14*N15*N16*N17*N18*N19*N20*N21 -> 0
A2: J2 One-way packaging and packaging means (1) - pre-paid | K2: ="IČO: "&Introduction!C12 -> IČO: | N2: 0
A3: Statement about pre-paid packaging placed on the market or into circulation | K3: =Introduction!D4&Introduction!E4 -> 3. quarter 2026
A4: Fill in the weight in tonnes | E4: TRADE PACKAGING (2) | K4: INDUSTRIAL (3)
E5: Sales | G5: Group | I5: Transport
E6: produced, bought in Czechia | F6: imported to Czechia | G6: produced, bought in Czechia | H6: imported to Czechia | I6: produced, bought in Czechia | J6: imported to Czechia | K6: produced, bought in Czechia | L6: imported to Czechia
A9: Plastics | C9: PET | N9: =E9*F9*G9*H9*I9*J9*K9*L9*$N$2 -> 0
C10: PE | N10: =E10*F10*G10*H10*I10*J10*K10*L10*$N$2 -> 0
C11: PP | N11: =E11*F11*G11*H11*I11*J11*K11*L11*$N$2 -> 0
C12: PS | N12: =E12*F12*G12*H12*I12*J12*K12*L12*$N$2 -> 0
C13: PVC | N13: =E13*F13*G13*H13*I13*J13*K13*L13*$N$2 -> 0
C14: Others | N14: =E14*F14*G14*H14*I14*J14*K14*L14*$N$2 -> 0
A15: Metals | C15: Al | N15: =E15*F15*G15*H15*I15*J15*K15*L15*$N$2 -> 0
C16: Fe | N16: =E16*F16*G16*H16*I16*J16*K16*L16*$N$2 -> 0
A17: Glass | N17: =E17*F17*G17*H17*I17*J17*K17*L17*$N$2 -> 0
A18: Paper and Corrugated board | N18: =E18*F18*G18*H18*I18*J18*K18*L18*$N$2 -> 0
A19: Wood | N19: =E19*F19*G19*H19*I19*J19*K19*L19*$N$2 -> 0
A20: Textile | N20: =E20*F20*G20*H20*I20*J20*K20*L20*$N$2 -> 0
A21: Others | N21: =E21*F21*G21*H21*I21*J21*K21*L21*$N$2 -> 0
A23: 1) Packaging that does not meet the criteria of Section 13 Par. 3 of the Packaging Act No. 477/2001 Coll., and packaging and packaging means listed in Part D of Annex No. 4 to the Packaging Act No. 477/2001 Coll.
A24: 2) Packaging that does not meet the criteria of Section 2 Letter q) of the Packaging Act No. 477/2001 Coll.
A25: 3) Packaging that meets the criteria of the Section 2 Letter q) of the Packaging Act No. 477/2001 Coll.

Sheet J3
A1: one-way | E1: non-paid | I1: sales, group, transport and industrial | N1: =N9*N10*N11*N12*N13*N14*N15*N16*N17*N18*N19*N20*N21 -> 0
A2: J3 One-way packaging and packaging means (1) - non-paid | K2: ="IČO: "&Introduction!C12 -> IČO: | N2: 0
A3: Statement about non-paid packaging placed on the market or into circulation | K3: =Introduction!D4&Introduction!E4 -> 3. quarter 2026
A4: Fill in the weight in tonnes | E4: TRADE PACKAGING (2) | K4: INDUSTRIAL (3)
E5: Sales | G5: Group | I5: Transport
E6: produced, bought in Czechia | F6: imported to Czechia | G6: produced, bought in Czechia | H6: imported to Czechia | I6: produced, bought in Czechia | J6: imported to Czechia | K6: produced, bought in Czechia | L6: imported to Czechia
A9: Plastics | C9: PET | N9: =E9*F9*G9*H9*I9*J9*K9*L9*$N$2 -> 0
C10: PE | N10: =E10*F10*G10*H10*I10*J10*K10*L10*$N$2 -> 0
C11: PP | N11: =E11*F11*G11*H11*I11*J11*K11*L11*$N$2 -> 0
C12: PS | N12: =E12*F12*G12*H12*I12*J12*K12*L12*$N$2 -> 0
C13: PVC | N13: =E13*F13*G13*H13*I13*J13*K13*L13*$N$2 -> 0
C14: Others | N14: =E14*F14*G14*H14*I14*J14*K14*L14*$N$2 -> 0
A15: Metals | C15: Al | N15: =E15*F15*G15*H15*I15*J15*K15*L15*$N$2 -> 0
C16: Fe | N16: =E16*F16*G16*H16*I16*J16*K16*L16*$N$2 -> 0
A17: Glass | N17: =E17*F17*G17*H17*I17*J17*K17*L17*$N$2 -> 0
A18: Paper and Corrugated board | N18: =E18*F18*G18*H18*I18*J18*K18*L18*$N$2 -> 0
A19: Wood | N19: =E19*F19*G19*H19*I19*J19*K19*L19*$N$2 -> 0
A20: Textile | N20: =E20*F20*G20*H20*I20*J20*K20*L20*$N$2 -> 0
A21: Others | N21: =E21*F21*G21*H21*I21*J21*K21*L21*$N$2 -> 0
A23: 1) Packaging that does not meet the criteria of Section 13 Par. 3 of the Packaging Act No. 477/2001 Coll., and packaging and packaging means listed in Part D of Annex No. 4 to the Packaging Act No. 477/2001 Coll.
A24: 2) Packaging that does not meet the criteria of Section 2 Letter q) of the Packaging Act No. 477/2001 Coll.
A25: 3) Packaging that meets the criteria of the Section 2 Letter q) of the Packaging Act No. 477/2001 Coll.

Sheet J4
A1: one-way | E1: exported | I1: sales, group, transport and industrial | N1: =N9*N10*N11*N12*N13*N14*N15*N16*N17*N18*N19*N20*N21 -> 0
A2: J4 One-way packaging and packaging means (1) - exported | K2: ="IČO: "&Introduction!C12 -> IČO: | N2: 0
A3: Statement about exported packaging placed on the market or into circulation | K3: =Introduction!D4&Introduction!E4 -> 3. quarter 2026
A4: Fill in the weight in tonnes | E4: TRADE PACKAGING (2) | K4: INDUSTRIAL (3)
E5: Sales | G5: Group | I5: Transport
E6: produced, bought in Czechia | F6: imported to Czechia | G6: produced, bought in Czechia | H6: imported to Czechia | I6: produced, bought in Czechia | J6: imported to Czechia | K6: produced, bought in Czechia | L6: imported to Czechia
A9: Plastics | C9: PET | N9: =E9*F9*G9*H9*I9*J9*K9*L9*$N$2 -> 0
C10: PE | N10: =E10*F10*G10*H10*I10*J10*K10*L10*$N$2 -> 0
C11: PP | N11: =E11*F11*G11*H11*I11*J11*K11*L11*$N$2 -> 0
C12: PS | N12: =E12*F12*G12*H12*I12*J12*K12*L12*$N$2 -> 0
C13: PVC | N13: =E13*F13*G13*H13*I13*J13*K13*L13*$N$2 -> 0
C14: Others | N14: =E14*F14*G14*H14*I14*J14*K14*L14*$N$2 -> 0
A15: Metals | C15: Al | N15: =E15*F15*G15*H15*I15*J15*K15*L15*$N$2 -> 0
C16: Fe | N16: =E16*F16*G16*H16*I16*J16*K16*L16*$N$2 -> 0
A17: Glass | N17: =E17*F17*G17*H17*I17*J17*K17*L17*$N$2 -> 0
A18: Paper and Corrugated board | N18: =E18*F18*G18*H18*I18*J18*K18*L18*$N$2 -> 0
A19: Wood | N19: =E19*F19*G19*H19*I19*J19*K19*L19*$N$2 -> 0
A20: Textile | N20: =E20*F20*G20*H20*I20*J20*K20*L20*$N$2 -> 0
A21: Others | N21: =E21*F21*G21*H21*I21*J21*K21*L21*$N$2 -> 0
A23: 1) Packaging that does not meet the criteria of Section 13 Par. 3 of the Packaging Act No. 477/2001 Coll., and packaging and packaging means listed in Part D of Annex No. 4 to the Packaging Act No. 477/2001 Coll.
A24: 2) Packaging that does not meet the criteria of Section 2 Letter q) of the Packaging Act No. 477/2001 Coll.
A25: 3) Packaging that meets the criteria of the Section 2 Letter q) of the Packaging Act No. 477/2001 Coll.

Sheet L
B1: one-way | F1: non-beverage and beverage | L1: =L6*L7*L8*L9*L10*L11*L12*L13 -> 0
A2: L - Littering packaging and packaging means (1) | I2: ="IČO: "&Introduction!C12 -> IČO: | L2: 0
A3: Statement to record single-use plastic packaging and packaging means that is subject to the obligations to pay the costs of cleaning up packaging waste according to Section 10a of the Packaging Act No. 477/2001 Coll. | I3: =Introduction!D4&Introduction!E4 -> 3. quarter 2026
E4: Paid | H4: Pre-paid | I4: Non-paid | J4: Exported
E5: weight of plastic in tonnes | F5: total weight in tonnes | G5: quantity in pieces | H5: total weight in tonnes | I5: total weight in tonnes | J5: total weight in tonnes
A6: Beverage containers (2) | L6: =F6*H6*I6*J6*$L$2 -> 0
A7: Packets and wrappers (3) | L7: =F7*H7*I7*J7*$L$2 -> 0
A8: Cups for beverages | D8: made from plastic (4) | L8: =F8*H8*I8*J8*$L$2 -> 0
D9: made partly from plastic (5) | L9: =E9*F9*H9*I9*J9*$L$2 -> 0
A10: Food containers | D10: made from plastic (6) | L10: =F10*H10*I10*J10*$L$2 -> 0
D11: made partly from plastic (7) | L11: =E11*F11*H11*I11*J11*$L$2 -> 0
A12: Plastic carrier bags (8) | D12: Lightweight plastic bag 15 < 50 microns | L12: =F12*G12*H12*I12*J12*$L$2 -> 0
D13: Lightweight plastic bag < 15 microns | L13: =F13*G13*H13*I13*J13*$L$2 -> 0
A15: 1) | B15: Packaging and packaging means listed in Part C and D of Annex No. 4 to the Packaging Act No. 477/2001 Coll.
A16: 2) | B16: Beverage containers with a capacity of up to 3 litres, i.e. receptacles used to contain liquid, e.g. beverage bottles, including their caps and lids, and composite beverage packaging, including their caps and lids, but not glass or metal beverage containers that have caps and lids made from plastic, including their caps and lids, listed in Part C of Annex No. 4 to the Packaging Act No. 477/2001 Coll.
A17: 3) | B17: Packets and wrappers made from flexible material containing food that is intended for immediate consumption from the packet or wrapper without any further preparation, listed in Part C of Annex No. 4 to the Packaging Act No. 477/2001 Coll.
A18: 4) | B18: Cups for beverages made from plastic, including their caps and lids, listed in Part D of Annex No. 4 to the Packaging Act No. 477/2001 Coll.
A19: 5) | B19: Cups for beverages made partly from plastic, including their caps and lids, listed in Part D of Annex No. 4 to the Packaging Act No. 477/2001 Coll.
A20: 6) | B20: Food containers made from plastic, i.e. receptacles such as boxes, with or without a lid, used to contain food which is: (a) intended for immediate consumption, either on-the-spot or take-away, (b) typically consumed from the receptacle, and (c) ready to be consumed without any further preparation, such as cooking, boiling or heating, including food containers used for fast food or any other meal ready for immediate consumption, except for beverage containers, plates and packets and wrappers containing food. Listed in Part D of Annex No. 4 to the Packaging Act No. 477/2001 Coll.
A21: 7) | B21: Food containers made partly from plastic, i.e. receptacles such as boxes, with or without a lid, used to contain food which is: (a) intended for immediate consumption, either on-the-spot or take-away, (b) typically consumed from the receptacle, and (c) ready to be consumed without any further preparation, such as cooking, boiling or heating, including food containers used for fast food or any other meal ready for immediate consumption, except for beverage containers, plates and packets and wrappers containing food. Listed in Part D of Annex No. 4 to the Packaging Act No. 477/2001 Coll.
A22: 8) | B22: Plastic carrier bags provided to consumers at the point of sale of the products, listed in Part C of Annex No. 4 to the Packaging Act No. 477/2001 Coll.

Sheet O1-1A
A1: reusable packaging | E1: paid | I1: non-beverage | M1: sales | R1: =R10*R11*R12*R13*R14*R15*R16*R17*R18*R19*R20*R21*R22*R23*R24*R25*R26*R27*R28*R29*R30*R31*R32*R33*R34*R35*R40*R41*R42*R43*R44*R45*R46*R47*R48*R49*R50*R51 -> 0
A2: O1-1A Reusable packaging (1) - paid | N2: ="IČO: "&Introduction!C12 -> IČO: | R2: 0
A3: Statement about non-beverage (2) packaging - sales packaging placed on the market or into circulation | N3: =Introduction!D4&Introduction!E4 -> 3. quarter 2026
A4: Fill in the weight in tonnes | E4: TRADE PACKAGING (3) - Sales
E5: Soft, flexible | I5: Rigid, hollow rigid up to 3 L | M5: Hollow rigid above 3 L
E6: virgin (4) | G6: recycled (5) | I6: virgin (4) | K6: recycled (5) | M6: virgin (4) | O6: recycled (5)
E7: produced, bought in Czechia | F7: imported to Czechia | G7: produced, bought in Czechia | H7: imported to Czechia | I7: produced, bought in Czechia | J7: imported to Czechia | K7: produced, bought in Czechia | L7: imported to Czechia | M7: produced, bought in Czechia | N7: imported to Czechia | O7: produced, bought in Czechia | P7: imported to Czechia
A10: Plastics | B10: PET | C10: clear transparent (6) | R10: =E10*F10*G10*H10*I10*J10*K10*L10*M10*N10*O10*P10*$R$2 -> 0
C11: coloured transparent (8) | R11: =E11*F11*G11*H11*I11*J11*K11*L11*M11*N11*O11*P11*$R$2 -> 0
C12: coloured opaque(9) | R12: =E12*F12*G12*H12*I12*J12*K12*L12*M12*N12*O12*P12*$R$2 -> 0
B13: PE | C13: clear transparent (6) | R13: =E13*F13*G13*H13*I13*J13*K13*L13*M13*N13*O13*P13*$R$2 -> 0
C14: colour (7) | R14: =E14*F14*G14*H14*I14*J14*K14*L14*M14*N14*O14*P14*$R$2 -> 0
B15: PP | C15: clear transparent (6) | R15: =E15*F15*G15*H15*I15*J15*K15*L15*M15*N15*O15*P15*$R$2 -> 0
C16: colour (7) | R16: =E16*F16*G16*H16*I16*J16*K16*L16*M16*N16*O16*P16*$R$2 -> 0
B17: PS | C17: clear transparent (6) | R17: =E17*F17*G17*H17*I17*J17*K17*L17*M17*N17*O17*P17*$R$2 -> 0
C18: colour (7) | R18: =E18*F18*G18*H18*I18*J18*K18*L18*M18*N18*O18*P18*$R$2 -> 0
B19: XPS | C19: clear transparent (6) | R19: =E19*F19*G19*H19*I19*J19*K19*L19*M19*N19*O19*P19*$R$2 -> 0
C20: colour (7) | R20: =E20*F20*G20*H20*I20*J20*K20*L20*M20*N20*O20*P20*$R$2 -> 0
B21: EPS | C21: clear transparent (6) | R21: =E21*F21*G21*H21*I21*J21*K21*L21*M21*N21*O21*P21*$R$2 -> 0
C22: colour (7) | R22: =E22*F22*G22*H22*I22*J22*K22*L22*M22*N22*O22*P22*$R$2 -> 0
B23: PVC | C23: clear transparent (6) | R23: =E23*F23*G23*H23*I23*J23*K23*L23*M23*N23*O23*P23*$R$2 -> 0
C24: colour (7) | R24: =E24*F24*G24*H24*I24*J24*K24*L24*M24*N24*O24*P24*$R$2 -> 0
B25: Others | C25: clear transparent (6) | R25: =E25*F25*G25*H25*I25*J25*K25*L25*M25*N25*O25*P25*$R$2 -> 0
C26: colour (7) | R26: =E26*F26*G26*H26*I26*J26*K26*L26*M26*N26*O26*P26*$R$2 -> 0
B27: Bio- degradable (11) | C27: clear transparent (6) | R27: =E27*F27*G27*H27*I27*J27*K27*L27*M27*N27*O27*P27*$R$2 -> 0
C28: colour (7) | R28: =E28*F28*G28*H28*I28*J28*K28*L28*M28*N28*O28*P28*$R$2 -> 0
B29: Composite (10) | C29: clear transparent (6) | R29: =E29*F29*G29*H29*I29*J29*K29*L29*M29*N29*O29*P29*$R$2 -> 0
C30: colour (7) | R30: =E30*F30*G30*H30*I30*J30*K30*L30*M30*N30*O30*P30*$R$2 -> 0
A31: Metals | B31: Al | R31: =E31*F31*G31*H31*I31*J31*K31*L31*M31*N31*O31*P31*$R$2 -> 0
B32: Fe | C32: FE | R32: =E32*F32*G32*H32*I32*J32*K32*L32*M32*N32*O32*P32*$R$2 -> 0
B33: Composite Al (10) | R33: =E33*F33*G33*H33*I33*J33*K33*L33*M33*N33*O33*P33*$R$2 -> 0
B34: Composite Fe (10) | R34: =E34*F34*G34*H34*I34*J34*K34*L34*M34*N34*O34*P34*$R$2 -> 0
A35: Composite material (10) | R35: =E35*F35*G35*H35*I35*J35*K35*L35*M35*N35*O35*P35*$R$2 -> 0
A37: Fill in the weight in tonnes | E37: virgin (4) | I37: recycled (5)
E38: produced, bought in Czechia | G38: imported to Czechia | I38: produced, bought in Czechia | K38: imported to Czechia
A40: Glass | B40: Clear transparent (6) | R40: =E40*G40*I40*K40*$R$2 -> 0
B41: Colour (7) | R41: =E41*G41*I41*K41*$R$2 -> 0
B42: Composite (10) | R42: =E42*G42*I42*K42*$R$2 -> 0
A43: Paper | B43: Paper | R43: =E43*G43*I43*K43*$R$2 -> 0
B44: Paperboard | R44: =E44*G44*I44*K44*$R$2 -> 0
...

Sheet O1-1B
A1: reusable packaging | F1: paid | K1: non-beverage | P1: group and transport | V1: =V11*V12*V13*V14*V15*V16*V17*V18*V19*V20*V21*V22*V23*V24*V25*V26*V27*V28*V29*V30*V31*V32*V33*V34*V35*V42*V43*V44*V45*V46*V47*V48*V49*V50 -> 0
A2: O1-1B Reusable packaging (1) - paid | Q2: ="IČO: "&Introduction!C12 -> IČO: | V2: 0
A3: Statement about non-beverage (2) packaging - group and transport packaging placed on the market or into circulation | Q3: =Introduction!D4&Introduction!E4 -> 3. quarter 2026
